BEGIN:VCALENDAR
VERSION:2.0
PRODID:-//LWVSPA - ECPv6.15.20//NONSGML v1.0//EN
CALSCALE:GREGORIAN
METHOD:PUBLISH
X-WR-CALNAME:LWVSPA
X-ORIGINAL-URL:https://lwvspa.org
X-WR-CALDESC:Events for LWVSPA
REFRESH-INTERVAL;VALUE=DURATION:PT1H
X-Robots-Tag:noindex
X-PUBLISHED-TTL:PT1H
BEGIN:VTIMEZONE
TZID:America/New_York
BEGIN:DAYLIGHT
TZOFFSETFROM:-0500
TZOFFSETTO:-0400
TZNAME:EDT
DTSTART:20230312T070000
END:DAYLIGHT
BEGIN:STANDARD
TZOFFSETFROM:-0400
TZOFFSETTO:-0500
TZNAME:EST
DTSTART:20231105T060000
END:STANDARD
BEGIN:DAYLIGHT
TZOFFSETFROM:-0500
TZOFFSETTO:-0400
TZNAME:EDT
DTSTART:20240310T070000
END:DAYLIGHT
BEGIN:STANDARD
TZOFFSETFROM:-0400
TZOFFSETTO:-0500
TZNAME:EST
DTSTART:20241103T060000
END:STANDARD
BEGIN:DAYLIGHT
TZOFFSETFROM:-0500
TZOFFSETTO:-0400
TZNAME:EDT
DTSTART:20250309T070000
END:DAYLIGHT
BEGIN:STANDARD
TZOFFSETFROM:-0400
TZOFFSETTO:-0500
TZNAME:EST
DTSTART:20251102T060000
END:STANDARD
END:VTIMEZONE
BEGIN:VEVENT
DTSTART;TZID=America/New_York:20240414T120000
DTEND;TZID=America/New_York:20240414T140000
DTSTAMP:20260424T222144
CREATED:20240130T123847Z
LAST-MODIFIED:20240304T110830Z
UID:10001481-1713096000-1713103200@lwvspa.org
SUMMARY:Annual Meeting and Luncheon
DESCRIPTION:Register for the Annual Meeting\n\n\n\n\n\n\n\n\n\nBuy Raffle Tickets\n\n\n\n\n\n\n\n\nBusiness meeting: 12:30-1:30 pm in the Club House \n\n\n\nShuffleboard fun available: 1:00-2:00 pm on the Courts \n\n\n\nLuncheon: 2:00 pm in the Bridge Room \n\n\n\nLuncheon Keynote Speaker: Lauren Brenzel\, Director of Floridians Protecting Freedom \n\n\n\nRaffle: We’re having a fun raffle which will offer a variety of gift cards and other items from generous area restaurants and shops. All proceeds will go to the League’s operating fund and to our efforts to make democracy work. \n\n\n\nNEEDED: GREAT STUFFIn addition to being a fun and informative event for members and supporters\, the Annual Meeting & Luncheon is our most significant fundraiser each year. As part of the event\, a raffle and a silent auction (with a few very special curated items) will offer unique opportunities to support our League. By donating silent auction items\, you can make a significant impact with minimal effort. From high-end experiences like vacation packages or spa days\, to practical items like kitchen appliances or sporting equipment\, your contribution will help the League.  If you have items to be considered for raffle or auction\, please email Kris McTaggart kjmctaggart@comcast.net.NEEDED: EVENT VOLUNTEERSAre you able to help with set up and/or take down of this event? If so\, follow this link to volunteer:http://tinyurl.com/LuncheonVolunteer
URL:https://lwvspa.org/event/annual-meeting-and-luncheon/
LOCATION:St. Petersburg Shuffleboard Club\, 559 Mirror Lake Dr. N.\, St. Petersburg\, Florida\, 33701
END:VEVENT
END:VCALENDAR