BEGIN:VCALENDAR
VERSION:2.0
PRODID:-//LWVSPA - ECPv6.15.20//NONSGML v1.0//EN
CALSCALE:GREGORIAN
METHOD:PUBLISH
X-WR-CALNAME:LWVSPA
X-ORIGINAL-URL:https://lwvspa.org
X-WR-CALDESC:Events for LWVSPA
REFRESH-INTERVAL;VALUE=DURATION:PT1H
X-Robots-Tag:noindex
X-PUBLISHED-TTL:PT1H
BEGIN:VTIMEZONE
TZID:UTC
BEGIN:STANDARD
TZOFFSETFROM:+0000
TZOFFSETTO:+0000
TZNAME:UTC
DTSTART:20230101T000000
END:STANDARD
END:VTIMEZONE
BEGIN:VEVENT
DTSTART;TZID=UTC:20240918T174500
DTEND;TZID=UTC:20240918T184500
DTSTAMP:20260424T110850
CREATED:20240802T160935Z
LAST-MODIFIED:20240802T160938Z
UID:10001576-1726681500-1726685100@lwvspa.org
SUMMARY:Orientation for New & Prospective League Members
DESCRIPTION:As one of the most active advocacy and policy education groups in Pinellas County\, the League of Women Voters’ current issues include voter engagement\, education\, and protection; environmental sustainability; social justice; reproductive rights; public schools/education; and the National Popular Vote. \n\n\n\nNew Member Orientation is designed to orient folks who are curious about the League\, as well as those who’ve been members for less than a year. \n\n\n\n** Childcare will be offered in the Allendale nursery. If you need this service\, indicate the names and ages of your children upon registration.** \n\n\n\nOur hope is that everyone will find what interests them and get involved as expediently as possible. \n\n\n\nRegister in advance for this meeting: \n\n\n\n\n\n		RSVP Here
URL:https://lwvspa.org/event/orientation-for-new-prospective-league-members-8/
LOCATION:Allendale UMC\, 3803 Haines Road North\, St. Petersburg\, FL\, 33703\, United States
END:VEVENT
BEGIN:VEVENT
DTSTART;TZID=UTC:20240918T183000
DTEND;TZID=UTC:20240918T193000
DTSTAMP:20260424T110850
CREATED:20210304T081922Z
LAST-MODIFIED:20260225T153810Z
UID:10000835-1726684200-1726687800@lwvspa.org
SUMMARY:Voter Services Committee
DESCRIPTION:Join with the Voter Services Leadership Team to hear about our Voter Guide\, Candidate Forums\, Voter Registration\, & Election and Voter Protection.  \n\n\n\n\n\n		Join Via Zoom
URL:https://lwvspa.org/event/voter-services-committee/2024-09-18/
LOCATION:FL
END:VEVENT
END:VCALENDAR