BEGIN:VCALENDAR
VERSION:2.0
PRODID:-//LWVSPA - ECPv6.15.20//NONSGML v1.0//EN
CALSCALE:GREGORIAN
METHOD:PUBLISH
X-ORIGINAL-URL:https://lwvspa.org
X-WR-CALDESC:Events for LWVSPA
REFRESH-INTERVAL;VALUE=DURATION:PT1H
X-Robots-Tag:noindex
X-PUBLISHED-TTL:PT1H
BEGIN:VTIMEZONE
TZID:America/New_York
BEGIN:DAYLIGHT
TZOFFSETFROM:-0500
TZOFFSETTO:-0400
TZNAME:EDT
DTSTART:20240310T070000
END:DAYLIGHT
BEGIN:STANDARD
TZOFFSETFROM:-0400
TZOFFSETTO:-0500
TZNAME:EST
DTSTART:20241103T060000
END:STANDARD
BEGIN:DAYLIGHT
TZOFFSETFROM:-0500
TZOFFSETTO:-0400
TZNAME:EDT
DTSTART:20250309T070000
END:DAYLIGHT
BEGIN:STANDARD
TZOFFSETFROM:-0400
TZOFFSETTO:-0500
TZNAME:EST
DTSTART:20251102T060000
END:STANDARD
BEGIN:DAYLIGHT
TZOFFSETFROM:-0500
TZOFFSETTO:-0400
TZNAME:EDT
DTSTART:20260308T070000
END:DAYLIGHT
BEGIN:STANDARD
TZOFFSETFROM:-0400
TZOFFSETTO:-0500
TZNAME:EST
DTSTART:20261101T060000
END:STANDARD
END:VTIMEZONE
BEGIN:VEVENT
DTSTART;TZID=America/New_York:20250122T110000
DTEND;TZID=America/New_York:20250122T120000
DTSTAMP:20260424T054017
CREATED:20250102T132254Z
LAST-MODIFIED:20250102T132257Z
UID:10001693-1737543600-1737547200@lwvspa.org
SUMMARY:Annual Roe v. Wade Visibility Event
DESCRIPTION:Corner of Central & Third in downtown St. PeteLWVSPA is co-sponsoring this rally and sign-waving visibility event\, organized annually by Pinellas NOW\, to commemorate the anniversary of the U.S. Supreme Court’s 1973 Roe v. Wade decision. \n\n\n\nGather with us at the corner of Central Avenue and 3rd Street in downtown St. Petersburg\, to take a stand for reproductive freedom. \n\n\n\nBring signs\, if you can. Otherwise\, extras will be available. \n\n\n\nFacebook event page: https://www.facebook.com/events/617398434150508
URL:https://lwvspa.org/event/annual-roe-v-wade-visibility-event/
LOCATION:FL
END:VEVENT
END:VCALENDAR