BEGIN:VCALENDAR
VERSION:2.0
PRODID:-//LWVSPA - ECPv6.15.20//NONSGML v1.0//EN
CALSCALE:GREGORIAN
METHOD:PUBLISH
X-ORIGINAL-URL:https://lwvspa.org
X-WR-CALDESC:Events for LWVSPA
REFRESH-INTERVAL;VALUE=DURATION:PT1H
X-Robots-Tag:noindex
X-PUBLISHED-TTL:PT1H
BEGIN:VTIMEZONE
TZID:America/New_York
BEGIN:DAYLIGHT
TZOFFSETFROM:-0500
TZOFFSETTO:-0400
TZNAME:EDT
DTSTART:20240310T070000
END:DAYLIGHT
BEGIN:STANDARD
TZOFFSETFROM:-0400
TZOFFSETTO:-0500
TZNAME:EST
DTSTART:20241103T060000
END:STANDARD
BEGIN:DAYLIGHT
TZOFFSETFROM:-0500
TZOFFSETTO:-0400
TZNAME:EDT
DTSTART:20250309T070000
END:DAYLIGHT
BEGIN:STANDARD
TZOFFSETFROM:-0400
TZOFFSETTO:-0500
TZNAME:EST
DTSTART:20251102T060000
END:STANDARD
BEGIN:DAYLIGHT
TZOFFSETFROM:-0500
TZOFFSETTO:-0400
TZNAME:EDT
DTSTART:20260308T070000
END:DAYLIGHT
BEGIN:STANDARD
TZOFFSETFROM:-0400
TZOFFSETTO:-0500
TZNAME:EST
DTSTART:20261101T060000
END:STANDARD
END:VTIMEZONE
BEGIN:VEVENT
DTSTART;TZID=America/New_York:20250405T120000
DTEND;TZID=America/New_York:20250405T130000
DTSTAMP:20260424T004713
CREATED:20250317T153844Z
LAST-MODIFIED:20250317T154435Z
UID:10001847-1743854400-1743858000@lwvspa.org
SUMMARY:Women Rise Up St. Pete
DESCRIPTION:Join Pinellas NOW (National Organization for Women) and allied organizations at your selected downtown St. Pete intersection to raise your voice against the the assault on our country and Constitution. We will be in solidarity with other events being held on April 5th across the nation to defend our freedoms\, our rights\, and our future. When those in power try to silence us\, we rise louder. When they attack our communities\, we fight back—together. We want to make sure to voice our resistance to the six-week abortion ban imposed on Florida. PLEASE  \n\n\n\nREGISTER: https://forms.gle/Hwg4Kr6rrxdZVVwM9  \n\n\n\nVISIT THIS PAGE FOR DETAILS: https://tinyurl.com/StPeteApr5
URL:https://lwvspa.org/event/women-rise-up-st-pete/
LOCATION:FL
END:VEVENT
END:VCALENDAR