BEGIN:VCALENDAR
VERSION:2.0
PRODID:-//LWVSPA - ECPv6.15.20//NONSGML v1.0//EN
CALSCALE:GREGORIAN
METHOD:PUBLISH
X-ORIGINAL-URL:https://lwvspa.org
X-WR-CALDESC:Events for LWVSPA
REFRESH-INTERVAL;VALUE=DURATION:PT1H
X-Robots-Tag:noindex
X-PUBLISHED-TTL:PT1H
BEGIN:VTIMEZONE
TZID:America/New_York
BEGIN:DAYLIGHT
TZOFFSETFROM:-0500
TZOFFSETTO:-0400
TZNAME:EDT
DTSTART:20240310T070000
END:DAYLIGHT
BEGIN:STANDARD
TZOFFSETFROM:-0400
TZOFFSETTO:-0500
TZNAME:EST
DTSTART:20241103T060000
END:STANDARD
BEGIN:DAYLIGHT
TZOFFSETFROM:-0500
TZOFFSETTO:-0400
TZNAME:EDT
DTSTART:20250309T070000
END:DAYLIGHT
BEGIN:STANDARD
TZOFFSETFROM:-0400
TZOFFSETTO:-0500
TZNAME:EST
DTSTART:20251102T060000
END:STANDARD
BEGIN:DAYLIGHT
TZOFFSETFROM:-0500
TZOFFSETTO:-0400
TZNAME:EDT
DTSTART:20260308T070000
END:DAYLIGHT
BEGIN:STANDARD
TZOFFSETFROM:-0400
TZOFFSETTO:-0500
TZNAME:EST
DTSTART:20261101T060000
END:STANDARD
END:VTIMEZONE
BEGIN:VEVENT
DTSTART;TZID=America/New_York:20250419T120000
DTEND;TZID=America/New_York:20250419T133000
DTSTAMP:20260424T004713
CREATED:20250411T125852Z
LAST-MODIFIED:20250411T125854Z
UID:10001858-1745064000-1745069400@lwvspa.org
SUMMARY:April 19th Day of Action St. Pete
DESCRIPTION:PLEASE REGISTER HERE\n\n\n\n\n\n\n		EVENT DETAILS\n\n\n\n\nAnother #Resistance DAY OF ACTION with Pinellas NOW (National Organization for Women)! We will be sign-waving & chanting around the perimeter of Williams Park and surrounding intersections against the assault on our country and Constitution. \n\n\n\nThis event is in solidarity with sister events being held across the nation on April 19th to defend our freedoms\, our rights\, and our future. \n\n\n\nWhen those in power try to silence us\, we rise louder. When they attack our communities\, we fight back—together. \n\n\n\nSEEKING VOLUNTEERS: Sign up here https://forms.gle/7y22YhiAgFPBWdv98
URL:https://lwvspa.org/event/april-19th-day-of-action-st-pete/
LOCATION:FL
END:VEVENT
END:VCALENDAR