BEGIN:VCALENDAR
VERSION:2.0
PRODID:-//LWVSPA - ECPv6.15.20//NONSGML v1.0//EN
CALSCALE:GREGORIAN
METHOD:PUBLISH
X-ORIGINAL-URL:https://lwvspa.org
X-WR-CALDESC:Events for LWVSPA
REFRESH-INTERVAL;VALUE=DURATION:PT1H
X-Robots-Tag:noindex
X-PUBLISHED-TTL:PT1H
BEGIN:VTIMEZONE
TZID:America/New_York
BEGIN:DAYLIGHT
TZOFFSETFROM:-0500
TZOFFSETTO:-0400
TZNAME:EDT
DTSTART:20240310T070000
END:DAYLIGHT
BEGIN:STANDARD
TZOFFSETFROM:-0400
TZOFFSETTO:-0500
TZNAME:EST
DTSTART:20241103T060000
END:STANDARD
BEGIN:DAYLIGHT
TZOFFSETFROM:-0500
TZOFFSETTO:-0400
TZNAME:EDT
DTSTART:20250309T070000
END:DAYLIGHT
BEGIN:STANDARD
TZOFFSETFROM:-0400
TZOFFSETTO:-0500
TZNAME:EST
DTSTART:20251102T060000
END:STANDARD
BEGIN:DAYLIGHT
TZOFFSETFROM:-0500
TZOFFSETTO:-0400
TZNAME:EDT
DTSTART:20260308T070000
END:DAYLIGHT
BEGIN:STANDARD
TZOFFSETFROM:-0400
TZOFFSETTO:-0500
TZNAME:EST
DTSTART:20261101T060000
END:STANDARD
END:VTIMEZONE
BEGIN:VEVENT
DTSTART;TZID=America/New_York:20250520T173000
DTEND;TZID=America/New_York:20250520T190000
DTSTAMP:20260424T005906
CREATED:20250404T133337Z
LAST-MODIFIED:20250404T133344Z
UID:10001856-1747762200-1747767600@lwvspa.org
SUMMARY:May Cocktails & Conversation
DESCRIPTION:We would love for you to join the League for Cocktails & Conversation\, and invite a guest or two. \n\n\n\nThese happy hours are the perfect time to relax with (or without!) a drink and enjoy some great company. \n\n\n\nThe May event will be at the Wine House in Gulfport. The Wine House features a funky selection of wines from vineyards that practice organic\, sustainable or biodynamic farming practices\, no added sugar\, and minimal intervention. Other hard and soft drinks\, but not really a beer joint. \n\n\n\nMenu includes BBQ\, charcuterie\, and a wide selection of other tasties. Tuesdays are BBQ Taco Tuesday. \n\n\n\n\n\n		RSVP Here!
URL:https://lwvspa.org/event/may-cocktails-conversation/
LOCATION:The Wine House\, 2813 Beach Blvd S.\, Gulfport\, Florida\, 33703\, United States
END:VEVENT
END:VCALENDAR