BEGIN:VCALENDAR
VERSION:2.0
PRODID:-//LWVSPA - ECPv6.15.20//NONSGML v1.0//EN
CALSCALE:GREGORIAN
METHOD:PUBLISH
X-ORIGINAL-URL:https://lwvspa.org
X-WR-CALDESC:Events for LWVSPA
REFRESH-INTERVAL;VALUE=DURATION:PT1H
X-Robots-Tag:noindex
X-PUBLISHED-TTL:PT1H
BEGIN:VTIMEZONE
TZID:America/New_York
BEGIN:DAYLIGHT
TZOFFSETFROM:-0500
TZOFFSETTO:-0400
TZNAME:EDT
DTSTART:20240310T070000
END:DAYLIGHT
BEGIN:STANDARD
TZOFFSETFROM:-0400
TZOFFSETTO:-0500
TZNAME:EST
DTSTART:20241103T060000
END:STANDARD
BEGIN:DAYLIGHT
TZOFFSETFROM:-0500
TZOFFSETTO:-0400
TZNAME:EDT
DTSTART:20250309T070000
END:DAYLIGHT
BEGIN:STANDARD
TZOFFSETFROM:-0400
TZOFFSETTO:-0500
TZNAME:EST
DTSTART:20251102T060000
END:STANDARD
BEGIN:DAYLIGHT
TZOFFSETFROM:-0500
TZOFFSETTO:-0400
TZNAME:EDT
DTSTART:20260308T070000
END:DAYLIGHT
BEGIN:STANDARD
TZOFFSETFROM:-0400
TZOFFSETTO:-0500
TZNAME:EST
DTSTART:20261101T060000
END:STANDARD
END:VTIMEZONE
BEGIN:VEVENT
DTSTART;TZID=America/New_York:20250717T163000
DTEND;TZID=America/New_York:20250717T180000
DTSTAMP:20260423T210620
CREATED:20250628T184248Z
LAST-MODIFIED:20250628T184347Z
UID:10001950-1752769800-1752775200@lwvspa.org
SUMMARY:“Good Trouble Lives On” #Resistance Day of Action
DESCRIPTION:Our nation is in a constitutional crisis. Now more than ever\, it’s critical that League members have mobilize in our communities to defend our democracy. \n\n\n\nAnother #Resistance DAY OF ACTION with Pinellas NOW and LWVSPA! We will be sign-waving & chanting around the perimeter of Williams Park and surrounding intersections against the attacks posed on our civil and human rights by the Trump administration and to remind them that in America\, the power lies with the people. \n\n\n\nGood Trouble Lives On is a national day of nonviolent action on the anniversary of Congressman John Lewis’s passing. This event is in solidarity with sister events being held across the nation on July 17th to defend our democracy and carry forward his legacy of Good Trouble. \n\n\n\nPlease register using this link: https://mobilize.us/s/NBIFXM \n\n\n\nFor more event information\, visit: tinyurl.com/StPeteJuly17
URL:https://lwvspa.org/event/good-trouble-lives-on-resistance-day-of-action/
LOCATION:Williams Park\, 350 2nd Ave N\, St. Petersburg\, Florida\, 33701\, United States
END:VEVENT
END:VCALENDAR