BEGIN:VCALENDAR
VERSION:2.0
PRODID:-//LWVSPA - ECPv6.15.20//NONSGML v1.0//EN
CALSCALE:GREGORIAN
METHOD:PUBLISH
X-WR-CALNAME:LWVSPA
X-ORIGINAL-URL:https://lwvspa.org
X-WR-CALDESC:Events for LWVSPA
REFRESH-INTERVAL;VALUE=DURATION:PT1H
X-Robots-Tag:noindex
X-PUBLISHED-TTL:PT1H
BEGIN:VTIMEZONE
TZID:UTC
BEGIN:STANDARD
TZOFFSETFROM:+0000
TZOFFSETTO:+0000
TZNAME:UTC
DTSTART:20240101T000000
END:STANDARD
END:VTIMEZONE
BEGIN:VEVENT
DTSTART;TZID=UTC:20250813T183000
DTEND;TZID=UTC:20250813T193000
DTSTAMP:20260423T194931
CREATED:20250617T142830Z
LAST-MODIFIED:20250618T173501Z
UID:10000884-1755109800-1755113400@lwvspa.org
SUMMARY:Voter Services Voter Registration Training
DESCRIPTION:Amy Keith will lead us through the Voter Registration training\, LWVSPA practices\, and key facts needed to pass the LWVFL Quiz.  LWVSPA members who are interested in Voter Services must pass this quiz to be certified to table at events. For our seasoned volunteers\, LWVFL is not requiring everyone to retake the quiz\, but join us anyway to share your experience! \n\n\n\nThis date replaces the usual monthly meeting previously scheduled for 8/20.  \n\n\n\nREGISTRATION IS REQUIRED. \n\n\n\n\n\n		Register for Training
URL:https://lwvspa.org/event/voter-services-committee-6/
LOCATION:FL
END:VEVENT
END:VCALENDAR