BEGIN:VCALENDAR
VERSION:2.0
PRODID:-//LWVSPA - ECPv6.15.20//NONSGML v1.0//EN
CALSCALE:GREGORIAN
METHOD:PUBLISH
X-ORIGINAL-URL:https://lwvspa.org
X-WR-CALDESC:Events for LWVSPA
REFRESH-INTERVAL;VALUE=DURATION:PT1H
X-Robots-Tag:noindex
X-PUBLISHED-TTL:PT1H
BEGIN:VTIMEZONE
TZID:America/New_York
BEGIN:DAYLIGHT
TZOFFSETFROM:-0500
TZOFFSETTO:-0400
TZNAME:EDT
DTSTART:20240310T070000
END:DAYLIGHT
BEGIN:STANDARD
TZOFFSETFROM:-0400
TZOFFSETTO:-0500
TZNAME:EST
DTSTART:20241103T060000
END:STANDARD
BEGIN:DAYLIGHT
TZOFFSETFROM:-0500
TZOFFSETTO:-0400
TZNAME:EDT
DTSTART:20250309T070000
END:DAYLIGHT
BEGIN:STANDARD
TZOFFSETFROM:-0400
TZOFFSETTO:-0500
TZNAME:EST
DTSTART:20251102T060000
END:STANDARD
BEGIN:DAYLIGHT
TZOFFSETFROM:-0500
TZOFFSETTO:-0400
TZNAME:EDT
DTSTART:20260308T070000
END:DAYLIGHT
BEGIN:STANDARD
TZOFFSETFROM:-0400
TZOFFSETTO:-0500
TZNAME:EST
DTSTART:20261101T060000
END:STANDARD
END:VTIMEZONE
BEGIN:VEVENT
DTSTART;TZID=America/New_York:20251204T060000
DTEND;TZID=America/New_York:20251204T210000
DTSTAMP:20260423T152724
CREATED:20251126T204755Z
LAST-MODIFIED:20251126T204756Z
UID:10002256-1764828000-1764882000@lwvspa.org
SUMMARY:Bus to Tallahassee to oppose Redistricting
DESCRIPTION:COME WITH US TO THE STATE CAPITOL ON DECEMBER 4! League members and allies from across the state will mobilize against unconstitutional mid-decade redistricting. We will attend the House Select Committee Redistricting meeting en masse. Same day\, up-and-back bus transportation from Tampa Bay\, Orlando\, Oviedo\, Pensacola\, Jacksonville\, The Villages. Sign up here: https://docs.google.com/forms/d/e/1FAIpQLSdx4lvsw8CvYIzu6rb6wn_ZCr7KuG9cqs0pdAYxN6ZoB6rbWg/viewform
URL:https://lwvspa.org/event/bus-to-tallahassee-to-oppose-redistricting/
LOCATION:FL
END:VEVENT
BEGIN:VEVENT
DTSTART;TZID=America/New_York:20251204T170000
DTEND;TZID=America/New_York:20251204T180000
DTSTAMP:20260423T152724
CREATED:20250711T152606Z
LAST-MODIFIED:20260404T193451Z
UID:10001960-1764867600-1764871200@lwvspa.org
SUMMARY:Social Justice Action Team Meeting
DESCRIPTION:We believe in secure equal rights and equal opportunity for all. We promote social and economic justice and the health and safety of all Americans.  \n\n\n\nThe Social Justice Team invites the public to engage in and become more educated on the prescient issues of the day. We seek to expand the imagined possibilities of progress for all people and voices. We advocate safe\, open-minded discussions in the community around the intersections of economics\, history\, politics\, privilege\, and race. \n\n\n\n\n\n		RSVP for Zoom
URL:https://lwvspa.org/event/social-justice-action-team-meeting/2025-12-04/
LOCATION:FL
END:VEVENT
END:VCALENDAR