BEGIN:VCALENDAR
VERSION:2.0
PRODID:-//LWVSPA - ECPv6.15.20//NONSGML v1.0//EN
CALSCALE:GREGORIAN
METHOD:PUBLISH
X-ORIGINAL-URL:https://lwvspa.org
X-WR-CALDESC:Events for LWVSPA
REFRESH-INTERVAL;VALUE=DURATION:PT1H
X-Robots-Tag:noindex
X-PUBLISHED-TTL:PT1H
BEGIN:VTIMEZONE
TZID:America/New_York
BEGIN:DAYLIGHT
TZOFFSETFROM:-0500
TZOFFSETTO:-0400
TZNAME:EDT
DTSTART:20240310T070000
END:DAYLIGHT
BEGIN:STANDARD
TZOFFSETFROM:-0400
TZOFFSETTO:-0500
TZNAME:EST
DTSTART:20241103T060000
END:STANDARD
BEGIN:DAYLIGHT
TZOFFSETFROM:-0500
TZOFFSETTO:-0400
TZNAME:EDT
DTSTART:20250309T070000
END:DAYLIGHT
BEGIN:STANDARD
TZOFFSETFROM:-0400
TZOFFSETTO:-0500
TZNAME:EST
DTSTART:20251102T060000
END:STANDARD
BEGIN:DAYLIGHT
TZOFFSETFROM:-0500
TZOFFSETTO:-0400
TZNAME:EDT
DTSTART:20260308T070000
END:DAYLIGHT
BEGIN:STANDARD
TZOFFSETFROM:-0400
TZOFFSETTO:-0500
TZNAME:EST
DTSTART:20261101T060000
END:STANDARD
END:VTIMEZONE
BEGIN:VEVENT
DTSTART;TZID=America/New_York:20251215T160000
DTEND;TZID=America/New_York:20251215T170000
DTSTAMP:20260423T152723
CREATED:20251129T191425Z
LAST-MODIFIED:20251129T191433Z
UID:10002097-1765814400-1765818000@lwvspa.org
SUMMARY:Education Committee (With LWVNPC)
DESCRIPTION:Monthly LWVNPC/LWVSPA Education Committee Meeting via Zoom. For an invitation or to attend\, contact lwvnpc.info@gmail.com to receive an agenda. Open to all current LWV members only.
URL:https://lwvspa.org/event/education-committee-with-lwvnpc-8/
LOCATION:FL
END:VEVENT
BEGIN:VEVENT
DTSTART;TZID=America/New_York:20251215T183000
DTEND;TZID=America/New_York:20251215T200000
DTSTAMP:20260423T152723
CREATED:20250218T162007Z
LAST-MODIFIED:20250620T132519Z
UID:10001894-1765823400-1765828800@lwvspa.org
SUMMARY:Board Meeting
DESCRIPTION:If any LWVSPA member wishes to address the board\, they should email the president at president@lwvspa.org to get on the agenda and to receive meeting info (such as location or Zoom login).
URL:https://lwvspa.org/event/board-meeting-4/2025-12-15/
LOCATION:FL
END:VEVENT
END:VCALENDAR