BEGIN:VCALENDAR
VERSION:2.0
PRODID:-//LWVSPA - ECPv6.15.20//NONSGML v1.0//EN
CALSCALE:GREGORIAN
METHOD:PUBLISH
X-ORIGINAL-URL:https://lwvspa.org
X-WR-CALDESC:Events for LWVSPA
REFRESH-INTERVAL;VALUE=DURATION:PT1H
X-Robots-Tag:noindex
X-PUBLISHED-TTL:PT1H
BEGIN:VTIMEZONE
TZID:America/New_York
BEGIN:DAYLIGHT
TZOFFSETFROM:-0500
TZOFFSETTO:-0400
TZNAME:EDT
DTSTART:20250309T070000
END:DAYLIGHT
BEGIN:STANDARD
TZOFFSETFROM:-0400
TZOFFSETTO:-0500
TZNAME:EST
DTSTART:20251102T060000
END:STANDARD
BEGIN:DAYLIGHT
TZOFFSETFROM:-0500
TZOFFSETTO:-0400
TZNAME:EDT
DTSTART:20260308T070000
END:DAYLIGHT
BEGIN:STANDARD
TZOFFSETFROM:-0400
TZOFFSETTO:-0500
TZNAME:EST
DTSTART:20261101T060000
END:STANDARD
BEGIN:DAYLIGHT
TZOFFSETFROM:-0500
TZOFFSETTO:-0400
TZNAME:EDT
DTSTART:20270314T070000
END:DAYLIGHT
BEGIN:STANDARD
TZOFFSETFROM:-0400
TZOFFSETTO:-0500
TZNAME:EST
DTSTART:20271107T060000
END:STANDARD
END:VTIMEZONE
BEGIN:VEVENT
DTSTART;TZID=America/New_York:20260122T120000
DTEND;TZID=America/New_York:20260122T130000
DTSTAMP:20260423T142505
CREATED:20251222T175537Z
LAST-MODIFIED:20251222T180039Z
UID:10002274-1769083200-1769086800@lwvspa.org
SUMMARY:Roe v. Wade Anniversary Reproductive Freedom Visibility Event
DESCRIPTION:Join St. Pete’s annual rally and sign-waving visibility event in downtown St. Petersburg to commemorate the anniversary of the U.S. Supreme Court’s 1973 Roe v. Wade decision. Let’s raise our voices of resistance to attacks on reproductive freedom. Led by Pinellas NOW\, LWVSPA is a proud co-host.We will gather at target intersections in downtown St. Pete. Pick yours on the event registration form:https://forms.gle/4CJhYGHDujXBDy6o9Bring signs\, if you can. Otherwise\, extras will be available.
URL:https://lwvspa.org/event/roe-v-wade-anniversary-reproductive-freedom-visibility-event/
LOCATION:FL
END:VEVENT
END:VCALENDAR