BEGIN:VCALENDAR
VERSION:2.0
PRODID:-//LWVSPA - ECPv6.15.20//NONSGML v1.0//EN
CALSCALE:GREGORIAN
METHOD:PUBLISH
X-WR-CALNAME:LWVSPA
X-ORIGINAL-URL:https://lwvspa.org
X-WR-CALDESC:Events for LWVSPA
REFRESH-INTERVAL;VALUE=DURATION:PT1H
X-Robots-Tag:noindex
X-PUBLISHED-TTL:PT1H
BEGIN:VTIMEZONE
TZID:America/New_York
BEGIN:DAYLIGHT
TZOFFSETFROM:-0500
TZOFFSETTO:-0400
TZNAME:EDT
DTSTART:20250309T070000
END:DAYLIGHT
BEGIN:STANDARD
TZOFFSETFROM:-0400
TZOFFSETTO:-0500
TZNAME:EST
DTSTART:20251102T060000
END:STANDARD
BEGIN:DAYLIGHT
TZOFFSETFROM:-0500
TZOFFSETTO:-0400
TZNAME:EDT
DTSTART:20260308T070000
END:DAYLIGHT
BEGIN:STANDARD
TZOFFSETFROM:-0400
TZOFFSETTO:-0500
TZNAME:EST
DTSTART:20261101T060000
END:STANDARD
BEGIN:DAYLIGHT
TZOFFSETFROM:-0500
TZOFFSETTO:-0400
TZNAME:EDT
DTSTART:20270314T070000
END:DAYLIGHT
BEGIN:STANDARD
TZOFFSETFROM:-0400
TZOFFSETTO:-0500
TZNAME:EST
DTSTART:20271107T060000
END:STANDARD
END:VTIMEZONE
BEGIN:VEVENT
DTSTART;TZID=America/New_York:20260129T180000
DTEND;TZID=America/New_York:20260129T200000
DTSTAMP:20260423T142433
CREATED:20260110T203429Z
LAST-MODIFIED:20260117T123912Z
UID:10002276-1769709600-1769716800@lwvspa.org
SUMMARY:Gulfport City Council Candidate Forum
DESCRIPTION:Candidates for the Gulfport City Council Ward I and Ward III will appear at a Candidate Forum\, hosted by the League of Women Voters of the St. Petersburg Area. \n\n\n\nThe Candidate Forum will provide voters with an opportunity to hear directly from candidates about the issues that matter most to the Gulfport community ahead of the upcoming election\, which is scheduled for March 10\, 2026. Voters will be invited to submit questions both in advance of the forum and during the event. Submit questions ahead of time here. \n\n\n\nThe forum is free and open to the public. The Ward I forum is from 6 pm – 7 pm\, followed by Ward III forum from 7 pm – 8 pm. For more information\, please email office@lwvspa.org. \n\n\n\n\n\n		RSVP on Facebook
URL:https://lwvspa.org/event/gulfport-city-council-candidate-forum/
LOCATION:Catherine A. Hickman Theater\, 5501 27th Avenue South\, Gulfport\, Florida\, 33707\, United States
END:VEVENT
END:VCALENDAR