BEGIN:VCALENDAR
VERSION:2.0
PRODID:-//LWVSPA - ECPv6.15.20//NONSGML v1.0//EN
CALSCALE:GREGORIAN
METHOD:PUBLISH
X-ORIGINAL-URL:https://lwvspa.org
X-WR-CALDESC:Events for LWVSPA
REFRESH-INTERVAL;VALUE=DURATION:PT1H
X-Robots-Tag:noindex
X-PUBLISHED-TTL:PT1H
BEGIN:VTIMEZONE
TZID:America/New_York
BEGIN:DAYLIGHT
TZOFFSETFROM:-0500
TZOFFSETTO:-0400
TZNAME:EDT
DTSTART:20250309T070000
END:DAYLIGHT
BEGIN:STANDARD
TZOFFSETFROM:-0400
TZOFFSETTO:-0500
TZNAME:EST
DTSTART:20251102T060000
END:STANDARD
BEGIN:DAYLIGHT
TZOFFSETFROM:-0500
TZOFFSETTO:-0400
TZNAME:EDT
DTSTART:20260308T070000
END:DAYLIGHT
BEGIN:STANDARD
TZOFFSETFROM:-0400
TZOFFSETTO:-0500
TZNAME:EST
DTSTART:20261101T060000
END:STANDARD
BEGIN:DAYLIGHT
TZOFFSETFROM:-0500
TZOFFSETTO:-0400
TZNAME:EDT
DTSTART:20270314T070000
END:DAYLIGHT
BEGIN:STANDARD
TZOFFSETFROM:-0400
TZOFFSETTO:-0500
TZNAME:EST
DTSTART:20271107T060000
END:STANDARD
END:VTIMEZONE
BEGIN:VEVENT
DTSTART;TZID=America/New_York:20260202T173000
DTEND;TZID=America/New_York:20260202T190000
DTSTAMP:20260423T130914
CREATED:20260122T162920Z
LAST-MODIFIED:20260122T162921Z
UID:10002352-1770053400-1770058800@lwvspa.org
SUMMARY:Indian Shores Council Member Candidate Forum
DESCRIPTION:Candidates for Indian Shores Council Member will appear at a Candidate Forum\, hosted by the League of Women Voters of the St. Petersburg Area and the Pinellas Beaches Chamber of Commerce. \n\n\n\nThe Candidate Forum will provide voters with an opportunity to hear directly from candidates about the issues that matter most to the Indian Shores community ahead of the upcoming election\, which is scheduled for March 10\, 2026. Voters will be invited to submit questions both in advance of the forum and during the event. Submit questions ahead of time here. \n\n\n\nA moderator will introduce the candidates and guide the discussion. \n\n\n\nAll Candidate Forums sponsored by the League of Women Voters follow a nonpartisan\, unbiased\, and impartial format\, in keeping with League principles. \n\n\n\nThe forum is free and open to the public. The candidate meet & greet is from 5:30 – 6:00 p.m.\, followed by the candidate forum from 6:00 – 7:00 p.m. \n\n\n\nFor more information\, please email office@lwvspa.org. \n\n\n\n\n\n		RSVP on Facebook
URL:https://lwvspa.org/event/indian-shores-council-member-candidate-forum/
LOCATION:Indian Shores City Hall\, 19305 Gulf Blvd\, Indian Shores\, Florida\, 33785\, United States
ATTACH;FMTTYPE=image/png:https://lwvspa.org/wp-content/uploads/Indian-Shores-Candidate-Forum.png
END:VEVENT
END:VCALENDAR