BEGIN:VCALENDAR
VERSION:2.0
PRODID:-//LWVSPA - ECPv6.15.20//NONSGML v1.0//EN
CALSCALE:GREGORIAN
METHOD:PUBLISH
X-ORIGINAL-URL:https://lwvspa.org
X-WR-CALDESC:Events for LWVSPA
REFRESH-INTERVAL;VALUE=DURATION:PT1H
X-Robots-Tag:noindex
X-PUBLISHED-TTL:PT1H
BEGIN:VTIMEZONE
TZID:America/New_York
BEGIN:DAYLIGHT
TZOFFSETFROM:-0500
TZOFFSETTO:-0400
TZNAME:EDT
DTSTART:20250309T070000
END:DAYLIGHT
BEGIN:STANDARD
TZOFFSETFROM:-0400
TZOFFSETTO:-0500
TZNAME:EST
DTSTART:20251102T060000
END:STANDARD
BEGIN:DAYLIGHT
TZOFFSETFROM:-0500
TZOFFSETTO:-0400
TZNAME:EDT
DTSTART:20260308T070000
END:DAYLIGHT
BEGIN:STANDARD
TZOFFSETFROM:-0400
TZOFFSETTO:-0500
TZNAME:EST
DTSTART:20261101T060000
END:STANDARD
BEGIN:DAYLIGHT
TZOFFSETFROM:-0500
TZOFFSETTO:-0400
TZNAME:EDT
DTSTART:20270314T070000
END:DAYLIGHT
BEGIN:STANDARD
TZOFFSETFROM:-0400
TZOFFSETTO:-0500
TZNAME:EST
DTSTART:20271107T060000
END:STANDARD
END:VTIMEZONE
BEGIN:VEVENT
DTSTART;TZID=America/New_York:20260203T170000
DTEND;TZID=America/New_York:20260203T180000
DTSTAMP:20260423T130927
CREATED:20250103T174649Z
LAST-MODIFIED:20250103T174651Z
UID:10001707-1770138000-1770141600@lwvspa.org
SUMMARY:National Popular Vote Committee
DESCRIPTION:First Tuesday of each month\, 5-6 pm.Join us as we talk strategy. First timers are welcome and all levels of experience are encouraged to join. \n\n\n\n\n\n		RSVP
URL:https://lwvspa.org/event/national-popular-vote-committee/2026-02-03/
LOCATION:FL
END:VEVENT
BEGIN:VEVENT
DTSTART;TZID=America/New_York:20260203T180000
DTEND;TZID=America/New_York:20260203T200000
DTSTAMP:20260423T130927
CREATED:20260124T121435Z
LAST-MODIFIED:20260126T202346Z
UID:10002353-1770141600-1770148800@lwvspa.org
SUMMARY:Kenneth City Mayoral Candidate Forum
DESCRIPTION:Candidates for Kenneth City Mayor will appear at a Candidate Forum hosted by the League of Women Voters of the St. Petersburg Area. \n\n\n\nThe Candidate Forum will provide voters with an opportunity to hear directly from candidates about the issues that matter most to the Kenneth City community ahead of the upcoming election\, which is scheduled for March 10\, 2026. Voters will be invited to submit questions both in advance of the forum and during the event. Submit questions ahead of time here. \n\n\n\nThe forum is free and open to the public. \n\n\n\nFor more information\, please email office@lwvspa.org. \n\n\n\n\n\n		RSVP on Facebook
URL:https://lwvspa.org/event/kenneth-city-mayoral-city-council-candidate-forum/
LOCATION:Kenneth City Community Hall\, 4600 58th St. N.\, Kenneth City\, Florida\, 33709\, United States
ATTACH;FMTTYPE=image/png:https://lwvspa.org/wp-content/uploads/Candidate-Forums-2.png
END:VEVENT
END:VCALENDAR