BEGIN:VCALENDAR
VERSION:2.0
PRODID:-//LWVSPA - ECPv6.15.20//NONSGML v1.0//EN
CALSCALE:GREGORIAN
METHOD:PUBLISH
X-WR-CALNAME:LWVSPA
X-ORIGINAL-URL:https://lwvspa.org
X-WR-CALDESC:Events for LWVSPA
REFRESH-INTERVAL;VALUE=DURATION:PT1H
X-Robots-Tag:noindex
X-PUBLISHED-TTL:PT1H
BEGIN:VTIMEZONE
TZID:America/New_York
BEGIN:DAYLIGHT
TZOFFSETFROM:-0500
TZOFFSETTO:-0400
TZNAME:EDT
DTSTART:20250309T070000
END:DAYLIGHT
BEGIN:STANDARD
TZOFFSETFROM:-0400
TZOFFSETTO:-0500
TZNAME:EST
DTSTART:20251102T060000
END:STANDARD
BEGIN:DAYLIGHT
TZOFFSETFROM:-0500
TZOFFSETTO:-0400
TZNAME:EDT
DTSTART:20260308T070000
END:DAYLIGHT
BEGIN:STANDARD
TZOFFSETFROM:-0400
TZOFFSETTO:-0500
TZNAME:EST
DTSTART:20261101T060000
END:STANDARD
BEGIN:DAYLIGHT
TZOFFSETFROM:-0500
TZOFFSETTO:-0400
TZNAME:EDT
DTSTART:20270314T070000
END:DAYLIGHT
BEGIN:STANDARD
TZOFFSETFROM:-0400
TZOFFSETTO:-0500
TZNAME:EST
DTSTART:20271107T060000
END:STANDARD
END:VTIMEZONE
BEGIN:VEVENT
DTSTART;TZID=America/New_York:20260205T170000
DTEND;TZID=America/New_York:20260205T180000
DTSTAMP:20260423T131437
CREATED:20250711T152606Z
LAST-MODIFIED:20260404T193451Z
UID:10001962-1770310800-1770314400@lwvspa.org
SUMMARY:Social Justice Action Team Meeting
DESCRIPTION:We believe in secure equal rights and equal opportunity for all. We promote social and economic justice and the health and safety of all Americans.  \n\n\n\nThe Social Justice Team invites the public to engage in and become more educated on the prescient issues of the day. We seek to expand the imagined possibilities of progress for all people and voices. We advocate safe\, open-minded discussions in the community around the intersections of economics\, history\, politics\, privilege\, and race. \n\n\n\n\n\n		RSVP for Zoom
URL:https://lwvspa.org/event/social-justice-action-team-meeting/2026-02-05/
LOCATION:FL
END:VEVENT
BEGIN:VEVENT
DTSTART;TZID=America/New_York:20260205T180000
DTEND;TZID=America/New_York:20260205T200000
DTSTAMP:20260423T131437
CREATED:20260117T123722Z
LAST-MODIFIED:20260117T124729Z
UID:10002279-1770314400-1770321600@lwvspa.org
SUMMARY:Madeira Beach City Commissioner Candidate Forum
DESCRIPTION:Candidates for Madeira Beach City Commissioner District 2 will appear at a Candidate Forum\, hosted by the League of Women Voters of the St. Petersburg Area and the Pinellas Beaches Chamber of Commerce. \n\n\n\nThe Candidate Forum will provide voters with an opportunity to hear directly from candidates about the issues that matter most to the Madeira Beach community ahead of the upcoming election\, which is scheduled for March 10\, 2026. Voters will be invited to submit questions both in advance of the forum and during the event. Submit questions ahead of time here. \n\n\n\nThe forum is free and open to the public. For more information\, please email office@lwvspa.org. \n\n\n\n\n\n		RSVP on Facebook
URL:https://lwvspa.org/event/madeira-beach-city-commissioner-candidate-forum/
LOCATION:Madeira Beach City Hall\, 300 Municipal Dr\, Madeira Beach\, Florida\, 33708\, United States
END:VEVENT
END:VCALENDAR