BEGIN:VCALENDAR
VERSION:2.0
PRODID:-//LWVSPA - ECPv6.15.20//NONSGML v1.0//EN
CALSCALE:GREGORIAN
METHOD:PUBLISH
X-ORIGINAL-URL:https://lwvspa.org
X-WR-CALDESC:Events for LWVSPA
REFRESH-INTERVAL;VALUE=DURATION:PT1H
X-Robots-Tag:noindex
X-PUBLISHED-TTL:PT1H
BEGIN:VTIMEZONE
TZID:America/New_York
BEGIN:DAYLIGHT
TZOFFSETFROM:-0500
TZOFFSETTO:-0400
TZNAME:EDT
DTSTART:20250309T070000
END:DAYLIGHT
BEGIN:STANDARD
TZOFFSETFROM:-0400
TZOFFSETTO:-0500
TZNAME:EST
DTSTART:20251102T060000
END:STANDARD
BEGIN:DAYLIGHT
TZOFFSETFROM:-0500
TZOFFSETTO:-0400
TZNAME:EDT
DTSTART:20260308T070000
END:DAYLIGHT
BEGIN:STANDARD
TZOFFSETFROM:-0400
TZOFFSETTO:-0500
TZNAME:EST
DTSTART:20261101T060000
END:STANDARD
BEGIN:DAYLIGHT
TZOFFSETFROM:-0500
TZOFFSETTO:-0400
TZNAME:EDT
DTSTART:20270314T070000
END:DAYLIGHT
BEGIN:STANDARD
TZOFFSETFROM:-0400
TZOFFSETTO:-0500
TZNAME:EST
DTSTART:20271107T060000
END:STANDARD
END:VTIMEZONE
BEGIN:VEVENT
DTSTART;TZID=America/New_York:20260209T180000
DTEND;TZID=America/New_York:20260209T200000
DTSTAMP:20260423T131609
CREATED:20260117T124342Z
LAST-MODIFIED:20260117T124343Z
UID:10002280-1770660000-1770667200@lwvspa.org
SUMMARY:St. Pete Beach Mayor and City Commissioner Candidate Forum
DESCRIPTION:Candidates for St. Pete Beach Mayor and City Commissioner for District 3 will appear at a Candidate Forum\, hosted by the League of Women Voters of the St. Petersburg Area and the Pinellas Beaches Chamber of Commerce. \n\n\n\nThe Candidate Forum will provide voters with an opportunity to hear directly from candidates about the issues that matter most to the St. Pete Beach community ahead of the upcoming election\, which is scheduled for March 10\, 2026. Voters will be invited to submit questions both in advance of the forum and during the event. Submit questions ahead of time here. \n\n\n\nThe forum is free and open to the public. The Commissioner candidate forum is from 6:00 p.m. – 7:00 p.m.\, followed by the Mayoral candidate forum from 7:00 p.m. – 8:00 p.m.  \n\n\n\nFor more information\, please email office@lwvspa.org. \n\n\n\n\n\n		RSVP on Facebook
URL:https://lwvspa.org/event/st-pete-beach-mayor-and-city-commissioner-candidate-forum/
LOCATION:St. Pete Beach City Hall\, 155 Corey Ave\, St. Pete Beach\, Florida\, 33706\, United States
END:VEVENT
END:VCALENDAR