BEGIN:VCALENDAR
VERSION:2.0
PRODID:-//LWVSPA - ECPv6.15.20//NONSGML v1.0//EN
CALSCALE:GREGORIAN
METHOD:PUBLISH
X-ORIGINAL-URL:https://lwvspa.org
X-WR-CALDESC:Events for LWVSPA
REFRESH-INTERVAL;VALUE=DURATION:PT1H
X-Robots-Tag:noindex
X-PUBLISHED-TTL:PT1H
BEGIN:VTIMEZONE
TZID:UTC
BEGIN:STANDARD
TZOFFSETFROM:+0000
TZOFFSETTO:+0000
TZNAME:UTC
DTSTART:20250101T000000
END:STANDARD
END:VTIMEZONE
BEGIN:VEVENT
DTSTART;TZID=UTC:20260224T180000
DTEND;TZID=UTC:20260224T193000
DTSTAMP:20260423T130927
CREATED:20260120T110337Z
LAST-MODIFIED:20260128T152827Z
UID:10002281-1771956000-1771961400@lwvspa.org
SUMMARY:Voter Services Voter Registration Training - LWVSPA Members Only
DESCRIPTION:Amy Keith will lead us through Voter Registration training\, LWVSPA practices\, and key facts needed to pass the LWVFL Quiz. LWVSPA members who are interested in Voter Services must pass this quiz to be certified to table at events. For our seasoned volunteers\, LWVFL is not requiring everyone to retake the quiz\, but join us anyway to share your experience! \n\n\n\nREGISTRATION IS REQUIRED – LWVSPA members only. \n\n\n\n\n\n		Register Here
URL:https://lwvspa.org/event/voter-services-voter-registration-training-lwvspa-members-only-2/
LOCATION:FL
END:VEVENT
END:VCALENDAR