BEGIN:VCALENDAR
VERSION:2.0
PRODID:-//LWVSPA - ECPv6.15.20//NONSGML v1.0//EN
CALSCALE:GREGORIAN
METHOD:PUBLISH
X-WR-CALNAME:LWVSPA
X-ORIGINAL-URL:https://lwvspa.org
X-WR-CALDESC:Events for LWVSPA
REFRESH-INTERVAL;VALUE=DURATION:PT1H
X-Robots-Tag:noindex
X-PUBLISHED-TTL:PT1H
BEGIN:VTIMEZONE
TZID:America/New_York
BEGIN:DAYLIGHT
TZOFFSETFROM:-0500
TZOFFSETTO:-0400
TZNAME:EDT
DTSTART:20250309T070000
END:DAYLIGHT
BEGIN:STANDARD
TZOFFSETFROM:-0400
TZOFFSETTO:-0500
TZNAME:EST
DTSTART:20251102T060000
END:STANDARD
BEGIN:DAYLIGHT
TZOFFSETFROM:-0500
TZOFFSETTO:-0400
TZNAME:EDT
DTSTART:20260308T070000
END:DAYLIGHT
BEGIN:STANDARD
TZOFFSETFROM:-0400
TZOFFSETTO:-0500
TZNAME:EST
DTSTART:20261101T060000
END:STANDARD
BEGIN:DAYLIGHT
TZOFFSETFROM:-0500
TZOFFSETTO:-0400
TZNAME:EDT
DTSTART:20270314T070000
END:DAYLIGHT
BEGIN:STANDARD
TZOFFSETFROM:-0400
TZOFFSETTO:-0500
TZNAME:EST
DTSTART:20271107T060000
END:STANDARD
END:VTIMEZONE
BEGIN:VEVENT
DTSTART;TZID=America/New_York:20260304T180000
DTEND;TZID=America/New_York:20260304T190000
DTSTAMP:20260423T120144
CREATED:20260121T122656Z
LAST-MODIFIED:20260121T122710Z
UID:10002340-1772647200-1772650800@lwvspa.org
SUMMARY:New Member Orientation
DESCRIPTION:As one of the most active advocacy and policy education groups in Pinellas County\, our League’s current issues include voter engagement\, education\, and protection; reproductive rights; public schools/education; the National Popular Vote; redevelopment of the Historic Gas Plant District; immigrant rights; expansion of Early Voting sites; and opposing mid-decade redistricting. \n\n\n\nThis Orientation is designed to orient folks who are curious about the League\, as well as those who’ve been members for less than a year. \n\n\n\nOur aim is for everyone to find what interests them and get involved expediently. \n\n\n\n\n\n		RSVP Here
URL:https://lwvspa.org/event/new-member-orientation-6/
LOCATION:Allendale UMC\, 3803 Haines Road North\, St. Petersburg\, FL\, 33703\, United States
ATTACH;FMTTYPE=image/png:https://lwvspa.org/wp-content/uploads/Orientation-for-New-Prospective-Members.png
END:VEVENT
END:VCALENDAR