BEGIN:VCALENDAR
VERSION:2.0
PRODID:-//LWVSPA - ECPv6.15.20//NONSGML v1.0//EN
CALSCALE:GREGORIAN
METHOD:PUBLISH
X-ORIGINAL-URL:https://lwvspa.org
X-WR-CALDESC:Events for LWVSPA
REFRESH-INTERVAL;VALUE=DURATION:PT1H
X-Robots-Tag:noindex
X-PUBLISHED-TTL:PT1H
BEGIN:VTIMEZONE
TZID:UTC
BEGIN:STANDARD
TZOFFSETFROM:+0000
TZOFFSETTO:+0000
TZNAME:UTC
DTSTART:20250101T000000
END:STANDARD
END:VTIMEZONE
BEGIN:VEVENT
DTSTART;TZID=UTC:20260318T183000
DTEND;TZID=UTC:20260318T193000
DTSTAMP:20260423T120344
CREATED:20210304T081922Z
LAST-MODIFIED:20260225T153810Z
UID:10000891-1773858600-1773862200@lwvspa.org
SUMMARY:Voter Services Committee
DESCRIPTION:Join with the Voter Services Leadership Team to hear about our Voter Guide\, Candidate Forums\, Voter Registration\, & Election and Voter Protection.  \n\n\n\n\n\n		Join Via Zoom
URL:https://lwvspa.org/event/voter-services-committee/2026-03-18/
LOCATION:FL
END:VEVENT
END:VCALENDAR