BEGIN:VCALENDAR
VERSION:2.0
PRODID:-//LWVSPA - ECPv6.15.20//NONSGML v1.0//EN
CALSCALE:GREGORIAN
METHOD:PUBLISH
X-ORIGINAL-URL:https://lwvspa.org
X-WR-CALDESC:Events for LWVSPA
REFRESH-INTERVAL;VALUE=DURATION:PT1H
X-Robots-Tag:noindex
X-PUBLISHED-TTL:PT1H
BEGIN:VTIMEZONE
TZID:America/New_York
BEGIN:DAYLIGHT
TZOFFSETFROM:-0500
TZOFFSETTO:-0400
TZNAME:EDT
DTSTART:20250309T070000
END:DAYLIGHT
BEGIN:STANDARD
TZOFFSETFROM:-0400
TZOFFSETTO:-0500
TZNAME:EST
DTSTART:20251102T060000
END:STANDARD
BEGIN:DAYLIGHT
TZOFFSETFROM:-0500
TZOFFSETTO:-0400
TZNAME:EDT
DTSTART:20260308T070000
END:DAYLIGHT
BEGIN:STANDARD
TZOFFSETFROM:-0400
TZOFFSETTO:-0500
TZNAME:EST
DTSTART:20261101T060000
END:STANDARD
BEGIN:DAYLIGHT
TZOFFSETFROM:-0500
TZOFFSETTO:-0400
TZNAME:EDT
DTSTART:20270314T070000
END:DAYLIGHT
BEGIN:STANDARD
TZOFFSETFROM:-0400
TZOFFSETTO:-0500
TZNAME:EST
DTSTART:20271107T060000
END:STANDARD
END:VTIMEZONE
BEGIN:VEVENT
DTSTART;TZID=America/New_York:20260402T170000
DTEND;TZID=America/New_York:20260402T180000
DTSTAMP:20260423T102800
CREATED:20250711T152606Z
LAST-MODIFIED:20260404T193451Z
UID:10001964-1775149200-1775152800@lwvspa.org
SUMMARY:Social Justice Action Team Meeting
DESCRIPTION:We believe in secure equal rights and equal opportunity for all. We promote social and economic justice and the health and safety of all Americans.  \n\n\n\nThe Social Justice Team invites the public to engage in and become more educated on the prescient issues of the day. We seek to expand the imagined possibilities of progress for all people and voices. We advocate safe\, open-minded discussions in the community around the intersections of economics\, history\, politics\, privilege\, and race. \n\n\n\n\n\n		RSVP for Zoom
URL:https://lwvspa.org/event/social-justice-action-team-meeting/2026-04-02/
LOCATION:FL
END:VEVENT
END:VCALENDAR