BEGIN:VCALENDAR
VERSION:2.0
PRODID:-//LWVSPA - ECPv6.15.20//NONSGML v1.0//EN
CALSCALE:GREGORIAN
METHOD:PUBLISH
X-ORIGINAL-URL:https://lwvspa.org
X-WR-CALDESC:Events for LWVSPA
REFRESH-INTERVAL;VALUE=DURATION:PT1H
X-Robots-Tag:noindex
X-PUBLISHED-TTL:PT1H
BEGIN:VTIMEZONE
TZID:America/New_York
BEGIN:DAYLIGHT
TZOFFSETFROM:-0500
TZOFFSETTO:-0400
TZNAME:EDT
DTSTART:20250309T070000
END:DAYLIGHT
BEGIN:STANDARD
TZOFFSETFROM:-0400
TZOFFSETTO:-0500
TZNAME:EST
DTSTART:20251102T060000
END:STANDARD
BEGIN:DAYLIGHT
TZOFFSETFROM:-0500
TZOFFSETTO:-0400
TZNAME:EDT
DTSTART:20260308T070000
END:DAYLIGHT
BEGIN:STANDARD
TZOFFSETFROM:-0400
TZOFFSETTO:-0500
TZNAME:EST
DTSTART:20261101T060000
END:STANDARD
BEGIN:DAYLIGHT
TZOFFSETFROM:-0500
TZOFFSETTO:-0400
TZNAME:EDT
DTSTART:20270314T070000
END:DAYLIGHT
BEGIN:STANDARD
TZOFFSETFROM:-0400
TZOFFSETTO:-0500
TZNAME:EST
DTSTART:20271107T060000
END:STANDARD
END:VTIMEZONE
BEGIN:VEVENT
DTSTART;TZID=America/New_York:20260418T110000
DTEND;TZID=America/New_York:20260418T143000
DTSTAMP:20260423T102820
CREATED:20250918T192022Z
LAST-MODIFIED:20260221T195554Z
UID:10002163-1776510000-1776522600@lwvspa.org
SUMMARY:2026 Annual Meeting & Luncheon
DESCRIPTION:Our fun and inspiring Luncheon includes keynote speaker Dianna Wynn\, President of the League of Women Voters of the United States. \n\n\n\nThe Annual Meeting\, held just prior to the Luncheon\, is where League members conduct business including: \n\n\n\n\nProgram Adoption\n\n\n\nState of the League\n\n\n\nOfficer and Board Director Nomination Slate\n\n\n\nBylaws Adoption\n\n\n\nYearly Budget Adoption\n\n\n\n\n\n\n		Buy Luncheon Tickets
URL:https://lwvspa.org/event/2026-annual-meeting-luncheon/
LOCATION:Banquet Masters\, 13355 49th St N\, Clearwater\, Florida\, 33762\, United States
ATTACH;FMTTYPE=image/png:https://lwvspa.org/wp-content/uploads/2026-annual-meeting.png
END:VEVENT
END:VCALENDAR