BEGIN:VCALENDAR
VERSION:2.0
PRODID:-//LWVSPA - ECPv6.15.20//NONSGML v1.0//EN
CALSCALE:GREGORIAN
METHOD:PUBLISH
X-ORIGINAL-URL:https://lwvspa.org
X-WR-CALDESC:Events for LWVSPA
REFRESH-INTERVAL;VALUE=DURATION:PT1H
X-Robots-Tag:noindex
X-PUBLISHED-TTL:PT1H
BEGIN:VTIMEZONE
TZID:America/New_York
BEGIN:DAYLIGHT
TZOFFSETFROM:-0500
TZOFFSETTO:-0400
TZNAME:EDT
DTSTART:20250309T070000
END:DAYLIGHT
BEGIN:STANDARD
TZOFFSETFROM:-0400
TZOFFSETTO:-0500
TZNAME:EST
DTSTART:20251102T060000
END:STANDARD
BEGIN:DAYLIGHT
TZOFFSETFROM:-0500
TZOFFSETTO:-0400
TZNAME:EDT
DTSTART:20260308T070000
END:DAYLIGHT
BEGIN:STANDARD
TZOFFSETFROM:-0400
TZOFFSETTO:-0500
TZNAME:EST
DTSTART:20261101T060000
END:STANDARD
BEGIN:DAYLIGHT
TZOFFSETFROM:-0500
TZOFFSETTO:-0400
TZNAME:EDT
DTSTART:20270314T070000
END:DAYLIGHT
BEGIN:STANDARD
TZOFFSETFROM:-0400
TZOFFSETTO:-0500
TZNAME:EST
DTSTART:20271107T060000
END:STANDARD
END:VTIMEZONE
BEGIN:VEVENT
DTSTART;TZID=America/New_York:20260429T170000
DTEND;TZID=America/New_York:20260429T180000
DTSTAMP:20260423T102759
CREATED:20260316T113851Z
LAST-MODIFIED:20260316T113853Z
UID:10002398-1777482000-1777485600@lwvspa.org
SUMMARY:Candidate Forum Training
DESCRIPTION:Want to learn more about our upcoming candidate forums and how to get involved? \n\n\n\nVoter Services will host a training and informational session on April 29th from 5-6pm. We will go over the volunteer roles available and what each requires\, as well as updates on our plans ahead of the August primaries and November midterms. We can’t wait to build on our successful February municipal forums\, and welcome members to join us in making democracy work! \n\n\n\n\n\n		Register for Zoom
URL:https://lwvspa.org/event/candidate-forum-training/
LOCATION:FL
END:VEVENT
BEGIN:VEVENT
DTSTART;TZID=America/New_York:20260429T180000
DTEND;TZID=America/New_York:20260429T200000
DTSTAMP:20260423T102759
CREATED:20260324T140433Z
LAST-MODIFIED:20260422T113116Z
UID:10002473-1777485600-1777492800@lwvspa.org
SUMMARY:2026 FL Legislative Session Outcomes – Laws that passed impacting state and local citizens
DESCRIPTION:Join the NAACP of St. Petersburg and the League of Women Voters of the St. Petersburg Area to learn about the outcomes of the 2026 Florida Legislative Session. \n\n\n\nFeatured speaker Letitia Harmon\, Senior Policy Director for Florida Rising\, will break down key legislation from the session—including bills that passed\, those that stalled\, and what it all means for Florida residents. Read more about key issues from the 2026 Florida legislative session. \n\n\n\nThis is a great opportunity to better understand how recent legislative decisions may impact your community and how you can stay informed and engaged in strengthening our democracy. \n\n\n\nCommon Cause Florida is a nonpartisan organization dedicated to upholding the core values of American democracy.  They work across Florida on priorities that impact each of our lives\, like defending the right to vote\, holding our government accountable\, and ensuring our elections represent the will of the people. \n\n\n\n\n\n		RSVP on Facebook
URL:https://lwvspa.org/event/2026-fl-legislative-session-outcomes-laws-that-passed-impacting-state-and-local-citizens/
LOCATION:Enoch Davis Center\, 1111 18th Ave. S.\, St. Petersburg\, Florida\, 33705\, United States
END:VEVENT
END:VCALENDAR