BEGIN:VCALENDAR
VERSION:2.0
PRODID:-//LWVSPA - ECPv6.15.20//NONSGML v1.0//EN
CALSCALE:GREGORIAN
METHOD:PUBLISH
X-WR-CALNAME:LWVSPA
X-ORIGINAL-URL:https://lwvspa.org
X-WR-CALDESC:Events for LWVSPA
REFRESH-INTERVAL;VALUE=DURATION:PT1H
X-Robots-Tag:noindex
X-PUBLISHED-TTL:PT1H
BEGIN:VTIMEZONE
TZID:UTC
BEGIN:STANDARD
TZOFFSETFROM:+0000
TZOFFSETTO:+0000
TZNAME:UTC
DTSTART:20220101T000000
END:STANDARD
END:VTIMEZONE
BEGIN:VTIMEZONE
TZID:America/New_York
BEGIN:DAYLIGHT
TZOFFSETFROM:-0500
TZOFFSETTO:-0400
TZNAME:EDT
DTSTART:20220313T070000
END:DAYLIGHT
BEGIN:STANDARD
TZOFFSETFROM:-0400
TZOFFSETTO:-0500
TZNAME:EST
DTSTART:20221106T060000
END:STANDARD
BEGIN:DAYLIGHT
TZOFFSETFROM:-0500
TZOFFSETTO:-0400
TZNAME:EDT
DTSTART:20230312T070000
END:DAYLIGHT
BEGIN:STANDARD
TZOFFSETFROM:-0400
TZOFFSETTO:-0500
TZNAME:EST
DTSTART:20231105T060000
END:STANDARD
BEGIN:DAYLIGHT
TZOFFSETFROM:-0500
TZOFFSETTO:-0400
TZNAME:EDT
DTSTART:20240310T070000
END:DAYLIGHT
BEGIN:STANDARD
TZOFFSETFROM:-0400
TZOFFSETTO:-0500
TZNAME:EST
DTSTART:20241103T060000
END:STANDARD
END:VTIMEZONE
BEGIN:VEVENT
DTSTART;TZID=UTC:20231025T170000
DTEND;TZID=UTC:20231025T180000
DTSTAMP:20260425T070956
CREATED:20210130T033331Z
LAST-MODIFIED:20231113T115936Z
UID:10000930-1698253200-1698256800@lwvspa.org
SUMMARY:Committee on Membership
DESCRIPTION:Contact chair\, Amy Weintraub\, for more teleconference link or for more info.
URL:https://lwvspa.org/event/committee-on-membership-2-2023-05-24/2023-10-25/
LOCATION:Florida
END:VEVENT
BEGIN:VEVENT
DTSTART;TZID=UTC:20231024T180000
DTEND;TZID=UTC:20231024T200000
DTSTAMP:20260425T070956
CREATED:20230905T200830Z
LAST-MODIFIED:20231015T115819Z
UID:10001005-1698170400-1698177600@lwvspa.org
SUMMARY:All-Member General Meeting
DESCRIPTION:The October General Meeting offers an opportunity to jump into a statewide campaign sponsored by our State League (a.k.a. the League of Women Voters of Florida). Attendees will join in the effort to notify 100\,000 returning citizens (a preferred term used instead of ex-offenders or former felons) that they may have the right to vote. \n\n\n\nWe will form a work party to collectively write hand-addressed postcards with a note of encouragement to this target group\, letting them know there is pro bono legal assistance available to help determine if they have in fact completed their sentence and can register. Postcard\, name/address info\, and stamps will be on hand. We will have pens too\, but feel free to bring your favorite pen (ultrafine point Sharpies work great). \n\n\n\nSo far LWVSPA has mailed 3900 cards. We would like to get out another 1\,000 by early November – with your help at the General Meeting\, this is likely to happen. \n\n\n\nAll postcard writers must sign a privacy pledge agreeing not to share any of the names and addresses of intended postcard recipients. The link to the privacy pledge is here:  \n\n\n\nhttps://docs.google.com/forms/d/1Dx6sTdW8XOqvpkA9PkVejGZYIjf_0sGAaJ2JApchbgY \n\n\n\nWe hope to see you there!  \n\n\n\nEmail office@lwvspa.org with any questions.
URL:https://lwvspa.org/event/all-member-general-meeting-4/
LOCATION:Allendale UMC\, 3803 Haines Road North\, St. Petersburg\, FL\, 33703\, United States
END:VEVENT
BEGIN:VEVENT
DTSTART;TZID=America/New_York:20231019T180000
DTEND;TZID=America/New_York:20231019T200000
DTSTAMP:20260425T070956
CREATED:20230922T133339Z
LAST-MODIFIED:20230927T183200Z
UID:10001045-1697738400-1697745600@lwvspa.org
SUMMARY:Cocktails & Conversation
DESCRIPTION:BYOB\, light bites and soft drinks will be provided.  \n\n\n\nA Shuffleboard Club staff member will be available to give us some pointers and show us how Shuffleboard is played. \n\n\n\nFree to LWVSPA members\, and bring a prospective member! \n\n\n\nBe sure to RSVP for accurate headcount. \n\n\n\nPlenty of free parking at the Club and next door lot at SunShine Center \n\n\n\n\nRegister Here!
URL:https://lwvspa.org/event/cocktails-conversation-2/
LOCATION:St. Petersburg Shuffleboard Club\, 559 Mirror Lake Dr. N.\, St. Petersburg\, Florida\, 33701
END:VEVENT
BEGIN:VEVENT
DTSTART;TZID=UTC:20231018T183000
DTEND;TZID=UTC:20231018T193000
DTSTAMP:20260425T070956
CREATED:20210304T081922Z
LAST-MODIFIED:20260225T153810Z
UID:10000824-1697653800-1697657400@lwvspa.org
SUMMARY:Voter Services Committee
DESCRIPTION:Join with the Voter Services Leadership Team to hear about our Voter Guide\, Candidate Forums\, Voter Registration\, & Election and Voter Protection.  \n\n\n\n\n\n		Join Via Zoom
URL:https://lwvspa.org/event/voter-services-committee/2023-10-18/
LOCATION:Florida
END:VEVENT
BEGIN:VEVENT
DTSTART;TZID=UTC:20231016T173000
DTEND;TZID=UTC:20231016T183000
DTSTAMP:20260425T070957
CREATED:20230807T124321Z
LAST-MODIFIED:20240306T145528Z
UID:10001002-1697477400-1697481000@lwvspa.org
SUMMARY:Team Leads Quarterly Meeting
DESCRIPTION:The Board holds quarterly conversations so we can better coordinate across the organization. We’d like all action team and program leads to attend these meetings – board members and team members are always welcome! Email office@lwvspa.org for more info.
URL:https://lwvspa.org/event/team-leads-quarterly-meeting-2/2023-10-16/
LOCATION:Join by phone ‪(US) +1 970-439-4031‬ PIN: ‪153 751 894‬#
END:VEVENT
BEGIN:VEVENT
DTSTART;TZID=UTC:20230927T170000
DTEND;TZID=UTC:20230927T180000
DTSTAMP:20260425T070957
CREATED:20210130T033331Z
LAST-MODIFIED:20231113T115936Z
UID:10000929-1695834000-1695837600@lwvspa.org
SUMMARY:Committee on Membership
DESCRIPTION:Contact chair\, Amy Weintraub\, for more teleconference link or for more info.
URL:https://lwvspa.org/event/committee-on-membership-2-2023-05-24/2023-09-27/
LOCATION:Florida
END:VEVENT
BEGIN:VEVENT
DTSTART;TZID=UTC:20230920T183000
DTEND;TZID=UTC:20230920T193000
DTSTAMP:20260425T070957
CREATED:20210304T081922Z
LAST-MODIFIED:20260225T153810Z
UID:10000823-1695234600-1695238200@lwvspa.org
SUMMARY:Voter Services Committee
DESCRIPTION:Join with the Voter Services Leadership Team to hear about our Voter Guide\, Candidate Forums\, Voter Registration\, & Election and Voter Protection.  \n\n\n\n\n\n		Join Via Zoom
URL:https://lwvspa.org/event/voter-services-committee/2023-09-20/
LOCATION:Florida
END:VEVENT
BEGIN:VEVENT
DTSTART;TZID=UTC:20230920T183000
DTEND;TZID=UTC:20230920T193000
DTSTAMP:20260425T070957
CREATED:20210304T081922Z
LAST-MODIFIED:20230920T230203Z
UID:10000844-1695234600-1695238200@lwvspa.org
SUMMARY:Voter Services Committee
DESCRIPTION:Join with the Voter Services Leadership Team to hear about our Voter Guide\, Candidate Forums\, Voter Registration\, & Election and Voter Protection.  \n\n\n\nThis meeting will be held in-person.
URL:https://lwvspa.org/event/voter-services-committee-2023-09-20-2/
LOCATION:Allendale UMC\, 3803 Haines Road North\, St. Petersburg\, FL\, 33703\, United States
END:VEVENT
BEGIN:VEVENT
DTSTART;TZID=America/New_York:20230914T183000
DTEND;TZID=America/New_York:20230914T210000
DTSTAMP:20260425T070957
CREATED:20230807T123117Z
LAST-MODIFIED:20230807T123118Z
UID:10000988-1694716200-1694725200@lwvspa.org
SUMMARY:Hopped-Up on Democracy
DESCRIPTION:Hey smarty pants! Do you like Democracy? Craft Beer? Trivia\, Games and Prizes? Then join us for a FREE\, non-partisan\, democracy-themed Game Night\, special redistricting edition. Bring your friends\, bring your spouse who’s apathetic about voting\, bring your mom and let’s get our democracy on! Free food and drinks! \n\n\n\n\n\n		Register Here
URL:https://lwvspa.org/event/hopped-up-on-democracy/
LOCATION:Pinellas Ale Works\, 1962 1st Ave S\, Florida\, 33712
END:VEVENT
BEGIN:VEVENT
DTSTART;TZID=UTC:20230905T180000
DTEND;TZID=UTC:20230905T200000
DTSTAMP:20260425T070957
CREATED:20230720T173747Z
LAST-MODIFIED:20230831T153143Z
UID:10000923-1693936800-1693944000@lwvspa.org
SUMMARY:All-Member General Meeting
DESCRIPTION:City of St. Pete Council Vice-Chair Deborah Figgs-Sanders will be speaking about hot topics in the city. Following the meeting the Reproductive Rights team will offer a 15-minute training on best practices in collecting the petitions to get abortion rights on the 2024 ballot. This is for people new to petition collection work. \n\n\n\nWe hope to see you there!  \n\n\n\nEmail office@lwvspa.org with any questions.
URL:https://lwvspa.org/event/all-member-general-meeting-3/
LOCATION:Allendale UMC\, 3803 Haines Road North\, St. Petersburg\, FL\, 33703\, United States
END:VEVENT
BEGIN:VEVENT
DTSTART;TZID=UTC:20230823T170000
DTEND;TZID=UTC:20230823T180000
DTSTAMP:20260425T070957
CREATED:20210130T033331Z
LAST-MODIFIED:20231113T115936Z
UID:10000928-1692810000-1692813600@lwvspa.org
SUMMARY:Committee on Membership
DESCRIPTION:Contact chair\, Amy Weintraub\, for more teleconference link or for more info.
URL:https://lwvspa.org/event/committee-on-membership-2-2023-05-24/2023-08-23/
LOCATION:Florida
END:VEVENT
BEGIN:VEVENT
DTSTART;TZID=UTC:20230822T180000
DTEND;TZID=UTC:20230822T190000
DTSTAMP:20260425T070957
CREATED:20230720T173100Z
LAST-MODIFIED:20230720T173152Z
UID:10000922-1692727200-1692730800@lwvspa.org
SUMMARY:Orientation for New & Prospective League Members
DESCRIPTION:Get Plugged Into the League’s Work! As one of the most active advocacy and policy education groups in Pinellas County\, the League’s current issues include voter engagement\, environmental sustainability\, gun safety\, campaign finance reform\, and reproductive rights. Come learn about the League’s strategies to influence change and how you can join in!  \n\n\n\nOur New Member Orientation is designed to orient folks who are curious about the League\, as well as those who’ve been members for less than a year. Our hope is that everyone will find what interests them and get involved as expediently as possible. \n\n\n\nRegister in advance for this meeting: \n\n\n\n\n\n		Register
URL:https://lwvspa.org/event/orientation-for-new-prospective-league-members-4/
LOCATION:Florida
END:VEVENT
BEGIN:VEVENT
DTSTART;TZID=UTC:20230816T183000
DTEND;TZID=UTC:20230816T193000
DTSTAMP:20260425T070957
CREATED:20210304T081922Z
LAST-MODIFIED:20260225T153810Z
UID:10000822-1692210600-1692214200@lwvspa.org
SUMMARY:Voter Services Committee
DESCRIPTION:Join with the Voter Services Leadership Team to hear about our Voter Guide\, Candidate Forums\, Voter Registration\, & Election and Voter Protection.  \n\n\n\n\n\n		Join Via Zoom
URL:https://lwvspa.org/event/voter-services-committee/2023-08-16/
LOCATION:Florida
END:VEVENT
BEGIN:VEVENT
DTSTART;TZID=UTC:20230816T180000
DTEND;TZID=UTC:20230816T190000
DTSTAMP:20260425T070957
CREATED:20230403T185514Z
LAST-MODIFIED:20230403T185515Z
UID:10000879-1692208800-1692212400@lwvspa.org
SUMMARY:Sustainability Committee Meeting
DESCRIPTION:We will meet at the LWVSPA Office \n\n\n\n2335 22nd Ave S\, Suite 5 \n\n\n\nSt. Petersburg\, FL 33712
URL:https://lwvspa.org/event/sustainability-committee-meeting-6/
LOCATION:Florida
ORGANIZER;CN="Laura Crabtree":MAILTO:lauracrabtree.league@gmail.com
END:VEVENT
BEGIN:VEVENT
DTSTART;TZID=America/New_York:20230815T180000
DTEND;TZID=America/New_York:20230815T190000
DTSTAMP:20260425T070957
CREATED:20230803T193728Z
LAST-MODIFIED:20230803T193729Z
UID:10000924-1692122400-1692126000@lwvspa.org
SUMMARY:Reproductive Rights Action Team Meeting
DESCRIPTION:Sign up here to join the team email group and to get the Zoom link: \n\n\n\nhttps://forms.gle/SYehL9yTEZG5tvZk8 \n\n\n\nThanks to Leaguers and other Florida repro supporters\, we’ve had an amazing push collecting about half the petitions we will need to get abortion access on the 2024 ballot. HOWVER\, with the December deadline looming\, we need to do even more. Please join the LWVSPA Repro Rights Action Team to meet other abortion rights supporters and learn more about getting involved in this campaign to get abortion on the ballot here in Florida. \n\n\n\nThe petitions you help collect could make all the difference in getting abortion on the ballot in 2024\, but we won’t be able to reach enough voters without you.
URL:https://lwvspa.org/event/reproductive-rights-action-team-meeting/
LOCATION:Florida
END:VEVENT
BEGIN:VEVENT
DTSTART;TZID=UTC:20230726T170000
DTEND;TZID=UTC:20230726T180000
DTSTAMP:20260425T070957
CREATED:20210130T033331Z
LAST-MODIFIED:20231113T115936Z
UID:10000927-1690390800-1690394400@lwvspa.org
SUMMARY:Committee on Membership
DESCRIPTION:Contact chair\, Amy Weintraub\, for more teleconference link or for more info.
URL:https://lwvspa.org/event/committee-on-membership-2-2023-05-24/2023-07-26/
LOCATION:Florida
END:VEVENT
BEGIN:VEVENT
DTSTART;TZID=UTC:20230719T183000
DTEND;TZID=UTC:20230719T193000
DTSTAMP:20260425T070957
CREATED:20210304T081922Z
LAST-MODIFIED:20260225T153810Z
UID:10000821-1689791400-1689795000@lwvspa.org
SUMMARY:Voter Services Committee
DESCRIPTION:Join with the Voter Services Leadership Team to hear about our Voter Guide\, Candidate Forums\, Voter Registration\, & Election and Voter Protection.  \n\n\n\n\n\n		Join Via Zoom
URL:https://lwvspa.org/event/voter-services-committee/2023-07-19/
LOCATION:Florida
END:VEVENT
BEGIN:VEVENT
DTSTART;TZID=UTC:20230712T180000
DTEND;TZID=UTC:20230712T190000
DTSTAMP:20260425T070957
CREATED:20230403T185425Z
LAST-MODIFIED:20230403T185426Z
UID:10000878-1689184800-1689188400@lwvspa.org
SUMMARY:Sustainability Committee Meeting
DESCRIPTION:We will meet at the LWVSPA Office \n\n\n\n2335 22nd Ave S\, Suite 5 \n\n\n\nSt. Petersburg\, FL 33712
URL:https://lwvspa.org/event/sustainability-committee-meeting-5/
LOCATION:Florida
ORGANIZER;CN="Laura Crabtree":MAILTO:lauracrabtree.league@gmail.com
END:VEVENT
BEGIN:VEVENT
DTSTART;TZID=UTC:20230628T170000
DTEND;TZID=UTC:20230628T180000
DTSTAMP:20260425T070957
CREATED:20210130T033331Z
LAST-MODIFIED:20231113T115936Z
UID:10000926-1687971600-1687975200@lwvspa.org
SUMMARY:Committee on Membership
DESCRIPTION:Contact chair\, Amy Weintraub\, for more teleconference link or for more info.
URL:https://lwvspa.org/event/committee-on-membership-2-2023-05-24/2023-06-28/
LOCATION:Florida
END:VEVENT
BEGIN:VEVENT
DTSTART;TZID=UTC:20230627T180000
DTEND;TZID=UTC:20230627T200000
DTSTAMP:20260425T070957
CREATED:20230520T125333Z
LAST-MODIFIED:20230520T125335Z
UID:10000918-1687888800-1687896000@lwvspa.org
SUMMARY:Taking it to the Streets: How to Combat Structural Racism in St. Petersburg
DESCRIPTION:The League of Women Voters of the St. Petersburg Area’s Social Justice Team is partnering with Miss Gwen Reese on a project called Taking It To the Streets.  \n\n\n\nThis project is funded by the Foundation for a Healthy St. Petersburg to educate residents and community groups about the Structural Racism study that the City funded and conducted. This is also a way to get folks to advocate for the recommendations from the study.  \n\n\n\nMiss Gwen will provide an overview of the study\, and then there will be a community discussion on the experiences with structural racism.  \n\n\n\nThis meeting is open to the public. Light refreshments will be provided. \n\n\n\nWe hope to see you there!
URL:https://lwvspa.org/event/taking-it-to-the-streets-how-to-combat-structural-racism-in-st-petersburg/
LOCATION:The Center for Health Equity\, 2333 34th St S\, St. Petersburg\, Florida\, 33711\, United States
END:VEVENT
BEGIN:VEVENT
DTSTART;TZID=UTC:20230627T170000
DTEND;TZID=UTC:20230627T174500
DTSTAMP:20260425T070957
CREATED:20230520T124954Z
LAST-MODIFIED:20230524T135122Z
UID:10000917-1687885200-1687887900@lwvspa.org
SUMMARY:All-Member General Meeting
DESCRIPTION:This is a great opportunity to meet your fellow Leaguers and have two-way communication with League and Action Group leaders.  \n\n\n\nAuthor Sarah-Jane Vatelot will speak about her book\, Where Have all the Mangos Gone? \n\n\n\nSarah Jane Vatelot is an architect and author of “Where Have All the Mangoes Gone”.  Sarah is a Tampa Bay 2021 40 Under 40 honoree. She explains the direct link between the redlining maps\, which identified as ‘hazardous’ the three historically African-American neighborhoods of Peppertown\, the Gas Plant\, and Methodist Town\, and the 1935 effort to relocate all of the city’s black residents to areas away from the tourist-oriented downtown. Later\, in the 1970s and 1980s\, federal dollars provided means by which the city could once again flex its muscle. Officially sanctioned segregation was out\, but similar efforts cloaked as “urban renewal” were in. In 1978 City Council passed a resolution that the Gas Plant district was to be declared a “redevelopment area.” It was envisioned to support an industrial park and residential development. Jobs and homes. That is what the city said would come with redevelopment. In her book Sarah-Jane notes that Gas Plant residents were promised\, “in writing\, that the neighborhood would be rebuilt with ‘new affordable housing and a modern-day industrial park.” The plan also promised\, in writing\, 600 new jobs\, with combined salaries of $5.6 million\, by the end of the 1980s. “While there is little evidence that\, in the 1980s\, the deliberate intent was to conclude the efforts begun in the 1930s\, the goal was fulfilled.” Sarah Jane will share this fascinating St. Petersburg history.  \n\n\n\nAfter the General Meeting Ms. Gwendolyn Reese\, Co-Principal Investigator of the Structural Racism study will speak about combating structural racism. Register separately for that here: https://bit.ly/TTTSLWVSPA \n\n\n\nWe hope to see you there!
URL:https://lwvspa.org/event/all-member-general-meeting-2/
LOCATION:The Center for Health Equity\, 2333 34th St S\, St. Petersburg\, Florida\, 33711\, United States
END:VEVENT
BEGIN:VEVENT
DTSTART;TZID=UTC:20230621T183000
DTEND;TZID=UTC:20230621T193000
DTSTAMP:20260425T070957
CREATED:20210304T081922Z
LAST-MODIFIED:20230403T190757Z
UID:10000843-1687372200-1687375800@lwvspa.org
SUMMARY:Voter Services Committee
DESCRIPTION:Join with the Voter Services Leadership Team to hear about our Voter Guide\, Candidate Forums\, Voter Registration\, & Election and Voter Protection.  \n\n\n\nThis meeting will be held in-person
URL:https://lwvspa.org/event/voter-services-committee-2023-06-21/
LOCATION:National Council of Negro Women SPMS Council House\, 1835 9th Ave S\, St. Petersburg
END:VEVENT
BEGIN:VEVENT
DTSTART;TZID=UTC:20230619T183000
DTEND;TZID=UTC:20230619T200000
DTSTAMP:20260425T070957
CREATED:20230511T194814Z
LAST-MODIFIED:20230511T194815Z
UID:10000610-1687199400-1687204800@lwvspa.org
SUMMARY:Board Meeting
DESCRIPTION:
URL:https://lwvspa.org/event/board-meeting-2/
LOCATION:Join by phone ‪(US) +1 470-241-4871‬ PIN: ‪120 641 866‬#
END:VEVENT
BEGIN:VEVENT
DTSTART;TZID=UTC:20230614T180000
DTEND;TZID=UTC:20230614T190000
DTSTAMP:20260425T070957
CREATED:20230403T185329Z
LAST-MODIFIED:20230403T185331Z
UID:10000598-1686765600-1686769200@lwvspa.org
SUMMARY:Sustainability Committee Meeting
DESCRIPTION:We will meet at the LWVSPA Office \n\n\n\n2335 22nd Ave S\, Suite 5 \n\n\n\nSt. Petersburg\, FL 33712
URL:https://lwvspa.org/event/sustainability-committee-meeting-4/
LOCATION:Florida
ORGANIZER;CN="Laura Crabtree":MAILTO:lauracrabtree.league@gmail.com
END:VEVENT
BEGIN:VEVENT
DTSTART;TZID=UTC:20230607T180000
DTEND;TZID=UTC:20230607T190000
DTSTAMP:20260425T070957
CREATED:20230520T125827Z
LAST-MODIFIED:20230520T125829Z
UID:10000919-1686160800-1686164400@lwvspa.org
SUMMARY:Orientation for New & Prospective League Members
DESCRIPTION:Get Plugged Into the League’s Work! As one of the most active advocacy and policy education groups in Pinellas County\, the League’s current issues include voter engagement\, environmental sustainability\, gun safety\, campaign finance reform\, and reproductive rights. Come learn about the League’s strategies to influence change and how you can join in!  \n\n\n\nOur New Member Orientation is designed to orient folks who are curious about the League\, as well as those who’ve been members for less than a year. Our hope is that everyone will find what interests them and get involved as expediently as possible. \n\n\n\nRegister in advance for this meeting: \n\n\n\n\n\n		Register\n\n\n\n\nAfter registering\, you will receive a confirmation email containing information about joining the meeting.
URL:https://lwvspa.org/event/orientation-for-new-prospective-league-members-3/
LOCATION:Florida
END:VEVENT
BEGIN:VEVENT
DTSTART;TZID=UTC:20230524T180000
DTEND;TZID=UTC:20230524T190000
DTSTAMP:20260425T070957
CREATED:20230403T185202Z
LAST-MODIFIED:20230403T185203Z
UID:10000597-1684951200-1684954800@lwvspa.org
SUMMARY:Sustainability Committee Meeting
DESCRIPTION:We will meet at the LWVSPA Office \n\n\n\n2335 22nd Ave S\, Suite 5 \n\n\n\nSt. Petersburg\, FL 33712
URL:https://lwvspa.org/event/sustainability-committee-meeting-3/
LOCATION:Florida
ORGANIZER;CN="Laura Crabtree":MAILTO:lauracrabtree.league@gmail.com
END:VEVENT
BEGIN:VEVENT
DTSTART;TZID=UTC:20230524T170000
DTEND;TZID=UTC:20230524T180000
DTSTAMP:20260425T070957
CREATED:20210130T033331Z
LAST-MODIFIED:20231113T115936Z
UID:10000925-1684947600-1684951200@lwvspa.org
SUMMARY:Committee on Membership
DESCRIPTION:Contact chair\, Amy Weintraub\, for more teleconference link or for more info.
URL:https://lwvspa.org/event/committee-on-membership-2-2023-05-24/2023-05-24/
LOCATION:Florida
END:VEVENT
BEGIN:VEVENT
DTSTART;TZID=UTC:20230523T180000
DTEND;TZID=UTC:20230523T190000
DTSTAMP:20260425T070957
CREATED:20230520T130651Z
LAST-MODIFIED:20230520T130653Z
UID:10000920-1684864800-1684868400@lwvspa.org
SUMMARY:Reproductive Rights Action Team in-person meeting
DESCRIPTION:The newly (re)formed LWVSPA Reproductive Rights Action Team\, led by Sarah Terry and Amy Weintraub\, will meet on Tuesday\, May 23 at 6pm at the Unitarian Universalist’s classroom building downtown. \n\n\n\nOur urgent priority is to join with partners across the state in getting a constitutional amendment on the 2024 ballot guaranteeing abortion rights. To get on the ballot\, more than 900\,000 petition forms will need to be completed by Florida voters. LWVSPA is now a “Hub” collection and distribution point in Pinellas County for these petitions; our team’s ground game will be to get all the Florida Voters we meet to complete the petitions. Join us! \n\n\n\n﻿ \n\n\n\nPlease sign up below to be added to the Repro Action Team email group and get all the details: \n\n\n\n\n\n		Join the LWVSPA Repro Rights Team\n\n\n\n\nAfter registering\, you will receive a confirmation email containing information about joining the meeting.
URL:https://lwvspa.org/event/reproductive-rights-action-team-in-person-meeting/
LOCATION:Florida
END:VEVENT
BEGIN:VEVENT
DTSTART;TZID=UTC:20230517T183000
DTEND;TZID=UTC:20230517T193000
DTSTAMP:20260425T070957
CREATED:20210304T081922Z
LAST-MODIFIED:20260225T153810Z
UID:10000819-1684348200-1684351800@lwvspa.org
SUMMARY:Voter Services Committee
DESCRIPTION:Join with the Voter Services Leadership Team to hear about our Voter Guide\, Candidate Forums\, Voter Registration\, & Election and Voter Protection.  \n\n\n\n\n\n		Join Via Zoom
URL:https://lwvspa.org/event/voter-services-committee/2023-05-17/
LOCATION:Florida
END:VEVENT
BEGIN:VEVENT
DTSTART;TZID=America/New_York:20230429T100000
DTEND;TZID=America/New_York:20230429T130000
DTSTAMP:20260425T070957
CREATED:20230207T213318Z
LAST-MODIFIED:20230418T152312Z
UID:10000596-1682762400-1682773200@lwvspa.org
SUMMARY:Annual Meeting
DESCRIPTION:Once a year our St. Pete League membership gathers to vote on bylaws changes\, budget\, new board members\, and most importantly\, which issues we’ll champion in the year ahead. We need your vote and input.  \n\n\n\nOur Luncheon will feature a buffet\, plus awards and recognitions. Additionally\, we are celebrating the work and voice of our keynote speaker\, LWV Florida president and civil rights attorney\, Cecile Scoon\, in her role as leader of our activities at the state level\, including our collective fight for fair districts. Won’t you join us?
URL:https://lwvspa.org/event/annual-meeting-2/
LOCATION:St. Pete Beach Community Center\, 7701 Boca Ciega Dr.\, St. Pete Beach\, Florida\, 33706\, United States
ATTACH;FMTTYPE=image/jpeg:https://lwvspa.org/wp-content/uploads/Audience-Carol-someone-Amy-Annual-mtg-2019-scaled.jpeg
END:VEVENT
END:VCALENDAR