BEGIN:VCALENDAR
VERSION:2.0
PRODID:-//LWVSPA - ECPv6.15.20//NONSGML v1.0//EN
CALSCALE:GREGORIAN
METHOD:PUBLISH
X-WR-CALNAME:LWVSPA
X-ORIGINAL-URL:https://lwvspa.org
X-WR-CALDESC:Events for LWVSPA
REFRESH-INTERVAL;VALUE=DURATION:PT1H
X-Robots-Tag:noindex
X-PUBLISHED-TTL:PT1H
BEGIN:VTIMEZONE
TZID:America/New_York
BEGIN:DAYLIGHT
TZOFFSETFROM:-0500
TZOFFSETTO:-0400
TZNAME:EDT
DTSTART:20240310T070000
END:DAYLIGHT
BEGIN:STANDARD
TZOFFSETFROM:-0400
TZOFFSETTO:-0500
TZNAME:EST
DTSTART:20241103T060000
END:STANDARD
BEGIN:DAYLIGHT
TZOFFSETFROM:-0500
TZOFFSETTO:-0400
TZNAME:EDT
DTSTART:20250309T070000
END:DAYLIGHT
BEGIN:STANDARD
TZOFFSETFROM:-0400
TZOFFSETTO:-0500
TZNAME:EST
DTSTART:20251102T060000
END:STANDARD
BEGIN:DAYLIGHT
TZOFFSETFROM:-0500
TZOFFSETTO:-0400
TZNAME:EDT
DTSTART:20260308T070000
END:DAYLIGHT
BEGIN:STANDARD
TZOFFSETFROM:-0400
TZOFFSETTO:-0500
TZNAME:EST
DTSTART:20261101T060000
END:STANDARD
END:VTIMEZONE
BEGIN:VTIMEZONE
TZID:UTC
BEGIN:STANDARD
TZOFFSETFROM:+0000
TZOFFSETTO:+0000
TZNAME:UTC
DTSTART:20240101T000000
END:STANDARD
END:VTIMEZONE
BEGIN:VEVENT
DTSTART;TZID=America/New_York:20250219T173000
DTEND;TZID=America/New_York:20250219T190000
DTSTAMP:20260424T115149
CREATED:20250216T002747Z
LAST-MODIFIED:20250216T002749Z
UID:10001766-1739986200-1739991600@lwvspa.org
SUMMARY:Meet the Candidates Forum: Indian Shores Municipal Election
DESCRIPTION:To help citizens make an informed decision on who they will potentially vote for in the March 11\, 2025\, Indian Shores Municipal Election\, a Meet the Candidates Forum is scheduled for Wednesday\, February 19\, 2025\, beginning with a Meet and Greet at 5:30 p.m. to 6:00 p.m.\, followed by a Candidate Forum session conducted and moderated by the League of Women Voters of the St. Petersburg Area from 6:00 p.m. to 7:00 p.m.  \n\n\n\nThis event is open to the public and will take place in the 4th Floor Community Center of Town Hall\, located at 19305 Gulf Blvd.\, Indian Shores\, FL.  \n\n\n\nCitizens may write their questions to the candidates on index cards provided at the event and give them to the Town Clerk or LWV members prior to the start of the 6:00 p.m. forum. Questions will be read aloud and the candidates will be provided time for replies.  \n\n\n\nAlternatively\, citizens may submit their questions by emailing them to flozano@myindianshores.com with “Candidate Question” in the subject line. Written questions may also be dropped off at the front desk located on the 3rd Floor of the Town Hall no later than 3:00 P.M. on February 19\, 2025. Questions received in advance of the event will be submitted to the LWV.
URL:https://lwvspa.org/event/meet-the-candidates-forum-indian-shores-municipal-election/
LOCATION:Indian Shores Town Hall\, 19305 Gulf Blvd\, Indian Shores\, Florida\, 33785\, United States
END:VEVENT
BEGIN:VEVENT
DTSTART;TZID=America/New_York:20250224T180000
DTEND;TZID=America/New_York:20250224T190000
DTSTAMP:20260424T115149
CREATED:20250131T204333Z
LAST-MODIFIED:20250131T204352Z
UID:10001761-1740420000-1740423600@lwvspa.org
SUMMARY:New Member Orientation
DESCRIPTION:As one of the most active advocacy and policy education groups in Pinellas County\, the League of Women Voters’ current issues include voter engagement\, education\, and protection; environmental sustainability; social justice; reproductive rights; public schools/education; and the National Popular Vote. \n\n\n\nNew Member Orientation is designed to orient folks who are curious about the League\, as well as those who’ve been members for less than a year. \n\n\n\nOur hope is that everyone will find what interests them and get involved as expediently as possible. \n\n\n\n\n\n		RSVP for New Member Orientation
URL:https://lwvspa.org/event/new-member-orientation-2/
LOCATION:Allendale UMC\, 3803 Haines Road North\, St. Petersburg\, FL\, 33703\, United States
END:VEVENT
BEGIN:VEVENT
DTSTART;TZID=America/New_York:20250225T173000
DTEND;TZID=America/New_York:20250225T193000
DTSTAMP:20260424T115149
CREATED:20250127T172246Z
LAST-MODIFIED:20250221T125039Z
UID:10001760-1740504600-1740511800@lwvspa.org
SUMMARY:February Cocktails & Conversation
DESCRIPTION:We would love for you to join the League for Cocktails & Conversation\, and invite a guest or two. \n\n\n\nThese happy hours are the perfect time to relax with (or without!) a drink and enjoy some great company. \n\n\n\nThe February event will be at 3 Daughters Brewing in St. Pete. \n\n\n\n\n\n		RSVP Here!
URL:https://lwvspa.org/event/february-cocktails-conversation/
LOCATION:3 Daughters Brewing\, 222 22nd St S\, Saint Petersburg\, Florida\, 33712\, United States
END:VEVENT
BEGIN:VEVENT
DTSTART;TZID=UTC:20250226T170000
DTEND;TZID=UTC:20250226T180000
DTSTAMP:20260424T115149
CREATED:20210130T033331Z
LAST-MODIFIED:20231113T115936Z
UID:10000946-1740589200-1740592800@lwvspa.org
SUMMARY:Committee on Membership
DESCRIPTION:Contact chair\, Amy Weintraub\, for more teleconference link or for more info.
URL:https://lwvspa.org/event/committee-on-membership-2-2023-05-24/2025-02-26/
LOCATION:Florida
END:VEVENT
BEGIN:VEVENT
DTSTART;TZID=America/New_York:20250226T180000
DTEND;TZID=America/New_York:20250226T190000
DTSTAMP:20260424T115149
CREATED:20250218T161448Z
LAST-MODIFIED:20250219T210800Z
UID:10001781-1740592800-1740596400@lwvspa.org
SUMMARY:South Pasadena Candidate Forum
DESCRIPTION:Please submit questions to office@lwvspa.org by February 24\, 2025. Questions will be collected at the event from 5:30-5:45 pm.For more information: office@lwvspa.org
URL:https://lwvspa.org/event/south-pasadena-candidate-forum/
LOCATION:Pasadena Community Church\, 227 70th St. S.\, Saint Petersburg\, Florida\, 33707\, United States
END:VEVENT
BEGIN:VEVENT
DTSTART;TZID=UTC:20250227T183000
DTEND;TZID=UTC:20250227T193000
DTSTAMP:20260424T115149
CREATED:20250216T194317Z
LAST-MODIFIED:20250216T194520Z
UID:10000840-1740681000-1740684600@lwvspa.org
SUMMARY:Voter Services Committee
DESCRIPTION:Join with the Voter Services Leadership Team to hear about our Voter Guide\, Candidate Forums\, Voter Registration\, & Election and Voter Protection.  \n\n\n\nDue to the Indian Rocks Beach Candidate Forum on 2/19\, our February 2025 meeting will be held on 2/27.  \n\n\n\nPlease contact office@lwvspa.org for info on joining our meetings via Zoom.
URL:https://lwvspa.org/event/voter-services-committee-2/
LOCATION:Florida
END:VEVENT
BEGIN:VEVENT
DTSTART;TZID=America/New_York:20250302T160000
DTEND;TZID=America/New_York:20250302T180000
DTSTAMP:20260424T115149
CREATED:20250215T121254Z
LAST-MODIFIED:20250226T210726Z
UID:10001765-1740931200-1740938400@lwvspa.org
SUMMARY:Parent Advocacy League Meeting
DESCRIPTION:This group is provides an opportunity for parents to get involved in League work in a kid-friendly environment!Come learn about the league\, how to get involved\, meet other parent advocates\, and bring your little ones! \n\n\n\nPlease register in advance.League members are free. Prospective league members must pay the Run+Play admission fee. \n\n\n\n\n\n		RSVP Here
URL:https://lwvspa.org/event/parent-advocacy-league-meeting-6/
LOCATION:Run+Play Kids Cafe\, 3950 Central Ave\, St. Petersburg\, Florida\, 33711\, United States
END:VEVENT
BEGIN:VEVENT
DTSTART;TZID=America/New_York:20250303T180000
DTEND;TZID=America/New_York:20250303T190000
DTSTAMP:20260424T115149
CREATED:20241216T234524Z
LAST-MODIFIED:20260317T120223Z
UID:10002401-1741024800-1741028400@lwvspa.org
SUMMARY:Reproductive Rights Action Team Meeting
DESCRIPTION:Join us via Zoom! We meet monthly on the 1st Monday. Email office@lwvspa.org with questions. \n\n\n\n\n\n\n\n		Register for Zoom meeting
URL:https://lwvspa.org/event/reproductive-rights-action-team-meeting-5/2025-03-03/
LOCATION:Florida
END:VEVENT
BEGIN:VEVENT
DTSTART;TZID=America/New_York:20250304T170000
DTEND;TZID=America/New_York:20250304T180000
DTSTAMP:20260424T115149
CREATED:20250103T174649Z
LAST-MODIFIED:20250103T174651Z
UID:10001696-1741107600-1741111200@lwvspa.org
SUMMARY:National Popular Vote Committee
DESCRIPTION:First Tuesday of each month\, 5-6 pm.Join us as we talk strategy. First timers are welcome and all levels of experience are encouraged to join. \n\n\n\n\n\n		RSVP
URL:https://lwvspa.org/event/national-popular-vote-committee/2025-03-04/
LOCATION:Florida
END:VEVENT
BEGIN:VEVENT
DTSTART;TZID=America/New_York:20250308T120000
DTEND;TZID=America/New_York:20250308T130000
DTSTAMP:20260424T115149
CREATED:20250226T211045Z
LAST-MODIFIED:20250226T211047Z
UID:10001844-1741435200-1741438800@lwvspa.org
SUMMARY:International Women's Day St. Pete - Unite & Resist: A Reproductive Freedom Visibility Event
DESCRIPTION:LWVSPA is co-sponsoring this Pinellas NOW eventCorner of Central and 3rd Ave N in downtown St. PetersburgFacebook event page \n\n\n\nBring signs\, if you can. Otherwise\, extras will be on hand. \n\n\n\nOn International Women’s Day\, join Pinellas NOW (National Organization for Women) and LWVSPA to raise your voice against the attacks on reproductive freedom. Join us for sign-waving and protest in defense of our rights\, our bodies\, and our future.  \n\n\n\nThe International Women’s Day on 8th March is a national day to fight for gender equality by the feminist movement
URL:https://lwvspa.org/event/international-womens-day-st-pete-unite-resist-a-reproductive-freedom-visibility-event/
LOCATION:Florida
END:VEVENT
BEGIN:VEVENT
DTSTART;TZID=America/New_York:20250311T080000
DTEND;TZID=America/New_York:20250312T170000
DTSTAMP:20260424T115149
CREATED:20250214T154932Z
LAST-MODIFIED:20250214T155504Z
UID:10001763-1741680000-1741798800@lwvspa.org
SUMMARY:LWVFL Lobby Days in Tallahassee
DESCRIPTION:Lobby Days marks a unique opportunity to humanize our legislative priorities with our state lawmakers. The League’s reach has continued to grow and we’re excited to show that off in the halls our state capitol. Attendance is open to all members. \n\n\n\nHaven’t been to one of our Lobby Days before? Don’t fret! Training is available. We hope you can join us in Tallahassee! \n\n\n\n\n\n		Register for Lobby Days
URL:https://lwvspa.org/event/lwvfl-lobby-days-in-tallahassee-2/
LOCATION:Tallahassee
END:VEVENT
BEGIN:VEVENT
DTSTART;TZID=America/New_York:20250317T183000
DTEND;TZID=America/New_York:20250317T200000
DTSTAMP:20260424T115149
CREATED:20250218T162007Z
LAST-MODIFIED:20250620T132519Z
UID:10001887-1742236200-1742241600@lwvspa.org
SUMMARY:Board Meeting
DESCRIPTION:If any LWVSPA member wishes to address the board\, they should email the president at president@lwvspa.org to get on the agenda and to receive meeting info (such as location or Zoom login).
URL:https://lwvspa.org/event/board-meeting-4/2025-03-17/
LOCATION:Florida
END:VEVENT
BEGIN:VEVENT
DTSTART;TZID=UTC:20250319T183000
DTEND;TZID=UTC:20250319T193000
DTSTAMP:20260424T115149
CREATED:20250317T152951Z
LAST-MODIFIED:20250317T153044Z
UID:10000841-1742409000-1742412600@lwvspa.org
SUMMARY:CANCELED: Voter Services Committee
DESCRIPTION:The March 2025 Voter Services meeting is canceled. We will resume normal meetings in April. \n\n\n\nPlease contact office@lwvspa.org for info on joining our meetings via Zoom.
URL:https://lwvspa.org/event/voter-services-committee-3/
LOCATION:Florida
END:VEVENT
BEGIN:VEVENT
DTSTART;TZID=America/New_York:20250323T121500
DTEND;TZID=America/New_York:20250323T131500
DTSTAMP:20260424T115149
CREATED:20250305T170018Z
LAST-MODIFIED:20250305T170019Z
UID:10001845-1742732100-1742735700@lwvspa.org
SUMMARY:Embracing Our Differences Art Exhibit - Private Tour
DESCRIPTION:Join LWVSPA for a private tour of the Embracing Our Differences Art Exhibition. More info on the exhibition at embracingourdifferences.org \n\n\n\nSuggested donation of $10. \n\n\n\nThe exhibit is in Poynter Park – 3rd Street S. & 9th Avenue S.\, St. Petersburg\, FL 33701(USF St. Pete Campus) \n\n\n\n\n\n		RSVP For Tour
URL:https://lwvspa.org/event/embracing-our-differences-art-exhibit-private-tour/
LOCATION:Florida
END:VEVENT
BEGIN:VEVENT
DTSTART;TZID=America/New_York:20250325T130000
DTEND;TZID=America/New_York:20250325T170000
DTSTAMP:20260424T115149
CREATED:20250321T201352Z
LAST-MODIFIED:20250321T201355Z
UID:10001852-1742907600-1742922000@lwvspa.org
SUMMARY:National Popular Vote Interstate Compact: What\, How\, and WHY?
DESCRIPTION:This Zoom presentation on what NPV is and how it works is open to the public. Get answers to all of your NPV questions! \n\n\n\nTwo time slots available\, both on March 25 \n\n\n\n1pm RSVP \n\n\n\n5pm RSVP
URL:https://lwvspa.org/event/national-popular-vote-interstate-compact-what-how-and-why/
LOCATION:Florida
END:VEVENT
BEGIN:VEVENT
DTSTART;TZID=America/New_York:20250325T173000
DTEND;TZID=America/New_York:20250325T193000
DTSTAMP:20260424T115149
CREATED:20250221T124946Z
LAST-MODIFIED:20250221T124948Z
UID:10001843-1742923800-1742931000@lwvspa.org
SUMMARY:March Cocktails & Conversation
DESCRIPTION:We would love for you to join the League for Cocktails & Conversation\, and invite a guest or two. \n\n\n\nThese happy hours are the perfect time to relax with (or without!) a drink and enjoy some great company. \n\n\n\nThe March event will be at Hawthorne Bottle Shoppe in St. Pete. Food is available here https://www.hbsforlife.com/menu \n\n\n\n\n\n		RSVP Here!
URL:https://lwvspa.org/event/march-cocktails-conversation/
LOCATION:Hawthorne Bottle Shoppe\, 2927 Central Ave\, St. Petersburg\, Florida\, 33713\, United States
END:VEVENT
BEGIN:VEVENT
DTSTART;TZID=UTC:20250326T170000
DTEND;TZID=UTC:20250326T180000
DTSTAMP:20260424T115149
CREATED:20210130T033331Z
LAST-MODIFIED:20231113T115936Z
UID:10000947-1743008400-1743012000@lwvspa.org
SUMMARY:Committee on Membership
DESCRIPTION:Contact chair\, Amy Weintraub\, for more teleconference link or for more info.
URL:https://lwvspa.org/event/committee-on-membership-2-2023-05-24/2025-03-26/
LOCATION:Florida
END:VEVENT
BEGIN:VEVENT
DTSTART;TZID=America/New_York:20250327T150000
DTEND;TZID=America/New_York:20250327T160000
DTSTAMP:20260424T115149
CREATED:20250319T193644Z
LAST-MODIFIED:20250319T193646Z
UID:10001848-1743087600-1743091200@lwvspa.org
SUMMARY:IN-PERSON Education Committee (With LWVNPC)
DESCRIPTION:March 2025 we are meeting in-person at Largo Library – Jenkins room A. 120 Central Park Dr\, Largo\, FL 33771. \n\n\n\nNext month we will return to our usual time & Zoom meetings. \n\n\n\nMonthly LWVNPC/LWVSPA Education Committee Meeting via Zoom. For an invitation or to attend\, contact lwvnpc.info@gmail.com to receive an agenda. Open to all current LWV members only.
URL:https://lwvspa.org/event/in-person-education-committee-with-lwvnpc/
LOCATION:Florida
END:VEVENT
BEGIN:VEVENT
DTSTART;TZID=America/New_York:20250401T170000
DTEND;TZID=America/New_York:20250401T180000
DTSTAMP:20260424T115149
CREATED:20250103T174649Z
LAST-MODIFIED:20250103T174651Z
UID:10001697-1743526800-1743530400@lwvspa.org
SUMMARY:National Popular Vote Committee
DESCRIPTION:First Tuesday of each month\, 5-6 pm.Join us as we talk strategy. First timers are welcome and all levels of experience are encouraged to join. \n\n\n\n\n\n		RSVP
URL:https://lwvspa.org/event/national-popular-vote-committee/2025-04-01/
LOCATION:Florida
END:VEVENT
BEGIN:VEVENT
DTSTART;TZID=America/New_York:20250405T120000
DTEND;TZID=America/New_York:20250405T130000
DTSTAMP:20260424T115149
CREATED:20250317T153844Z
LAST-MODIFIED:20250317T154435Z
UID:10001847-1743854400-1743858000@lwvspa.org
SUMMARY:Women Rise Up St. Pete
DESCRIPTION:Join Pinellas NOW (National Organization for Women) and allied organizations at your selected downtown St. Pete intersection to raise your voice against the the assault on our country and Constitution. We will be in solidarity with other events being held on April 5th across the nation to defend our freedoms\, our rights\, and our future. When those in power try to silence us\, we rise louder. When they attack our communities\, we fight back—together. We want to make sure to voice our resistance to the six-week abortion ban imposed on Florida. PLEASE  \n\n\n\nREGISTER: https://forms.gle/Hwg4Kr6rrxdZVVwM9  \n\n\n\nVISIT THIS PAGE FOR DETAILS: https://tinyurl.com/StPeteApr5
URL:https://lwvspa.org/event/women-rise-up-st-pete/
LOCATION:Florida
END:VEVENT
BEGIN:VEVENT
DTSTART;TZID=America/New_York:20250406T110000
DTEND;TZID=America/New_York:20250406T140000
DTSTAMP:20260424T115149
CREATED:20241119T010053Z
LAST-MODIFIED:20250210T172009Z
UID:10001631-1743937200-1743948000@lwvspa.org
SUMMARY:Annual Meeting and Luncheon
DESCRIPTION:Luncheon Keynote Speaker: Bacardi Jackson\, the newly-appointed executive director of the ACLU of Florida. \n\n\n\n\n\n		RSVP / Buy Luncheon Tickets\n\n\n\n\nBusiness meeting:11:00 AM \n\n\n\nLuncheon:12:30 PM \n\n\n\nRaffle: We’re having a fun raffle which will offer a variety of gift cards and other items from generous area restaurants and shops. All proceeds will go to the League’s operating fund and to our efforts to make democracy work. \n\n\n\nYou can pre-purchase raffle tickets here\, or with cash/check/card at the Luncheon. \n\n\n\nNEEDED: GREAT STUFFIn addition to being a fun and informative event for members and supporters\, the Annual Meeting & Luncheon is our most significant fundraiser each year. As part of the event\, a raffle will offer unique opportunities to support our League. If you have items to be considered for the raffle\, please fill out this form.
URL:https://lwvspa.org/event/save-the-date-annual-meeting-and-luncheon/
LOCATION:Banquet Masters\, 13355 49th St N\, Clearwater\, Florida\, 33762\, United States
END:VEVENT
BEGIN:VEVENT
DTSTART;TZID=America/New_York:20250407T180000
DTEND;TZID=America/New_York:20250407T190000
DTSTAMP:20260424T115149
CREATED:20241216T234524Z
LAST-MODIFIED:20260317T120223Z
UID:10002402-1744048800-1744052400@lwvspa.org
SUMMARY:Reproductive Rights Action Team Meeting
DESCRIPTION:Join us via Zoom! We meet monthly on the 1st Monday. Email office@lwvspa.org with questions. \n\n\n\n\n\n\n\n		Register for Zoom meeting
URL:https://lwvspa.org/event/reproductive-rights-action-team-meeting-5/2025-04-07/
LOCATION:Florida
END:VEVENT
BEGIN:VEVENT
DTSTART;TZID=America/New_York:20250410T160000
DTEND;TZID=America/New_York:20250410T180000
DTSTAMP:20260424T115149
CREATED:20250321T201131Z
LAST-MODIFIED:20250321T201134Z
UID:10001849-1744300800-1744308000@lwvspa.org
SUMMARY:Community Craft Nights hosted by NPV
DESCRIPTION:Join the National Popular Vote Committee as we curate leave-behind materials for your next legislator meeting!Meet committee members\, talk shop\, practice your talking points\, hear about Lobby Days\, and learn about your legislators. \n\n\n\nWe will meet at the LWVSPA Office.
URL:https://lwvspa.org/event/community-craft-nights-hosted-by-npv/2025-04-10/
LOCATION:LWVSPA Office\, 3803 Haines Rd N\, St. Petersburg\, Florida\, 33703\, United States
END:VEVENT
BEGIN:VEVENT
DTSTART;TZID=America/New_York:20250413T160000
DTEND;TZID=America/New_York:20250413T180000
DTSTAMP:20260424T115149
CREATED:20250328T154307Z
LAST-MODIFIED:20250328T154309Z
UID:10001855-1744560000-1744567200@lwvspa.org
SUMMARY:Parent Advocacy League Meeting
DESCRIPTION:This group is provides an opportunity for parents to get involved in League work in a kid-friendly environment!Come learn about the league\, how to get involved\, meet other parent advocates\, and bring your little ones! \n\n\n\nPlease register in advance.League members are free. Prospective league members must pay the Run+Play admission fee. \n\n\n\n\n\n		RSVP Here
URL:https://lwvspa.org/event/parent-advocacy-league-meeting-7/
LOCATION:Run+Play Kids Cafe\, 3950 Central Ave\, St. Petersburg\, Florida\, 33711\, United States
END:VEVENT
BEGIN:VEVENT
DTSTART;TZID=UTC:20250416T183000
DTEND;TZID=UTC:20250416T193000
DTSTAMP:20260424T115149
CREATED:20210304T081922Z
LAST-MODIFIED:20260225T153810Z
UID:10000842-1744828200-1744831800@lwvspa.org
SUMMARY:Voter Services Committee
DESCRIPTION:Join with the Voter Services Leadership Team to hear about our Voter Guide\, Candidate Forums\, Voter Registration\, & Election and Voter Protection.  \n\n\n\n\n\n		Join Via Zoom
URL:https://lwvspa.org/event/voter-services-committee/2025-04-16/
LOCATION:Florida
END:VEVENT
BEGIN:VEVENT
DTSTART;TZID=America/New_York:20250419T120000
DTEND;TZID=America/New_York:20250419T133000
DTSTAMP:20260424T115149
CREATED:20250411T125852Z
LAST-MODIFIED:20250411T125854Z
UID:10001858-1745064000-1745069400@lwvspa.org
SUMMARY:April 19th Day of Action St. Pete
DESCRIPTION:PLEASE REGISTER HERE\n\n\n\n\n\n\n		EVENT DETAILS\n\n\n\n\nAnother #Resistance DAY OF ACTION with Pinellas NOW (National Organization for Women)! We will be sign-waving & chanting around the perimeter of Williams Park and surrounding intersections against the assault on our country and Constitution. \n\n\n\nThis event is in solidarity with sister events being held across the nation on April 19th to defend our freedoms\, our rights\, and our future. \n\n\n\nWhen those in power try to silence us\, we rise louder. When they attack our communities\, we fight back—together. \n\n\n\nSEEKING VOLUNTEERS: Sign up here https://forms.gle/7y22YhiAgFPBWdv98
URL:https://lwvspa.org/event/april-19th-day-of-action-st-pete/
LOCATION:Florida
END:VEVENT
BEGIN:VEVENT
DTSTART;TZID=America/New_York:20250428T160000
DTEND;TZID=America/New_York:20250428T170000
DTSTAMP:20260424T115149
CREATED:20250427T121154Z
LAST-MODIFIED:20250427T121156Z
UID:10001865-1745856000-1745859600@lwvspa.org
SUMMARY:Education Committee (With LWVNPC)
DESCRIPTION:Monthly LWVNPC/LWVSPA Education Committee Meeting via Zoom. For an invitation or to attend\, contact lwvnpc.info@gmail.com to receive an agenda. Open to all current LWV members only.
URL:https://lwvspa.org/event/education-committee-with-lwvnpc-4/
LOCATION:Florida
END:VEVENT
BEGIN:VEVENT
DTSTART;TZID=UTC:20250430T170000
DTEND;TZID=UTC:20250430T180000
DTSTAMP:20260424T115149
CREATED:20250326T214214Z
LAST-MODIFIED:20250326T214227Z
UID:10000948-1746032400-1746036000@lwvspa.org
SUMMARY:Committee on Membership
DESCRIPTION:Contact chair\, Amy Weintraub\, for more teleconference link or for more info.
URL:https://lwvspa.org/event/committee-on-membership-6/
LOCATION:Florida
END:VEVENT
BEGIN:VEVENT
DTSTART;TZID=America/New_York:20250501T163000
DTEND;TZID=America/New_York:20250501T180000
DTSTAMP:20260424T115149
CREATED:20250423T142724Z
LAST-MODIFIED:20250423T142845Z
UID:10001864-1746117000-1746122400@lwvspa.org
SUMMARY:Rush Hour #Resistance St. Petersburg
DESCRIPTION:This local LWV call to action on May 1 mirrors our national organization’s stance. LWVUS has sounded the alarm: our country is in a full-on constitutional crisis. The foundational principles that have sustained our democracy — checks and balances\, the rule of law\, free and fair elections — are under direct and sustained attack. Let’s go\, St. Petersburg! \n\n\n\nThis is a VISIBILITY EVENT to be staged on I-275 overpasses in St. Petersburg. We are asking that folks commit to a specific overpass on the registration form so that we can try to keep safe numbers in each location. \n\n\n\n\n\n		RSVP\n\n\n\n\n\n\n		Event Details
URL:https://lwvspa.org/event/rush-hour-resistance-st-petersburg/
LOCATION:Florida
END:VEVENT
BEGIN:VEVENT
DTSTART;TZID=America/New_York:20250503T100000
DTEND;TZID=America/New_York:20250503T140000
DTSTAMP:20260424T115149
CREATED:20250213T110109Z
LAST-MODIFIED:20250213T110111Z
UID:10001762-1746266400-1746280800@lwvspa.org
SUMMARY:LWVSPA Leadership Strategic Planning
DESCRIPTION:LWVSPA Leaders will gather to review progress and develop strategies to implement the League’s Program.  \n\n\n\nEmail office@lwvspa.org for more info.  \n\n\n\nMeeting is held at Amy Weintraub’s home.
URL:https://lwvspa.org/event/lwvspa-leadership-strategic-planning/
LOCATION:Florida
END:VEVENT
END:VCALENDAR