BEGIN:VCALENDAR
VERSION:2.0
PRODID:-//LWVSPA - ECPv6.15.20//NONSGML v1.0//EN
CALSCALE:GREGORIAN
METHOD:PUBLISH
X-WR-CALNAME:LWVSPA
X-ORIGINAL-URL:https://lwvspa.org
X-WR-CALDESC:Events for LWVSPA
REFRESH-INTERVAL;VALUE=DURATION:PT1H
X-Robots-Tag:noindex
X-PUBLISHED-TTL:PT1H
BEGIN:VTIMEZONE
TZID:America/New_York
BEGIN:DAYLIGHT
TZOFFSETFROM:-0500
TZOFFSETTO:-0400
TZNAME:EDT
DTSTART:20230312T070000
END:DAYLIGHT
BEGIN:STANDARD
TZOFFSETFROM:-0400
TZOFFSETTO:-0500
TZNAME:EST
DTSTART:20231105T060000
END:STANDARD
BEGIN:DAYLIGHT
TZOFFSETFROM:-0500
TZOFFSETTO:-0400
TZNAME:EDT
DTSTART:20240310T070000
END:DAYLIGHT
BEGIN:STANDARD
TZOFFSETFROM:-0400
TZOFFSETTO:-0500
TZNAME:EST
DTSTART:20241103T060000
END:STANDARD
BEGIN:DAYLIGHT
TZOFFSETFROM:-0500
TZOFFSETTO:-0400
TZNAME:EDT
DTSTART:20250309T070000
END:DAYLIGHT
BEGIN:STANDARD
TZOFFSETFROM:-0400
TZOFFSETTO:-0500
TZNAME:EST
DTSTART:20251102T060000
END:STANDARD
BEGIN:DAYLIGHT
TZOFFSETFROM:-0500
TZOFFSETTO:-0400
TZNAME:EDT
DTSTART:20260308T070000
END:DAYLIGHT
BEGIN:STANDARD
TZOFFSETFROM:-0400
TZOFFSETTO:-0500
TZNAME:EST
DTSTART:20261101T060000
END:STANDARD
END:VTIMEZONE
BEGIN:VTIMEZONE
TZID:UTC
BEGIN:STANDARD
TZOFFSETFROM:+0000
TZOFFSETTO:+0000
TZNAME:UTC
DTSTART:20230101T000000
END:STANDARD
END:VTIMEZONE
BEGIN:VEVENT
DTSTART;TZID=America/New_York:20250225T173000
DTEND;TZID=America/New_York:20250225T193000
DTSTAMP:20260424T101631
CREATED:20250127T172246Z
LAST-MODIFIED:20250221T125039Z
UID:10001760-1740504600-1740511800@lwvspa.org
SUMMARY:February Cocktails & Conversation
DESCRIPTION:We would love for you to join the League for Cocktails & Conversation\, and invite a guest or two. \n\n\n\nThese happy hours are the perfect time to relax with (or without!) a drink and enjoy some great company. \n\n\n\nThe February event will be at 3 Daughters Brewing in St. Pete. \n\n\n\n\n\n		RSVP Here!
URL:https://lwvspa.org/event/february-cocktails-conversation/
LOCATION:3 Daughters Brewing\, 222 22nd St S\, Saint Petersburg\, Florida\, 33712\, United States
END:VEVENT
BEGIN:VEVENT
DTSTART;TZID=America/New_York:20250224T180000
DTEND;TZID=America/New_York:20250224T190000
DTSTAMP:20260424T101631
CREATED:20250131T204333Z
LAST-MODIFIED:20250131T204352Z
UID:10001761-1740420000-1740423600@lwvspa.org
SUMMARY:New Member Orientation
DESCRIPTION:As one of the most active advocacy and policy education groups in Pinellas County\, the League of Women Voters’ current issues include voter engagement\, education\, and protection; environmental sustainability; social justice; reproductive rights; public schools/education; and the National Popular Vote. \n\n\n\nNew Member Orientation is designed to orient folks who are curious about the League\, as well as those who’ve been members for less than a year. \n\n\n\nOur hope is that everyone will find what interests them and get involved as expediently as possible. \n\n\n\n\n\n		RSVP for New Member Orientation
URL:https://lwvspa.org/event/new-member-orientation-2/
LOCATION:Allendale UMC\, 3803 Haines Road North\, St. Petersburg\, FL\, 33703\, United States
END:VEVENT
BEGIN:VEVENT
DTSTART;TZID=America/New_York:20250219T173000
DTEND;TZID=America/New_York:20250219T190000
DTSTAMP:20260424T101631
CREATED:20250216T002747Z
LAST-MODIFIED:20250216T002749Z
UID:10001766-1739986200-1739991600@lwvspa.org
SUMMARY:Meet the Candidates Forum: Indian Shores Municipal Election
DESCRIPTION:To help citizens make an informed decision on who they will potentially vote for in the March 11\, 2025\, Indian Shores Municipal Election\, a Meet the Candidates Forum is scheduled for Wednesday\, February 19\, 2025\, beginning with a Meet and Greet at 5:30 p.m. to 6:00 p.m.\, followed by a Candidate Forum session conducted and moderated by the League of Women Voters of the St. Petersburg Area from 6:00 p.m. to 7:00 p.m.  \n\n\n\nThis event is open to the public and will take place in the 4th Floor Community Center of Town Hall\, located at 19305 Gulf Blvd.\, Indian Shores\, FL.  \n\n\n\nCitizens may write their questions to the candidates on index cards provided at the event and give them to the Town Clerk or LWV members prior to the start of the 6:00 p.m. forum. Questions will be read aloud and the candidates will be provided time for replies.  \n\n\n\nAlternatively\, citizens may submit their questions by emailing them to flozano@myindianshores.com with “Candidate Question” in the subject line. Written questions may also be dropped off at the front desk located on the 3rd Floor of the Town Hall no later than 3:00 P.M. on February 19\, 2025. Questions received in advance of the event will be submitted to the LWV.
URL:https://lwvspa.org/event/meet-the-candidates-forum-indian-shores-municipal-election/
LOCATION:Indian Shores Town Hall\, 19305 Gulf Blvd\, Indian Shores\, Florida\, 33785\, United States
END:VEVENT
BEGIN:VEVENT
DTSTART;TZID=America/New_York:20250217T183000
DTEND;TZID=America/New_York:20250217T200000
DTSTAMP:20260424T101631
CREATED:20250218T162007Z
LAST-MODIFIED:20250620T132519Z
UID:10001886-1739817000-1739822400@lwvspa.org
SUMMARY:Board Meeting
DESCRIPTION:If any LWVSPA member wishes to address the board\, they should email the president at president@lwvspa.org to get on the agenda and to receive meeting info (such as location or Zoom login).
URL:https://lwvspa.org/event/board-meeting-4/2025-02-17/
END:VEVENT
BEGIN:VEVENT
DTSTART;TZID=America/New_York:20250212T180000
DTEND;TZID=America/New_York:20250212T200000
DTSTAMP:20260424T101631
CREATED:20250112T131536Z
LAST-MODIFIED:20250112T131538Z
UID:10001755-1739383200-1739390400@lwvspa.org
SUMMARY:DISTRICT 2 CANDIDATE FORUM
DESCRIPTION:Hosted By: The League of Women Voters of the St. Petersburg AreaZoom option available to watch\, no live participation: https://us02web.zoom.us/j/89528580521 \n\n\n\nThe League is soliciting questions from residents prior to and at the event. All questions will be selected by the League and asked by the moderator. If you would like to submit a question\, please send it to office@lwvspa.org no later than February 5\, 2025. Please put on the subject line: St. Pete Beach Candidate Forum.
URL:https://lwvspa.org/event/district-2-candidate-forum/
LOCATION:St. Pete Beach City Hall Commission Chambers\, 155 Corey Ave\, St. Pete Beach\, Florida\, 33706\, United States
END:VEVENT
BEGIN:VEVENT
DTSTART;TZID=America/New_York:20250204T170000
DTEND;TZID=America/New_York:20250204T180000
DTSTAMP:20260424T101631
CREATED:20250103T174649Z
LAST-MODIFIED:20250103T174651Z
UID:10001695-1738688400-1738692000@lwvspa.org
SUMMARY:National Popular Vote Committee
DESCRIPTION:First Tuesday of each month\, 5-6 pm.Join us as we talk strategy. First timers are welcome and all levels of experience are encouraged to join. \n\n\n\n\n\n		RSVP
URL:https://lwvspa.org/event/national-popular-vote-committee/2025-02-04/
END:VEVENT
BEGIN:VEVENT
DTSTART;TZID=America/New_York:20250203T180000
DTEND;TZID=America/New_York:20250203T190000
DTSTAMP:20260424T101631
CREATED:20241216T234524Z
LAST-MODIFIED:20260317T120223Z
UID:10002400-1738605600-1738609200@lwvspa.org
SUMMARY:Reproductive Rights Action Team Meeting
DESCRIPTION:Join us via Zoom! We meet monthly on the 1st Monday. Email office@lwvspa.org with questions. \n\n\n\n\n\n\n\n		Register for Zoom meeting
URL:https://lwvspa.org/event/reproductive-rights-action-team-meeting-5/2025-02-03/
END:VEVENT
BEGIN:VEVENT
DTSTART;TZID=America/New_York:20250201T100000
DTEND;TZID=America/New_York:20250201T120000
DTSTAMP:20260424T101631
CREATED:20241119T005240Z
LAST-MODIFIED:20241119T164259Z
UID:10001630-1738404000-1738411200@lwvspa.org
SUMMARY:Program Planning Meeting - Members Only
DESCRIPTION:RSVP for Program Planning\n\n\n\n\nEvery year\, we solicit advocacy and educational issues from our members to set our “Program”\, or priorities\, for the next League year (May – April). This process happens during Program Planning\, where teams present their issue\, its importance\, and their plan. Members vote on programs to be presented at our Annual Meeting. \n\n\n\nLight refreshments served. \n\n\n\nContact office@lwvspa.org with any questions.
URL:https://lwvspa.org/event/program-planning-meeting-members-only-2/
LOCATION:Allendale UMC\, 3803 Haines Road North\, St. Petersburg\, FL\, 33703\, United States
END:VEVENT
BEGIN:VEVENT
DTSTART;TZID=UTC:20250129T170000
DTEND;TZID=UTC:20250129T180000
DTSTAMP:20260424T101631
CREATED:20250121T144305Z
LAST-MODIFIED:20250121T144317Z
UID:10000945-1738170000-1738173600@lwvspa.org
SUMMARY:Committee on Membership
DESCRIPTION:Contact chair\, Amy Weintraub\, for more teleconference link or for more info.
URL:https://lwvspa.org/event/committee-on-membership-5/
END:VEVENT
BEGIN:VEVENT
DTSTART;TZID=America/New_York:20250127T163000
DTEND;TZID=America/New_York:20250127T173000
DTSTAMP:20260424T101631
CREATED:20241113T152458Z
LAST-MODIFIED:20241113T152501Z
UID:10001628-1737995400-1737999000@lwvspa.org
SUMMARY:Education Committee (With LWVNPC)
DESCRIPTION:Monthly LWVNPC/LWVSPA Education Committee Meeting via Zoom. For an invitation or to attend\, contact lwvnpc.info@gmail.com to receive an agenda. Open to all current LWV members only.
URL:https://lwvspa.org/event/education-committee-with-lwvnpc-3/
END:VEVENT
BEGIN:VEVENT
DTSTART;TZID=America/New_York:20250123T173000
DTEND;TZID=America/New_York:20250123T193000
DTSTAMP:20260424T101631
CREATED:20241216T230653Z
LAST-MODIFIED:20241217T145119Z
UID:10001633-1737653400-1737660600@lwvspa.org
SUMMARY:January Cocktails & Conversation
DESCRIPTION:We would love for you to join the League for Cocktails & Conversation\, and invite a guest or two. \n\n\n\nThese happy hours are the perfect time to relax with (or without!) a drink and enjoy some great company. \n\n\n\nThe January event will be at the Pierogi & Martini Bar in St. Pete. \n\n\n\nIt is a Ukrainian restaurant with plenty of plaza parking. We will have a room to ourselves. Happy Hour prices run until 6:00 p.m. – food and drinks are available for purchase. \n\n\n\n\n\n		RSVP Here!
URL:https://lwvspa.org/event/january-cocktails-conversation/
LOCATION:Pierogi Bar\, 6661 Central Ave\, St. Petersburg\, Florida\, 33710\, United States
END:VEVENT
BEGIN:VEVENT
DTSTART;TZID=America/New_York:20250122T110000
DTEND;TZID=America/New_York:20250122T120000
DTSTAMP:20260424T101631
CREATED:20250102T132254Z
LAST-MODIFIED:20250102T132257Z
UID:10001693-1737543600-1737547200@lwvspa.org
SUMMARY:Annual Roe v. Wade Visibility Event
DESCRIPTION:Corner of Central & Third in downtown St. PeteLWVSPA is co-sponsoring this rally and sign-waving visibility event\, organized annually by Pinellas NOW\, to commemorate the anniversary of the U.S. Supreme Court’s 1973 Roe v. Wade decision. \n\n\n\nGather with us at the corner of Central Avenue and 3rd Street in downtown St. Petersburg\, to take a stand for reproductive freedom. \n\n\n\nBring signs\, if you can. Otherwise\, extras will be available. \n\n\n\nFacebook event page: https://www.facebook.com/events/617398434150508
URL:https://lwvspa.org/event/annual-roe-v-wade-visibility-event/
END:VEVENT
BEGIN:VEVENT
DTSTART;TZID=America/New_York:20250120T173000
DTEND;TZID=America/New_York:20250120T183000
DTSTAMP:20260424T101631
CREATED:20250115T184902Z
LAST-MODIFIED:20250115T184903Z
UID:10001757-1737394200-1737397800@lwvspa.org
SUMMARY:New LWVSPA Program Planning Matrix: Meeting and Q&A
DESCRIPTION:https://us02web.zoom.us/j/83518161285
URL:https://lwvspa.org/event/new-lwvspa-program-planning-matrix-meeting-and-qa-2/
END:VEVENT
BEGIN:VEVENT
DTSTART;TZID=America/New_York:20250116T120000
DTEND;TZID=America/New_York:20250116T130000
DTSTAMP:20260424T101631
CREATED:20250115T182534Z
LAST-MODIFIED:20250115T182537Z
UID:10001756-1737028800-1737032400@lwvspa.org
SUMMARY:New LWVSPA Program Planning Matrix: Meeting and Q&A
DESCRIPTION:https://us02web.zoom.us/j/88419778392
URL:https://lwvspa.org/event/new-lwvspa-program-planning-matrix-meeting-and-qa/
END:VEVENT
BEGIN:VEVENT
DTSTART;TZID=UTC:20250115T183000
DTEND;TZID=UTC:20250115T193000
DTSTAMP:20260424T101631
CREATED:20210304T081922Z
LAST-MODIFIED:20260225T153810Z
UID:10000839-1736965800-1736969400@lwvspa.org
SUMMARY:Voter Services Committee
DESCRIPTION:Join with the Voter Services Leadership Team to hear about our Voter Guide\, Candidate Forums\, Voter Registration\, & Election and Voter Protection.  \n\n\n\n\n\n		Join Via Zoom
URL:https://lwvspa.org/event/voter-services-committee/2025-01-15/
END:VEVENT
BEGIN:VEVENT
DTSTART;TZID=America/New_York:20250107T170000
DTEND;TZID=America/New_York:20250107T180000
DTSTAMP:20260424T101631
CREATED:20250103T174649Z
LAST-MODIFIED:20250103T174651Z
UID:10001694-1736269200-1736272800@lwvspa.org
SUMMARY:National Popular Vote Committee
DESCRIPTION:First Tuesday of each month\, 5-6 pm.Join us as we talk strategy. First timers are welcome and all levels of experience are encouraged to join. \n\n\n\n\n\n		RSVP
URL:https://lwvspa.org/event/national-popular-vote-committee/2025-01-07/
END:VEVENT
BEGIN:VEVENT
DTSTART;TZID=America/New_York:20250106T180000
DTEND;TZID=America/New_York:20250106T190000
DTSTAMP:20260424T101631
CREATED:20241216T234524Z
LAST-MODIFIED:20260317T120223Z
UID:10002399-1736186400-1736190000@lwvspa.org
SUMMARY:Reproductive Rights Action Team Meeting
DESCRIPTION:Join us via Zoom! We meet monthly on the 1st Monday. Email office@lwvspa.org with questions. \n\n\n\n\n\n\n\n		Register for Zoom meeting
URL:https://lwvspa.org/event/reproductive-rights-action-team-meeting-5/2025-01-06/
END:VEVENT
BEGIN:VEVENT
DTSTART;TZID=America/New_York:20241230T163000
DTEND;TZID=America/New_York:20241230T173000
DTSTAMP:20260424T101631
CREATED:20241113T152420Z
LAST-MODIFIED:20241113T152422Z
UID:10001627-1735576200-1735579800@lwvspa.org
SUMMARY:Education Committee (With LWVNPC)
DESCRIPTION:Monthly LWVNPC/LWVSPA Education Committee Meeting via Zoom. For an invitation or to attend\, contact lwvnpc.info@gmail.com to receive an agenda. Open to all current LWV members only.
URL:https://lwvspa.org/event/education-committee-with-lwvnpc-2/
END:VEVENT
BEGIN:VEVENT
DTSTART;TZID=UTC:20241218T183000
DTEND;TZID=UTC:20241218T193000
DTSTAMP:20260424T101631
CREATED:20210304T081922Z
LAST-MODIFIED:20260225T153810Z
UID:10000838-1734546600-1734550200@lwvspa.org
SUMMARY:Voter Services Committee
DESCRIPTION:Join with the Voter Services Leadership Team to hear about our Voter Guide\, Candidate Forums\, Voter Registration\, & Election and Voter Protection.  \n\n\n\n\n\n		Join Via Zoom
URL:https://lwvspa.org/event/voter-services-committee/2024-12-18/
END:VEVENT
BEGIN:VEVENT
DTSTART;TZID=America/New_York:20241208T140000
DTEND;TZID=America/New_York:20241208T160000
DTSTAMP:20260424T101631
CREATED:20241113T144506Z
LAST-MODIFIED:20241113T144508Z
UID:10001625-1733666400-1733673600@lwvspa.org
SUMMARY:Holiday Party
DESCRIPTION:We hope you can join us for an afternoon of fun and celebration! This year\, we’re doing a potluck. Members only please! \n\n\n\nSee the Weekly Update email for the location and RSVP link\, or email office@lwvspa.org.
URL:https://lwvspa.org/event/holiday-party/
END:VEVENT
BEGIN:VEVENT
DTSTART;TZID=UTC:20241202T173000
DTEND;TZID=UTC:20241202T183000
DTSTAMP:20260424T101631
CREATED:20241113T143659Z
LAST-MODIFIED:20241113T172025Z
UID:10001612-1733160600-1733164200@lwvspa.org
SUMMARY:Orientation for New & Prospective League Members
DESCRIPTION:As one of the most active advocacy and policy education groups in Pinellas County\, the League of Women Voters’ current issues include voter engagement\, education\, and protection; environmental sustainability; social justice; reproductive rights; public schools/education; and the National Popular Vote. \n\n\n\nNew Member Orientation is designed to orient folks who are curious about the League\, as well as those who’ve been members for less than a year. \n\n\n\nOur hope is that everyone will find what interests them and get involved as expediently as possible. \n\n\n\n** Childcare will be offered in the Allendale nursery. If you need this service\, indicate the names and ages of your children upon registration.** \n\n\n\nRegister in advance for this meeting: \n\n\n\n\n\n		RSVP Here
URL:https://lwvspa.org/event/orientation-for-new-prospective-league-members-9/
LOCATION:Allendale UMC\, 3803 Haines Road North\, St. Petersburg\, FL\, 33703\, United States
END:VEVENT
BEGIN:VEVENT
DTSTART;TZID=America/New_York:20241127T173000
DTEND;TZID=America/New_York:20241127T183000
DTSTAMP:20260424T101631
CREATED:20241120T141636Z
LAST-MODIFIED:20241120T141701Z
UID:10001632-1732728600-1732732200@lwvspa.org
SUMMARY:Repro Rights Action Team Monthly Meeting
DESCRIPTION:We understand that November’s meeting is just before Thanksgiving. We are meeting via Zoom – it will be recorded for those who cannot make it. We plan to keep things short and sweet\, and will send out an email recap as well. \n\n\n\nRegistration is required. \n\n\n\n\n\n		Register for Zoom Meeting
URL:https://lwvspa.org/event/repro-rights-action-team-monthly-meeting/
END:VEVENT
BEGIN:VEVENT
DTSTART;TZID=America/New_York:20241125T150000
DTEND;TZID=America/New_York:20241125T163000
DTSTAMP:20260424T101631
CREATED:20241113T152334Z
LAST-MODIFIED:20241118T234443Z
UID:10001626-1732546800-1732552200@lwvspa.org
SUMMARY:Education Committee (With LWVNPC)
DESCRIPTION:Monthly LWVNPC/LWVSPA Education Committee Meeting usually meets via Zoom\, but 11/25/24 they are meeting in person! \n\n\n\nFor an invitation or to attend\, contact lwvnpc.info@gmail.com to receive an agenda. Open to all current LWV members only.
URL:https://lwvspa.org/event/education-committee-with-lwvnpc/
END:VEVENT
BEGIN:VEVENT
DTSTART;TZID=America/New_York:20241123T160000
DTEND;TZID=America/New_York:20241123T180000
DTSTAMP:20260424T101631
CREATED:20241115T171226Z
LAST-MODIFIED:20241115T171228Z
UID:10001629-1732377600-1732384800@lwvspa.org
SUMMARY:Parent Advocacy League Meeting
DESCRIPTION:This brand-new group is dedicated to providing an opportunity for parents to get involved in League work in a kid-friendly environment!Come learn about the league\, how to get involved\, meet other parent advocates\, and bring your little ones! \n\n\n\nPlease register in advance.League members are free. Prospective league members must pay the Run+Play admission fee. \n\n\n\n\n\n		RSVP Here
URL:https://lwvspa.org/event/parent-advocacy-league-meeting-5/
LOCATION:Run+Play Kids Cafe\, 3950 Central Ave\, St. Petersburg\, Florida\, 33711\, United States
END:VEVENT
BEGIN:VEVENT
DTSTART;TZID=UTC:20241120T183000
DTEND;TZID=UTC:20241120T193000
DTSTAMP:20260424T101631
CREATED:20210304T081922Z
LAST-MODIFIED:20260225T153810Z
UID:10000837-1732127400-1732131000@lwvspa.org
SUMMARY:Voter Services Committee
DESCRIPTION:Join with the Voter Services Leadership Team to hear about our Voter Guide\, Candidate Forums\, Voter Registration\, & Election and Voter Protection.  \n\n\n\n\n\n		Join Via Zoom
URL:https://lwvspa.org/event/voter-services-committee/2024-11-20/
END:VEVENT
BEGIN:VEVENT
DTSTART;TZID=UTC:20241120T170000
DTEND;TZID=UTC:20241120T180000
DTSTAMP:20260424T101631
CREATED:20241113T144153Z
LAST-MODIFIED:20241113T144204Z
UID:10000943-1732122000-1732125600@lwvspa.org
SUMMARY:Committee on Membership
DESCRIPTION:Contact chair\, Amy Weintraub\, for more teleconference link or for more info.
URL:https://lwvspa.org/event/committee-on-membership-4/
END:VEVENT
BEGIN:VEVENT
DTSTART;TZID=America/New_York:20241120T170000
DTEND;TZID=America/New_York:20241120T180000
DTSTAMP:20260424T101631
CREATED:20241110T143109Z
LAST-MODIFIED:20241110T143111Z
UID:10001611-1732122000-1732125600@lwvspa.org
SUMMARY:Sustainability Action Team Meeting
DESCRIPTION:The Sustainability Action Team is meeting at the Sanderlin Center Rain Garden. Email lauracrabtree.league@gmail.com if you need more info.
URL:https://lwvspa.org/event/sustainability-action-team-meeting-4/
LOCATION:Sanderlin Center\, 2335 22nd Ave S\, Saint Petersburg\, Florida\, 33712\, United States
END:VEVENT
BEGIN:VEVENT
DTSTART;TZID=America/New_York:20241106T173000
DTEND;TZID=America/New_York:20241106T183000
DTSTAMP:20260424T101631
CREATED:20240913T145105Z
LAST-MODIFIED:20240913T145107Z
UID:10001596-1730914200-1730917800@lwvspa.org
SUMMARY:Sustainability Action Team Meeting
DESCRIPTION:The Sustainability Action Team is meeting at the Sanderlin Center Rain Garden. Email lauracrabtree.league@gmail.com if you need more info.
URL:https://lwvspa.org/event/sustainability-action-team-meeting-3/2024-11-06/
LOCATION:Sanderlin Center\, 2335 22nd Ave S\, Saint Petersburg\, Florida\, 33712\, United States
END:VEVENT
BEGIN:VEVENT
DTSTART;TZID=America/New_York:20241029T180000
DTEND;TZID=America/New_York:20241029T190000
DTSTAMP:20260424T101631
CREATED:20241024T150257Z
LAST-MODIFIED:20241024T150259Z
UID:10001610-1730224800-1730228400@lwvspa.org
SUMMARY:What's on the Ballot in FL?
DESCRIPTION:
URL:https://lwvspa.org/event/whats-on-the-ballot-in-fl/
LOCATION:Stetson Campus – Mann Lounge\, 1401 61st St S\, Gulfport\, Florida\, 33707\, United States
END:VEVENT
BEGIN:VEVENT
DTSTART;TZID=America/New_York:20241028T163000
DTEND;TZID=America/New_York:20241028T173000
DTSTAMP:20260424T101631
CREATED:20241024T144900Z
LAST-MODIFIED:20241024T144902Z
UID:10001609-1730133000-1730136600@lwvspa.org
SUMMARY:Education Committee Meeting
DESCRIPTION:Topic: LWVNPC – LWVSPA EDUCATION MEETINGTime: Oct 28\, 2024 04:30 PM \n\n\n\nJoin Zoom Meetinghttps://us02web.zoom.us/j/81344164578?pwd=h72ryhPko4dh0bds5nVOaTEVFBrnZX.1
URL:https://lwvspa.org/event/education-committee-meeting/
END:VEVENT
END:VCALENDAR