BEGIN:VCALENDAR
VERSION:2.0
PRODID:-//LWVSPA - ECPv6.15.20//NONSGML v1.0//EN
CALSCALE:GREGORIAN
METHOD:PUBLISH
X-WR-CALNAME:LWVSPA
X-ORIGINAL-URL:https://lwvspa.org
X-WR-CALDESC:Events for LWVSPA
REFRESH-INTERVAL;VALUE=DURATION:PT1H
X-Robots-Tag:noindex
X-PUBLISHED-TTL:PT1H
BEGIN:VTIMEZONE
TZID:America/New_York
BEGIN:DAYLIGHT
TZOFFSETFROM:-0500
TZOFFSETTO:-0400
TZNAME:EDT
DTSTART:20260308T070000
END:DAYLIGHT
BEGIN:STANDARD
TZOFFSETFROM:-0400
TZOFFSETTO:-0500
TZNAME:EST
DTSTART:20261101T060000
END:STANDARD
BEGIN:DAYLIGHT
TZOFFSETFROM:-0500
TZOFFSETTO:-0400
TZNAME:EDT
DTSTART:20270314T070000
END:DAYLIGHT
BEGIN:STANDARD
TZOFFSETFROM:-0400
TZOFFSETTO:-0500
TZNAME:EST
DTSTART:20271107T060000
END:STANDARD
BEGIN:DAYLIGHT
TZOFFSETFROM:-0500
TZOFFSETTO:-0400
TZNAME:EDT
DTSTART:20280312T070000
END:DAYLIGHT
BEGIN:STANDARD
TZOFFSETFROM:-0400
TZOFFSETTO:-0500
TZNAME:EST
DTSTART:20281105T060000
END:STANDARD
END:VTIMEZONE
BEGIN:VTIMEZONE
TZID:UTC
BEGIN:STANDARD
TZOFFSETFROM:+0000
TZOFFSETTO:+0000
TZNAME:UTC
DTSTART:20260101T000000
END:STANDARD
END:VTIMEZONE
BEGIN:VEVENT
DTSTART;TZID=America/New_York:20270420T110000
DTEND;TZID=America/New_York:20270420T120000
DTSTAMP:20260424T050853
CREATED:20251009T161432Z
LAST-MODIFIED:20251009T161451Z
UID:10002184-1808218800-1808222400@lwvspa.org
SUMMARY:Communications Committee Meeting
DESCRIPTION:The LWVSPA Communications Committee meets monthly via Zoom. Email office@lwvspa.org for the link if you’d like to get involved.
URL:https://lwvspa.org/event/communications-committee-meeting-2/2027-04-20/
END:VEVENT
BEGIN:VEVENT
DTSTART;TZID=UTC:20270421T183000
DTEND;TZID=UTC:20270421T193000
DTSTAMP:20260424T050853
CREATED:20210304T081922Z
LAST-MODIFIED:20260225T153810Z
UID:10000904-1808332200-1808335800@lwvspa.org
SUMMARY:Voter Services Committee
DESCRIPTION:Join with the Voter Services Leadership Team to hear about our Voter Guide\, Candidate Forums\, Voter Registration\, & Election and Voter Protection.  \n\n\n\n\n\n		Join Via Zoom
URL:https://lwvspa.org/event/voter-services-committee/2027-04-21/
END:VEVENT
BEGIN:VEVENT
DTSTART;TZID=America/New_York:20270426T160000
DTEND;TZID=America/New_York:20270426T170000
DTSTAMP:20260424T050853
CREATED:20250827T201131Z
LAST-MODIFIED:20250827T201135Z
UID:10002113-1808755200-1808758800@lwvspa.org
SUMMARY:Education Committee (With LWVNPC)
DESCRIPTION:Monthly LWVNPC/LWVSPA Education Committee Meeting via Zoom. For an invitation or to attend\, contact lwvnpc.info@gmail.com to receive an agenda. Open to all current LWV members only.
URL:https://lwvspa.org/event/education-committee-with-lwvnpc-6/2027-04-26/
END:VEVENT
BEGIN:VEVENT
DTSTART;TZID=UTC:20270428T133000
DTEND;TZID=UTC:20270428T143000
DTSTAMP:20260424T050853
CREATED:20260120T193720Z
LAST-MODIFIED:20260120T193721Z
UID:10002295-1808919000-1808922600@lwvspa.org
SUMMARY:Committee on Membership
DESCRIPTION:Contact chair\, Amy Weintraub\, for more teleconference link or for more info.
URL:https://lwvspa.org/event/committee-on-membership-8/2027-04-28/
END:VEVENT
BEGIN:VEVENT
DTSTART;TZID=America/New_York:20270503T180000
DTEND;TZID=America/New_York:20270503T190000
DTSTAMP:20260424T050853
CREATED:20241216T234524Z
LAST-MODIFIED:20260317T120223Z
UID:10002423-1809367200-1809370800@lwvspa.org
SUMMARY:Reproductive Rights Action Team Meeting
DESCRIPTION:Join us via Zoom! We meet monthly on the 1st Monday. Email office@lwvspa.org with questions. \n\n\n\n\n\n\n\n		Register for Zoom meeting
URL:https://lwvspa.org/event/reproductive-rights-action-team-meeting-5/2027-05-03/
END:VEVENT
BEGIN:VEVENT
DTSTART;TZID=America/New_York:20270504T170000
DTEND;TZID=America/New_York:20270504T180000
DTSTAMP:20260424T050853
CREATED:20250103T174649Z
LAST-MODIFIED:20250103T174651Z
UID:10001722-1809450000-1809453600@lwvspa.org
SUMMARY:National Popular Vote Committee
DESCRIPTION:First Tuesday of each month\, 5-6 pm.Join us as we talk strategy. First timers are welcome and all levels of experience are encouraged to join. \n\n\n\n\n\n		RSVP
URL:https://lwvspa.org/event/national-popular-vote-committee/2027-05-04/
END:VEVENT
BEGIN:VEVENT
DTSTART;TZID=America/New_York:20270517T183000
DTEND;TZID=America/New_York:20270517T200000
DTSTAMP:20260424T050853
CREATED:20250218T162007Z
LAST-MODIFIED:20250620T132519Z
UID:10001911-1810578600-1810584000@lwvspa.org
SUMMARY:Board Meeting
DESCRIPTION:If any LWVSPA member wishes to address the board\, they should email the president at president@lwvspa.org to get on the agenda and to receive meeting info (such as location or Zoom login).
URL:https://lwvspa.org/event/board-meeting-4/2027-05-17/
END:VEVENT
BEGIN:VEVENT
DTSTART;TZID=America/New_York:20270518T110000
DTEND;TZID=America/New_York:20270518T120000
DTSTAMP:20260424T050853
CREATED:20251009T161432Z
LAST-MODIFIED:20251009T161451Z
UID:10002185-1810638000-1810641600@lwvspa.org
SUMMARY:Communications Committee Meeting
DESCRIPTION:The LWVSPA Communications Committee meets monthly via Zoom. Email office@lwvspa.org for the link if you’d like to get involved.
URL:https://lwvspa.org/event/communications-committee-meeting-2/2027-05-18/
END:VEVENT
BEGIN:VEVENT
DTSTART;TZID=UTC:20270519T183000
DTEND;TZID=UTC:20270519T193000
DTSTAMP:20260424T050853
CREATED:20210304T081922Z
LAST-MODIFIED:20260225T153810Z
UID:10000905-1810751400-1810755000@lwvspa.org
SUMMARY:Voter Services Committee
DESCRIPTION:Join with the Voter Services Leadership Team to hear about our Voter Guide\, Candidate Forums\, Voter Registration\, & Election and Voter Protection.  \n\n\n\n\n\n		Join Via Zoom
URL:https://lwvspa.org/event/voter-services-committee/2027-05-19/
END:VEVENT
BEGIN:VEVENT
DTSTART;TZID=America/New_York:20270524T160000
DTEND;TZID=America/New_York:20270524T170000
DTSTAMP:20260424T050853
CREATED:20250827T201131Z
LAST-MODIFIED:20250827T201135Z
UID:10002114-1811174400-1811178000@lwvspa.org
SUMMARY:Education Committee (With LWVNPC)
DESCRIPTION:Monthly LWVNPC/LWVSPA Education Committee Meeting via Zoom. For an invitation or to attend\, contact lwvnpc.info@gmail.com to receive an agenda. Open to all current LWV members only.
URL:https://lwvspa.org/event/education-committee-with-lwvnpc-6/2027-05-24/
END:VEVENT
BEGIN:VEVENT
DTSTART;TZID=UTC:20270526T133000
DTEND;TZID=UTC:20270526T143000
DTSTAMP:20260424T050853
CREATED:20260120T193720Z
LAST-MODIFIED:20260120T193721Z
UID:10002296-1811338200-1811341800@lwvspa.org
SUMMARY:Committee on Membership
DESCRIPTION:Contact chair\, Amy Weintraub\, for more teleconference link or for more info.
URL:https://lwvspa.org/event/committee-on-membership-8/2027-05-26/
END:VEVENT
BEGIN:VEVENT
DTSTART;TZID=America/New_York:20270601T170000
DTEND;TZID=America/New_York:20270601T180000
DTSTAMP:20260424T050853
CREATED:20250103T174649Z
LAST-MODIFIED:20250103T174651Z
UID:10001723-1811869200-1811872800@lwvspa.org
SUMMARY:National Popular Vote Committee
DESCRIPTION:First Tuesday of each month\, 5-6 pm.Join us as we talk strategy. First timers are welcome and all levels of experience are encouraged to join. \n\n\n\n\n\n		RSVP
URL:https://lwvspa.org/event/national-popular-vote-committee/2027-06-01/
END:VEVENT
BEGIN:VEVENT
DTSTART;TZID=America/New_York:20270607T180000
DTEND;TZID=America/New_York:20270607T190000
DTSTAMP:20260424T050853
CREATED:20241216T234524Z
LAST-MODIFIED:20260317T120223Z
UID:10002424-1812391200-1812394800@lwvspa.org
SUMMARY:Reproductive Rights Action Team Meeting
DESCRIPTION:Join us via Zoom! We meet monthly on the 1st Monday. Email office@lwvspa.org with questions. \n\n\n\n\n\n\n\n		Register for Zoom meeting
URL:https://lwvspa.org/event/reproductive-rights-action-team-meeting-5/2027-06-07/
END:VEVENT
BEGIN:VEVENT
DTSTART;TZID=America/New_York:20270615T110000
DTEND;TZID=America/New_York:20270615T120000
DTSTAMP:20260424T050853
CREATED:20251009T161432Z
LAST-MODIFIED:20251009T161451Z
UID:10002186-1813057200-1813060800@lwvspa.org
SUMMARY:Communications Committee Meeting
DESCRIPTION:The LWVSPA Communications Committee meets monthly via Zoom. Email office@lwvspa.org for the link if you’d like to get involved.
URL:https://lwvspa.org/event/communications-committee-meeting-2/2027-06-15/
END:VEVENT
BEGIN:VEVENT
DTSTART;TZID=UTC:20270616T183000
DTEND;TZID=UTC:20270616T193000
DTSTAMP:20260424T050853
CREATED:20210304T081922Z
LAST-MODIFIED:20260225T153810Z
UID:10000906-1813170600-1813174200@lwvspa.org
SUMMARY:Voter Services Committee
DESCRIPTION:Join with the Voter Services Leadership Team to hear about our Voter Guide\, Candidate Forums\, Voter Registration\, & Election and Voter Protection.  \n\n\n\n\n\n		Join Via Zoom
URL:https://lwvspa.org/event/voter-services-committee/2027-06-16/
END:VEVENT
BEGIN:VEVENT
DTSTART;TZID=America/New_York:20270621T183000
DTEND;TZID=America/New_York:20270621T200000
DTSTAMP:20260424T050853
CREATED:20250218T162007Z
LAST-MODIFIED:20250620T132519Z
UID:10001912-1813602600-1813608000@lwvspa.org
SUMMARY:Board Meeting
DESCRIPTION:If any LWVSPA member wishes to address the board\, they should email the president at president@lwvspa.org to get on the agenda and to receive meeting info (such as location or Zoom login).
URL:https://lwvspa.org/event/board-meeting-4/2027-06-21/
END:VEVENT
BEGIN:VEVENT
DTSTART;TZID=UTC:20270623T133000
DTEND;TZID=UTC:20270623T143000
DTSTAMP:20260424T050853
CREATED:20260120T193720Z
LAST-MODIFIED:20260120T193721Z
UID:10002297-1813757400-1813761000@lwvspa.org
SUMMARY:Committee on Membership
DESCRIPTION:Contact chair\, Amy Weintraub\, for more teleconference link or for more info.
URL:https://lwvspa.org/event/committee-on-membership-8/2027-06-23/
END:VEVENT
BEGIN:VEVENT
DTSTART;TZID=America/New_York:20270628T160000
DTEND;TZID=America/New_York:20270628T170000
DTSTAMP:20260424T050853
CREATED:20250827T201131Z
LAST-MODIFIED:20250827T201135Z
UID:10002115-1814198400-1814202000@lwvspa.org
SUMMARY:Education Committee (With LWVNPC)
DESCRIPTION:Monthly LWVNPC/LWVSPA Education Committee Meeting via Zoom. For an invitation or to attend\, contact lwvnpc.info@gmail.com to receive an agenda. Open to all current LWV members only.
URL:https://lwvspa.org/event/education-committee-with-lwvnpc-6/2027-06-28/
END:VEVENT
BEGIN:VEVENT
DTSTART;TZID=America/New_York:20270705T180000
DTEND;TZID=America/New_York:20270705T190000
DTSTAMP:20260424T050853
CREATED:20241216T234524Z
LAST-MODIFIED:20260317T120223Z
UID:10002425-1814810400-1814814000@lwvspa.org
SUMMARY:Reproductive Rights Action Team Meeting
DESCRIPTION:Join us via Zoom! We meet monthly on the 1st Monday. Email office@lwvspa.org with questions. \n\n\n\n\n\n\n\n		Register for Zoom meeting
URL:https://lwvspa.org/event/reproductive-rights-action-team-meeting-5/2027-07-05/
END:VEVENT
BEGIN:VEVENT
DTSTART;TZID=America/New_York:20270706T170000
DTEND;TZID=America/New_York:20270706T180000
DTSTAMP:20260424T050853
CREATED:20250103T174649Z
LAST-MODIFIED:20250103T174651Z
UID:10001724-1814893200-1814896800@lwvspa.org
SUMMARY:National Popular Vote Committee
DESCRIPTION:First Tuesday of each month\, 5-6 pm.Join us as we talk strategy. First timers are welcome and all levels of experience are encouraged to join. \n\n\n\n\n\n		RSVP
URL:https://lwvspa.org/event/national-popular-vote-committee/2027-07-06/
END:VEVENT
BEGIN:VEVENT
DTSTART;TZID=America/New_York:20270719T183000
DTEND;TZID=America/New_York:20270719T200000
DTSTAMP:20260424T050853
CREATED:20250218T162007Z
LAST-MODIFIED:20250620T132519Z
UID:10001913-1816021800-1816027200@lwvspa.org
SUMMARY:Board Meeting
DESCRIPTION:If any LWVSPA member wishes to address the board\, they should email the president at president@lwvspa.org to get on the agenda and to receive meeting info (such as location or Zoom login).
URL:https://lwvspa.org/event/board-meeting-4/2027-07-19/
END:VEVENT
BEGIN:VEVENT
DTSTART;TZID=America/New_York:20270720T110000
DTEND;TZID=America/New_York:20270720T120000
DTSTAMP:20260424T050853
CREATED:20251009T161432Z
LAST-MODIFIED:20251009T161451Z
UID:10002187-1816081200-1816084800@lwvspa.org
SUMMARY:Communications Committee Meeting
DESCRIPTION:The LWVSPA Communications Committee meets monthly via Zoom. Email office@lwvspa.org for the link if you’d like to get involved.
URL:https://lwvspa.org/event/communications-committee-meeting-2/2027-07-20/
END:VEVENT
BEGIN:VEVENT
DTSTART;TZID=UTC:20270721T183000
DTEND;TZID=UTC:20270721T193000
DTSTAMP:20260424T050853
CREATED:20210304T081922Z
LAST-MODIFIED:20260225T153810Z
UID:10000907-1816194600-1816198200@lwvspa.org
SUMMARY:Voter Services Committee
DESCRIPTION:Join with the Voter Services Leadership Team to hear about our Voter Guide\, Candidate Forums\, Voter Registration\, & Election and Voter Protection.  \n\n\n\n\n\n		Join Via Zoom
URL:https://lwvspa.org/event/voter-services-committee/2027-07-21/
END:VEVENT
BEGIN:VEVENT
DTSTART;TZID=America/New_York:20270726T160000
DTEND;TZID=America/New_York:20270726T170000
DTSTAMP:20260424T050853
CREATED:20250827T201131Z
LAST-MODIFIED:20250827T201135Z
UID:10002116-1816617600-1816621200@lwvspa.org
SUMMARY:Education Committee (With LWVNPC)
DESCRIPTION:Monthly LWVNPC/LWVSPA Education Committee Meeting via Zoom. For an invitation or to attend\, contact lwvnpc.info@gmail.com to receive an agenda. Open to all current LWV members only.
URL:https://lwvspa.org/event/education-committee-with-lwvnpc-6/2027-07-26/
END:VEVENT
BEGIN:VEVENT
DTSTART;TZID=UTC:20270728T133000
DTEND;TZID=UTC:20270728T143000
DTSTAMP:20260424T050853
CREATED:20260120T193720Z
LAST-MODIFIED:20260120T193721Z
UID:10002298-1816781400-1816785000@lwvspa.org
SUMMARY:Committee on Membership
DESCRIPTION:Contact chair\, Amy Weintraub\, for more teleconference link or for more info.
URL:https://lwvspa.org/event/committee-on-membership-8/2027-07-28/
END:VEVENT
BEGIN:VEVENT
DTSTART;TZID=America/New_York:20270802T180000
DTEND;TZID=America/New_York:20270802T190000
DTSTAMP:20260424T050853
CREATED:20241216T234524Z
LAST-MODIFIED:20260317T120223Z
UID:10002426-1817229600-1817233200@lwvspa.org
SUMMARY:Reproductive Rights Action Team Meeting
DESCRIPTION:Join us via Zoom! We meet monthly on the 1st Monday. Email office@lwvspa.org with questions. \n\n\n\n\n\n\n\n		Register for Zoom meeting
URL:https://lwvspa.org/event/reproductive-rights-action-team-meeting-5/2027-08-02/
END:VEVENT
BEGIN:VEVENT
DTSTART;TZID=America/New_York:20270803T170000
DTEND;TZID=America/New_York:20270803T180000
DTSTAMP:20260424T050853
CREATED:20250103T174649Z
LAST-MODIFIED:20250103T174651Z
UID:10001725-1817312400-1817316000@lwvspa.org
SUMMARY:National Popular Vote Committee
DESCRIPTION:First Tuesday of each month\, 5-6 pm.Join us as we talk strategy. First timers are welcome and all levels of experience are encouraged to join. \n\n\n\n\n\n		RSVP
URL:https://lwvspa.org/event/national-popular-vote-committee/2027-08-03/
END:VEVENT
BEGIN:VEVENT
DTSTART;TZID=America/New_York:20270816T183000
DTEND;TZID=America/New_York:20270816T200000
DTSTAMP:20260424T050853
CREATED:20250218T162007Z
LAST-MODIFIED:20250620T132519Z
UID:10001914-1818441000-1818446400@lwvspa.org
SUMMARY:Board Meeting
DESCRIPTION:If any LWVSPA member wishes to address the board\, they should email the president at president@lwvspa.org to get on the agenda and to receive meeting info (such as location or Zoom login).
URL:https://lwvspa.org/event/board-meeting-4/2027-08-16/
END:VEVENT
BEGIN:VEVENT
DTSTART;TZID=America/New_York:20270817T110000
DTEND;TZID=America/New_York:20270817T120000
DTSTAMP:20260424T050853
CREATED:20251009T161432Z
LAST-MODIFIED:20251009T161451Z
UID:10002188-1818500400-1818504000@lwvspa.org
SUMMARY:Communications Committee Meeting
DESCRIPTION:The LWVSPA Communications Committee meets monthly via Zoom. Email office@lwvspa.org for the link if you’d like to get involved.
URL:https://lwvspa.org/event/communications-committee-meeting-2/2027-08-17/
END:VEVENT
BEGIN:VEVENT
DTSTART;TZID=UTC:20270818T183000
DTEND;TZID=UTC:20270818T193000
DTSTAMP:20260424T050853
CREATED:20210304T081922Z
LAST-MODIFIED:20260225T153810Z
UID:10000908-1818613800-1818617400@lwvspa.org
SUMMARY:Voter Services Committee
DESCRIPTION:Join with the Voter Services Leadership Team to hear about our Voter Guide\, Candidate Forums\, Voter Registration\, & Election and Voter Protection.  \n\n\n\n\n\n		Join Via Zoom
URL:https://lwvspa.org/event/voter-services-committee/2027-08-18/
END:VEVENT
END:VCALENDAR