BEGIN:VCALENDAR
VERSION:2.0
PRODID:-//LWVSPA - ECPv6.15.20//NONSGML v1.0//EN
CALSCALE:GREGORIAN
METHOD:PUBLISH
X-WR-CALNAME:LWVSPA
X-ORIGINAL-URL:https://lwvspa.org
X-WR-CALDESC:Events for LWVSPA
REFRESH-INTERVAL;VALUE=DURATION:PT1H
X-Robots-Tag:noindex
X-PUBLISHED-TTL:PT1H
BEGIN:VTIMEZONE
TZID:UTC
BEGIN:STANDARD
TZOFFSETFROM:+0000
TZOFFSETTO:+0000
TZNAME:UTC
DTSTART:20230101T000000
END:STANDARD
END:VTIMEZONE
BEGIN:VTIMEZONE
TZID:America/New_York
BEGIN:DAYLIGHT
TZOFFSETFROM:-0500
TZOFFSETTO:-0400
TZNAME:EDT
DTSTART:20230312T070000
END:DAYLIGHT
BEGIN:STANDARD
TZOFFSETFROM:-0400
TZOFFSETTO:-0500
TZNAME:EST
DTSTART:20231105T060000
END:STANDARD
BEGIN:DAYLIGHT
TZOFFSETFROM:-0500
TZOFFSETTO:-0400
TZNAME:EDT
DTSTART:20240310T070000
END:DAYLIGHT
BEGIN:STANDARD
TZOFFSETFROM:-0400
TZOFFSETTO:-0500
TZNAME:EST
DTSTART:20241103T060000
END:STANDARD
BEGIN:DAYLIGHT
TZOFFSETFROM:-0500
TZOFFSETTO:-0400
TZNAME:EDT
DTSTART:20250309T070000
END:DAYLIGHT
BEGIN:STANDARD
TZOFFSETFROM:-0400
TZOFFSETTO:-0500
TZNAME:EST
DTSTART:20251102T060000
END:STANDARD
END:VTIMEZONE
BEGIN:VEVENT
DTSTART;TZID=UTC:20240318T173000
DTEND;TZID=UTC:20240318T183000
DTSTAMP:20260424T085716
CREATED:20230807T124321Z
LAST-MODIFIED:20240306T145528Z
UID:10001004-1710783000-1710786600@lwvspa.org
SUMMARY:Team Leads Quarterly Meeting
DESCRIPTION:The Board holds quarterly conversations so we can better coordinate across the organization. We’d like all action team and program leads to attend these meetings – board members and team members are always welcome! Email office@lwvspa.org for more info.
URL:https://lwvspa.org/event/team-leads-quarterly-meeting-2/2024-03-18/
LOCATION:Join by phone ‪(US) +1 970-439-4031‬ PIN: ‪153 751 894‬#
END:VEVENT
BEGIN:VEVENT
DTSTART;TZID=America/New_York:20240318T183000
DTEND;TZID=America/New_York:20240318T200000
DTSTAMP:20260424T085716
CREATED:20240112T191823Z
LAST-MODIFIED:20240306T145725Z
UID:10001476-1710786600-1710792000@lwvspa.org
SUMMARY:Board Meeting
DESCRIPTION:Email office@lwvspa.org for details.
URL:https://lwvspa.org/event/board-meeting-3/2024-03-18/
END:VEVENT
BEGIN:VEVENT
DTSTART;TZID=America/New_York:20240319T173000
DTEND;TZID=America/New_York:20240319T183000
DTSTAMP:20260424T085716
CREATED:20240314T141055Z
LAST-MODIFIED:20240314T141057Z
UID:10001494-1710869400-1710873000@lwvspa.org
SUMMARY:Reproductive Rights Action Team Meeting
DESCRIPTION:Join via Zoom:https://us02web.zoom.us/j/82652669358?pwd=dm1UVGZlK1FsMzl6MDZSVUhpQysrUT09 \n\n\n\nMeeting ID: 826 5266 9358Passcode: 825197
URL:https://lwvspa.org/event/reproductive-rights-action-team-meeting-2/
END:VEVENT
BEGIN:VEVENT
DTSTART;TZID=UTC:20240320T180000
DTEND;TZID=UTC:20240320T190000
DTSTAMP:20260424T085716
CREATED:20240209T161705Z
LAST-MODIFIED:20240209T161707Z
UID:10001485-1710957600-1710961200@lwvspa.org
SUMMARY:Orientation for New & Prospective League Members
DESCRIPTION:Get Plugged Into the League’s Work! As one of the most active advocacy and policy education groups in Pinellas County\, the League’s current issues include voter engagement\, environmental sustainability\, reproductive rights\, and more. Come learn about the League’s strategies to influence change and how you can join in!  \n\n\n\nOur New Member Orientation is designed to orient folks who are curious about the League\, as well as those who’ve been members for less than a year. Our hope is that everyone will find what interests them and get involved as expediently as possible. \n\n\n\nRegister in advance for this meeting: \n\n\n\n\n\n		Register
URL:https://lwvspa.org/event/orientation-for-new-prospective-league-members-6/
LOCATION:Allendale UMC\, 3803 Haines Road North\, St. Petersburg\, FL\, 33703\, United States
END:VEVENT
BEGIN:VEVENT
DTSTART;TZID=UTC:20240320T183000
DTEND;TZID=UTC:20240320T193000
DTSTAMP:20260424T085716
CREATED:20210304T081922Z
LAST-MODIFIED:20260225T153810Z
UID:10000829-1710959400-1710963000@lwvspa.org
SUMMARY:Voter Services Committee
DESCRIPTION:Join with the Voter Services Leadership Team to hear about our Voter Guide\, Candidate Forums\, Voter Registration\, & Election and Voter Protection.  \n\n\n\n\n\n		Join Via Zoom
URL:https://lwvspa.org/event/voter-services-committee/2024-03-20/
END:VEVENT
BEGIN:VEVENT
DTSTART;TZID=UTC:20240327T170000
DTEND;TZID=UTC:20240327T180000
DTSTAMP:20260424T085716
CREATED:20210130T033331Z
LAST-MODIFIED:20231113T115936Z
UID:10000935-1711558800-1711562400@lwvspa.org
SUMMARY:Committee on Membership
DESCRIPTION:Contact chair\, Amy Weintraub\, for more teleconference link or for more info.
URL:https://lwvspa.org/event/committee-on-membership-2-2023-05-24/2024-03-27/
END:VEVENT
BEGIN:VEVENT
DTSTART;TZID=America/New_York:20240410T173000
DTEND;TZID=America/New_York:20240410T183000
DTSTAMP:20260424T085716
CREATED:20240130T165923Z
LAST-MODIFIED:20240305T100948Z
UID:10001489-1712770200-1712773800@lwvspa.org
SUMMARY:Sustainability Action Team Meeting
DESCRIPTION:The Sustainability Action Team is meeting at the Sanderlin Center Rain Garden. Email lauracrabtree.league@gmail.com if you need more info.
URL:https://lwvspa.org/event/sustainability-action-team-meeting/2024-04-10/
LOCATION:Sanderlin Center\, 2335 22nd Ave S\, Saint Petersburg\, Florida\, 33712\, United States
END:VEVENT
BEGIN:VEVENT
DTSTART;TZID=America/New_York:20240414T120000
DTEND;TZID=America/New_York:20240414T140000
DTSTAMP:20260424T085716
CREATED:20240130T123847Z
LAST-MODIFIED:20240304T110830Z
UID:10001481-1713096000-1713103200@lwvspa.org
SUMMARY:Annual Meeting and Luncheon
DESCRIPTION:Register for the Annual Meeting\n\n\n\n\n\n\n\n\n\nBuy Raffle Tickets\n\n\n\n\n\n\n\n\nBusiness meeting: 12:30-1:30 pm in the Club House \n\n\n\nShuffleboard fun available: 1:00-2:00 pm on the Courts \n\n\n\nLuncheon: 2:00 pm in the Bridge Room \n\n\n\nLuncheon Keynote Speaker: Lauren Brenzel\, Director of Floridians Protecting Freedom \n\n\n\nRaffle: We’re having a fun raffle which will offer a variety of gift cards and other items from generous area restaurants and shops. All proceeds will go to the League’s operating fund and to our efforts to make democracy work. \n\n\n\nNEEDED: GREAT STUFFIn addition to being a fun and informative event for members and supporters\, the Annual Meeting & Luncheon is our most significant fundraiser each year. As part of the event\, a raffle and a silent auction (with a few very special curated items) will offer unique opportunities to support our League. By donating silent auction items\, you can make a significant impact with minimal effort. From high-end experiences like vacation packages or spa days\, to practical items like kitchen appliances or sporting equipment\, your contribution will help the League.  If you have items to be considered for raffle or auction\, please email Kris McTaggart kjmctaggart@comcast.net.NEEDED: EVENT VOLUNTEERSAre you able to help with set up and/or take down of this event? If so\, follow this link to volunteer:http://tinyurl.com/LuncheonVolunteer
URL:https://lwvspa.org/event/annual-meeting-and-luncheon/
LOCATION:St. Petersburg Shuffleboard Club\, 559 Mirror Lake Dr. N.\, St. Petersburg\, Florida\, 33701
END:VEVENT
BEGIN:VEVENT
DTSTART;TZID=America/New_York:20240415T183000
DTEND;TZID=America/New_York:20240415T200000
DTSTAMP:20260424T085716
CREATED:20240112T191823Z
LAST-MODIFIED:20240306T145725Z
UID:10001477-1713205800-1713211200@lwvspa.org
SUMMARY:Board Meeting
DESCRIPTION:Email office@lwvspa.org for details.
URL:https://lwvspa.org/event/board-meeting-3/2024-04-15/
END:VEVENT
BEGIN:VEVENT
DTSTART;TZID=UTC:20240417T183000
DTEND;TZID=UTC:20240417T193000
DTSTAMP:20260424T085716
CREATED:20210304T081922Z
LAST-MODIFIED:20260225T153810Z
UID:10000830-1713378600-1713382200@lwvspa.org
SUMMARY:Voter Services Committee
DESCRIPTION:Join with the Voter Services Leadership Team to hear about our Voter Guide\, Candidate Forums\, Voter Registration\, & Election and Voter Protection.  \n\n\n\n\n\n		Join Via Zoom
URL:https://lwvspa.org/event/voter-services-committee/2024-04-17/
END:VEVENT
BEGIN:VEVENT
DTSTART;TZID=UTC:20240424T170000
DTEND;TZID=UTC:20240424T180000
DTSTAMP:20260424T085716
CREATED:20210130T033331Z
LAST-MODIFIED:20231113T115936Z
UID:10000936-1713978000-1713981600@lwvspa.org
SUMMARY:Committee on Membership
DESCRIPTION:Contact chair\, Amy Weintraub\, for more teleconference link or for more info.
URL:https://lwvspa.org/event/committee-on-membership-2-2023-05-24/2024-04-24/
END:VEVENT
BEGIN:VEVENT
DTSTART;TZID=America/New_York:20240508T180000
DTEND;TZID=America/New_York:20240508T190000
DTSTAMP:20260424T085716
CREATED:20240417T135204Z
LAST-MODIFIED:20240417T135333Z
UID:10001496-1715191200-1715194800@lwvspa.org
SUMMARY:We Dissent: Reproductive Freedoms Lost & How to Take Them Back
DESCRIPTION:Please join the League of Women Voters of the St. Petersburg Area on Wednesday\, May 8th\, 2024\, from 6 – 7:15 PM as it hosts an exciting virtual panel featuring Louis Virelli\, Professor of Law at Stetson College of Law\, and Alyssa Morrison\, Reproductive Rights Justice Staff Attorney at Lawyers for Good Government. These constitutional law experts will take us through an accelerated timeline of the federal and state events that restricted our reproductive freedoms and discuss where these freedoms may be headed next. While our panelist are legal experts\, there’s no need for you to be an expert to attend. Please come prepared with questions to ask during the live Q&A. You can also submit questions you would like the panelists to cover prior to the event here: https://www.surveymonkey.com/r/G2NCV8H.   \n\n\n\nThe League of Women Voters is a nonpartisan\, grassroots organization working to protect and expand voting rights and ensure everyone is represented in our democracy. For women\, a right to choose is a fundamental right that impacts all civic decisions. Without the ability to make reproductive decisions for one’s own body\, women and those who can become pregnant cannot participate equally in our democracy. The League of Women Voters of Florida Board of Directors has voted to support Floridians Protecting Freedom’s #YesOn4 citizen initiative effort. To learn more about this initiative\, visit floridiansprotectingfreedom.com \n\n\n\n\n\n		Register Here
URL:https://lwvspa.org/event/we-dissent-reproductive-freedoms-lost-how-to-take-them-back/
END:VEVENT
BEGIN:VEVENT
DTSTART;TZID=America/New_York:20240515T173000
DTEND;TZID=America/New_York:20240515T183000
DTSTAMP:20260424T085716
CREATED:20240130T165923Z
LAST-MODIFIED:20240305T100948Z
UID:10001490-1715794200-1715797800@lwvspa.org
SUMMARY:Sustainability Action Team Meeting
DESCRIPTION:The Sustainability Action Team is meeting at the Sanderlin Center Rain Garden. Email lauracrabtree.league@gmail.com if you need more info.
URL:https://lwvspa.org/event/sustainability-action-team-meeting/2024-05-15/
LOCATION:Sanderlin Center\, 2335 22nd Ave S\, Saint Petersburg\, Florida\, 33712\, United States
END:VEVENT
BEGIN:VEVENT
DTSTART;TZID=UTC:20240515T183000
DTEND;TZID=UTC:20240515T193000
DTSTAMP:20260424T085716
CREATED:20210304T081922Z
LAST-MODIFIED:20260225T153810Z
UID:10000831-1715797800-1715801400@lwvspa.org
SUMMARY:Voter Services Committee
DESCRIPTION:Join with the Voter Services Leadership Team to hear about our Voter Guide\, Candidate Forums\, Voter Registration\, & Election and Voter Protection.  \n\n\n\n\n\n		Join Via Zoom
URL:https://lwvspa.org/event/voter-services-committee/2024-05-15/
END:VEVENT
BEGIN:VEVENT
DTSTART;TZID=America/New_York:20240520T183000
DTEND;TZID=America/New_York:20240520T200000
DTSTAMP:20260424T085716
CREATED:20240112T191823Z
LAST-MODIFIED:20240306T145725Z
UID:10001492-1716229800-1716235200@lwvspa.org
SUMMARY:Board Meeting
DESCRIPTION:Email office@lwvspa.org for details.
URL:https://lwvspa.org/event/board-meeting-3/2024-05-20/
END:VEVENT
BEGIN:VEVENT
DTSTART;TZID=America/New_York:20240521T173000
DTEND;TZID=America/New_York:20240521T193000
DTSTAMP:20260424T085716
CREATED:20240327T161830Z
LAST-MODIFIED:20240504T223702Z
UID:10001495-1716312600-1716319800@lwvspa.org
SUMMARY:Cocktails & Conversation
DESCRIPTION:We would love for you to join the League for Cocktails & Conversation\, and invite a guest or two. Bring the most prospects to  C&C\, and you can win a LWV coffee mug!   \n\n\n\nThese happy hours are the perfect time to relax with (or without!) a drink and enjoy some great company\, and introduce someone to the many benefits of joining the League.  \n\n\n\nJust an easy\, casual evening out – the perfect mid-week pick-me-up! \n\n\n\nFree parking is available at the restaurant or at the ground lot on north side of 15th Ave S between 3rd St S & 2nd St S. \n\n\n\n\nWe hope to see you there! \n\n\n\n\n\nRegister Here!
URL:https://lwvspa.org/event/cocktails-conversation-7/
LOCATION:The Big Catch at Salt Creek\, 1500 2nd St S\, Saint Petersburg\, Florida\, 33701\, United States
END:VEVENT
BEGIN:VEVENT
DTSTART;TZID=UTC:20240522T170000
DTEND;TZID=UTC:20240522T180000
DTSTAMP:20260424T085716
CREATED:20210130T033331Z
LAST-MODIFIED:20231113T115936Z
UID:10000937-1716397200-1716400800@lwvspa.org
SUMMARY:Committee on Membership
DESCRIPTION:Contact chair\, Amy Weintraub\, for more teleconference link or for more info.
URL:https://lwvspa.org/event/committee-on-membership-2-2023-05-24/2024-05-22/
END:VEVENT
BEGIN:VEVENT
DTSTART;TZID=America/New_York:20240605T180000
DTEND;TZID=America/New_York:20240605T191500
DTSTAMP:20260424T085716
CREATED:20240522T153313Z
LAST-MODIFIED:20240522T153313Z
UID:10001499-1717610400-1717614900@lwvspa.org
SUMMARY:Virtual Panel: "The Real Cost: Stories of Health and Fertility Lost in the Wake of Extreme Abortion Laws"
DESCRIPTION:Join the St. Petersburg League of Women Voters’ Reproductive Rights Action Team for the second monthly virtual panel discussion. This month will feature Dr. Lara Hart and Michelle Grimsley Shindano. \n\n\n\nDr. Hart is an Obstetrician/Gynecologist practicing in Georgia. Dr. Hart will discuss the impact of Georgia’s abortion ban\, including stories of her own patients who nearly lost their own lives as well as their pregnancies\, due to confusion surrounding these bans. \n\n\n\nMichelle Grimsley\, Director of Public Policy with Florida Alliance of Planned Parenthood Affiliates will discuss Florida’s version of a near total abortion ban and its impacts\, particularly on Planned Parenthood health centers. She will also offer an update on the Yes on 4 campaign. \n\n\n\n\n\n\n\n\n\n		Register for the Virtual Panel
URL:https://lwvspa.org/event/virtual-panel-the-real-cost-stories-of-health-and-fertility-lost-in-the-wake-of-extreme-abortion-laws/
END:VEVENT
BEGIN:VEVENT
DTSTART;TZID=America/New_York:20240613T170000
DTEND;TZID=America/New_York:20240613T190000
DTSTAMP:20260424T085716
CREATED:20240507T141633Z
LAST-MODIFIED:20240507T141635Z
UID:10001498-1718298000-1718305200@lwvspa.org
SUMMARY:League of Women Voters All-Member Meeting for Tampa Bay Area Leagues
DESCRIPTION:Get updates on the League’s work at the state level from LWV of FL Co-President Debbie Chandler\, and learn about the important work that your local Tampa Bay Area leagues are doing! \n\n\n\nCo-hosted by the League of Women Voters of the St. Pete Area\, the League of Women Voters of North Pinellas County\, the League of Women Voters of Hillsborough and Pasco Counties\, and the League of Women Voters of Manatee County. \n\n\n\n\n\n		Register Here
URL:https://lwvspa.org/event/league-of-women-voters-all-member-meeting-for-tampa-bay-area-leagues/
LOCATION:Allendale UMC\, 3803 Haines Road North\, St. Petersburg\, FL\, 33703\, United States
END:VEVENT
BEGIN:VEVENT
DTSTART;TZID=UTC:20240617T173000
DTEND;TZID=UTC:20240617T183000
DTSTAMP:20260424T085716
CREATED:20230807T124321Z
LAST-MODIFIED:20240306T145528Z
UID:10001491-1718645400-1718649000@lwvspa.org
SUMMARY:Team Leads Quarterly Meeting
DESCRIPTION:The Board holds quarterly conversations so we can better coordinate across the organization. We’d like all action team and program leads to attend these meetings – board members and team members are always welcome! Email office@lwvspa.org for more info.
URL:https://lwvspa.org/event/team-leads-quarterly-meeting-2/2024-06-17/
LOCATION:Join by phone ‪(US) +1 970-439-4031‬ PIN: ‪153 751 894‬#
END:VEVENT
BEGIN:VEVENT
DTSTART;TZID=America/New_York:20240617T183000
DTEND;TZID=America/New_York:20240617T200000
DTSTAMP:20260424T085716
CREATED:20240112T191823Z
LAST-MODIFIED:20240306T145725Z
UID:10001493-1718649000-1718654400@lwvspa.org
SUMMARY:Board Meeting
DESCRIPTION:Email office@lwvspa.org for details.
URL:https://lwvspa.org/event/board-meeting-3/2024-06-17/
END:VEVENT
BEGIN:VEVENT
DTSTART;TZID=UTC:20240619T183000
DTEND;TZID=UTC:20240619T193000
DTSTAMP:20260424T085716
CREATED:20210304T081922Z
LAST-MODIFIED:20260225T153810Z
UID:10000832-1718821800-1718825400@lwvspa.org
SUMMARY:Voter Services Committee
DESCRIPTION:Join with the Voter Services Leadership Team to hear about our Voter Guide\, Candidate Forums\, Voter Registration\, & Election and Voter Protection.  \n\n\n\n\n\n		Join Via Zoom
URL:https://lwvspa.org/event/voter-services-committee/2024-06-19/
END:VEVENT
BEGIN:VEVENT
DTSTART;TZID=UTC:20240625T180000
DTEND;TZID=UTC:20240625T190000
DTSTAMP:20260424T085716
CREATED:20240424T213605Z
LAST-MODIFIED:20240424T213605Z
UID:10001497-1719338400-1719342000@lwvspa.org
SUMMARY:Orientation for New & Prospective League Members
DESCRIPTION:As one of the most active advocacy and policy education groups in Pinellas County\, the League of Women Voters’ current issues include voter engagement\, education\, and protection; environmental sustainability; social justice; reproductive rights; public schools/education; and the National Popular Vote.  \n\n\n\nNew Member Orientation is designed to orient folks who are curious about the League\, as well as those who’ve been members for less than a year. Our hope is that everyone will find what interests them and get involved as expediently as possible. \n\n\n\nRegister in advance for this meeting: \n\n\n\n\n\n		Register Here
URL:https://lwvspa.org/event/orientation-for-new-prospective-league-members-7/
LOCATION:Allendale UMC\, 3803 Haines Road North\, St. Petersburg\, FL\, 33703\, United States
END:VEVENT
BEGIN:VEVENT
DTSTART;TZID=UTC:20240626T170000
DTEND;TZID=UTC:20240626T180000
DTSTAMP:20260424T085716
CREATED:20210130T033331Z
LAST-MODIFIED:20231113T115936Z
UID:10000938-1719421200-1719424800@lwvspa.org
SUMMARY:Committee on Membership
DESCRIPTION:Contact chair\, Amy Weintraub\, for more teleconference link or for more info.
URL:https://lwvspa.org/event/committee-on-membership-2-2023-05-24/2024-06-26/
END:VEVENT
BEGIN:VEVENT
DTSTART;TZID=America/New_York:20240626T173000
DTEND;TZID=America/New_York:20240626T190000
DTSTAMP:20260424T085716
CREATED:20240614T163906Z
LAST-MODIFIED:20240614T163906Z
UID:10001500-1719423000-1719428400@lwvspa.org
SUMMARY:June Cocktails & Conversation
DESCRIPTION:Keeping with the trend of moving the location all around the St. Pete Area\, June’s C&C is scheduled at PeePa’s Garage and Craft Brewery\, 6340 49th St N. Wednesday June 26\, 5:30-7 pm. Plenty of parking on site\, food truck available for lite bites or dinner. They run a Corn Hole Tournament every Wed. at 7 pm\, if you wish to stick around and strut your tossing skills. Please bring a guest or two\, prospective members or pals who just want to learn more about LWV mission and actions. A mug will be awarded to the member who brings the most guests (or drawn for if we have a tie situation). \n\n\n\n\n\n		RSVP Here
URL:https://lwvspa.org/event/june-cocktails-conversation/
LOCATION:Pee-Pa’s Garage Craft Brewery\, 6340 49th St N\, Pinellas Park\, Florida\, 33781\, United States
END:VEVENT
BEGIN:VEVENT
DTSTART;TZID=America/New_York:20240709T170000
DTEND;TZID=America/New_York:20240709T180000
DTSTAMP:20260424T085716
CREATED:20240614T164103Z
LAST-MODIFIED:20240614T164103Z
UID:10001501-1720544400-1720548000@lwvspa.org
SUMMARY:National Popular Vote: Making sure every voice is heard
DESCRIPTION:Join us as we discuss the current electoral system\, what the implementation of the National Popular Vote Interstate Compact would mean\, and how to lobby your legislators on this\, or any other\, cause. This is a hybrid event: you can attend in-person or via Zoom. \n\n\n\n\n\n		RSVP Here
URL:https://lwvspa.org/event/national-popular-vote-making-sure-every-voice-is-heard/
LOCATION:Allendale UMC\, 3803 Haines Road North\, St. Petersburg\, FL\, 33703\, United States
END:VEVENT
BEGIN:VEVENT
DTSTART;TZID=America/New_York:20240710T180000
DTEND;TZID=America/New_York:20240710T191500
DTSTAMP:20260424T085716
CREATED:20240626T141220Z
LAST-MODIFIED:20240626T141220Z
UID:10001503-1720634400-1720638900@lwvspa.org
SUMMARY:Reproductive Resilience: Realities in a Pre-Roe and Post-Roe World
DESCRIPTION:Please join the St. Petersburg League of Women Voters’ Reproductive Rights Action Team for its third monthly virtual panel discussion\, Reproductive Resilience: Realities in a Pre-Roe and Post-Roe World. If you cannot attend live\, the event will be recorded and emailed out to all registered. \n\n\n\nThis month\, we will be joined by Sue Lehrer\, PhD\, CSW\, who will share a story of her family’s experience with abortion care pre-Roe. Sue has been in healthcare since the age of 8 when her military Dad was diagnosed with MS. Making lemonade out of lemons\, Sue got her degrees and helped build out the continuum of care in the U.S. (respite\, adult day care\, hospice\, assisted living\, memory care and retirement communities).  For a decade she has been a pro bono nonpartisan citizen lobbyist for AARP and is passionate about equal access to medical care\, medications and other support services for all. We will also allow time for audience members to share their stories\, with anonymity possible. \n\n\n\nAfter Sue and members have shared their stories\, Marla Neufeld will walk us through the legal barriers that existed (after Roe) and continue to exist (after Dobbs) in the world of family planning. Marla is a partner in Greenspoon Marder’s Surrogacy and Assisted Reproductive Technology practice group\, which she founded. She represents parties working with a surrogate\, egg\, sperm or embryo donor. Marla experienced her own infertility journey for many years and ultimately worked with a gestational surrogate to build her family. She focuses on helping others start a family using the available third-party reproductive technologies and adoption laws. She is passionate about reproductive rights. \n\n\n\n\n\n		Register
URL:https://lwvspa.org/event/reproductive-resilience-realities-in-a-pre-roe-and-post-roe-world/
END:VEVENT
BEGIN:VEVENT
DTSTART;TZID=UTC:20240717T183000
DTEND;TZID=UTC:20240717T193000
DTSTAMP:20260424T085716
CREATED:20210304T081922Z
LAST-MODIFIED:20260225T153810Z
UID:10000833-1721241000-1721244600@lwvspa.org
SUMMARY:Voter Services Committee
DESCRIPTION:Join with the Voter Services Leadership Team to hear about our Voter Guide\, Candidate Forums\, Voter Registration\, & Election and Voter Protection.  \n\n\n\n\n\n		Join Via Zoom
URL:https://lwvspa.org/event/voter-services-committee/2024-07-17/
END:VEVENT
BEGIN:VEVENT
DTSTART;TZID=America/New_York:20240722T080000
DTEND;TZID=America/New_York:20240722T170000
DTSTAMP:20260424T085716
CREATED:20240717T155850Z
LAST-MODIFIED:20240717T155853Z
UID:10001510-1721635200-1721667600@lwvspa.org
SUMMARY:Deadline to register to vote in the Florida primary election
DESCRIPTION:July 22nd is the deadline to register to vote and/or update your party affiliation for the August 20th Florida primary election. \n\n\n\nRegister or update your registration here: https://registertovoteflorida.gov/home
URL:https://lwvspa.org/event/deadline-to-register-to-vote-in-the-florida-primary-election/
END:VEVENT
BEGIN:VEVENT
DTSTART;TZID=America/New_York:20240722T183000
DTEND;TZID=America/New_York:20240722T200000
DTSTAMP:20260424T085716
CREATED:20240717T160335Z
LAST-MODIFIED:20240717T161101Z
UID:10001513-1721673000-1721678400@lwvspa.org
SUMMARY:Pinellas School Board Candidate Forum
DESCRIPTION:School Board Candidate Forum \n\n\n\nMonday\, July 22nd – 6:30 PM \n\n\n\nPinellas Realtors Organization 4590 Ulmerton Rd\, Pinellas Park\, FL 33762 \n\n\n\n7 candidates who are running for 3 open seats have been invited. Al Ruechel will moderate the forum. \n\n\n\nThe open seats include one countywide seat\, a district 4 (north county) seat and a district 5 (mid county) seat. \n\n\n\nSchool Board elections will be on the August 20th ballot. At least two of these races will be decided in August!  \n\n\n\nPlease submit questions to candidates@pccpta.org
URL:https://lwvspa.org/event/pinellas-school-board-candidate-forum/
END:VEVENT
END:VCALENDAR