BEGIN:VCALENDAR
VERSION:2.0
PRODID:-//LWVSPA - ECPv6.15.20//NONSGML v1.0//EN
CALSCALE:GREGORIAN
METHOD:PUBLISH
X-WR-CALNAME:LWVSPA
X-ORIGINAL-URL:https://lwvspa.org
X-WR-CALDESC:Events for LWVSPA
REFRESH-INTERVAL;VALUE=DURATION:PT1H
X-Robots-Tag:noindex
X-PUBLISHED-TTL:PT1H
BEGIN:VTIMEZONE
TZID:America/New_York
BEGIN:DAYLIGHT
TZOFFSETFROM:-0500
TZOFFSETTO:-0400
TZNAME:EDT
DTSTART:20230312T070000
END:DAYLIGHT
BEGIN:STANDARD
TZOFFSETFROM:-0400
TZOFFSETTO:-0500
TZNAME:EST
DTSTART:20231105T060000
END:STANDARD
BEGIN:DAYLIGHT
TZOFFSETFROM:-0500
TZOFFSETTO:-0400
TZNAME:EDT
DTSTART:20240310T070000
END:DAYLIGHT
BEGIN:STANDARD
TZOFFSETFROM:-0400
TZOFFSETTO:-0500
TZNAME:EST
DTSTART:20241103T060000
END:STANDARD
BEGIN:DAYLIGHT
TZOFFSETFROM:-0500
TZOFFSETTO:-0400
TZNAME:EDT
DTSTART:20250309T070000
END:DAYLIGHT
BEGIN:STANDARD
TZOFFSETFROM:-0400
TZOFFSETTO:-0500
TZNAME:EST
DTSTART:20251102T060000
END:STANDARD
END:VTIMEZONE
BEGIN:VEVENT
DTSTART;TZID=America/New_York:20241001T174500
DTEND;TZID=America/New_York:20241001T190000
DTSTAMP:20260425T194050
CREATED:20240904T172106Z
LAST-MODIFIED:20240904T172129Z
UID:10001588-1727804700-1727809200@lwvspa.org
SUMMARY:LWVSPA All-Member Meeting: Let's Tour the Supervisor of Elections Office
DESCRIPTION:For our October meeting\, we will gather at the Pinellas County Supervisor of Elections office where we will hear from senior staff on their goals and programs to ensure equal access to voter registration and ballots and transparency of the electoral process. We will have a tour of their operations. \n\n\n\nThis meeting is open to League members only and registration is required. \n\n\n\n\n\n		RSVP for the All-Member Meeting
URL:https://lwvspa.org/event/lwvspa-all-member-meeting-lets-tour-the-supervisor-of-elections-office-2/
LOCATION:Pinellas Election Service Center\, 13001 Starkey Rd.\, Largo\, Florida\, 33773\, United States
END:VEVENT
BEGIN:VEVENT
DTSTART;TZID=America/New_York:20241002T180000
DTEND;TZID=America/New_York:20241002T190000
DTSTAMP:20260425T194050
CREATED:20240913T145105Z
LAST-MODIFIED:20240913T145107Z
UID:10001595-1727892000-1727895600@lwvspa.org
SUMMARY:Sustainability Action Team Meeting
DESCRIPTION:The Sustainability Action Team is meeting at the Sanderlin Center Rain Garden. Email lauracrabtree.league@gmail.com if you need more info.
URL:https://lwvspa.org/event/sustainability-action-team-meeting-3/2024-10-02/
LOCATION:Sanderlin Center\, 2335 22nd Ave S\, Saint Petersburg\, Florida\, 33712\, United States
END:VEVENT
BEGIN:VEVENT
DTSTART;TZID=America/New_York:20241005T100000
DTEND;TZID=America/New_York:20241005T160000
DTSTAMP:20260425T194050
CREATED:20240913T143520Z
LAST-MODIFIED:20240918T172502Z
UID:10001592-1728122400-1728144000@lwvspa.org
SUMMARY:Yes on 4 Weekend of Action "Signed\, Sealed\, and Delivered"
DESCRIPTION:Canvass and REACH App Power Hour \n\n\n\n\n\nSign up for a variety of voter outreach activities during this Weekend of Action. \n\n\n\n·       Sat\, Oct 5 registration: https://www.mobilize.us/yes4florida/event/692085/ \n\n\n\n·       Sun\, Oct 6 registration: https://www.mobilize.us/yes4florida/event/692090/
URL:https://lwvspa.org/event/yes-on-4-weekend-of-action-signed-sealed-and-delivered/2024-10-05/
END:VEVENT
BEGIN:VEVENT
DTSTART;TZID=America/New_York:20241006T100000
DTEND;TZID=America/New_York:20241006T160000
DTSTAMP:20260425T194050
CREATED:20240913T143520Z
LAST-MODIFIED:20240918T172502Z
UID:10001593-1728208800-1728230400@lwvspa.org
SUMMARY:Yes on 4 Weekend of Action "Signed\, Sealed\, and Delivered"
DESCRIPTION:Canvass and REACH App Power Hour \n\n\n\n\n\nSign up for a variety of voter outreach activities during this Weekend of Action. \n\n\n\n·       Sat\, Oct 5 registration: https://www.mobilize.us/yes4florida/event/692085/ \n\n\n\n·       Sun\, Oct 6 registration: https://www.mobilize.us/yes4florida/event/692090/
URL:https://lwvspa.org/event/yes-on-4-weekend-of-action-signed-sealed-and-delivered/2024-10-06/
END:VEVENT
BEGIN:VEVENT
DTSTART;TZID=America/New_York:20241007T190000
DTEND;TZID=America/New_York:20241007T200000
DTSTAMP:20260425T194050
CREATED:20241004T163724Z
LAST-MODIFIED:20241004T163725Z
UID:10001604-1728327600-1728331200@lwvspa.org
SUMMARY:Make a Difference from Home: Reach App Training To Encourage Voter Turnout
DESCRIPTION:Presenter: Amy Weintraub\, League of Women Voters of St. Pete Area \n\n\n\n\n\n		RSVP\n\n\n\n\nWith only weeks left before the election\, every conversation counts! Join us for a virtual training to learn how you can use Reach\, a relational organizing app\, to start conversations around Amendment 4 with people you already know. Using the app\, you will easily support Yes on 4 and ensure people within your circle of influence are voting. Whether you’re connecting with friends\, neighbors\, or acquaintances\, this app makes it simple to make a big impact\, all from the comfort of your home. \n\n\n\nWhy the Reach app?The Reach app not only helps you spread the word about Amendment 4 but also lets you see who in your network hasn’t voted yet. You can encourage early voting\, remind people to get to the polls\, and ensure that voices in favor of protecting abortion rights are heard. \n\n\n\nWhat you’ll learn: \n\n\n\n\nHow to quickly set up and use the Reach app.\n\n\n\nAccess key messaging and resources to share with your network.\n\n\n\nUse the voter search feature to see who hasn’t voted and encourage them to vote early.\n\n\n\n\nCan’t attend live? No problem! Register anyway to receive the recording. \n\n\n\nRegister to receive Zoom link: https://us02web.zoom.us/meeting/register/tZ0kfuuqqzgvGtYQ86NRZWhVW7YPV-BQvhUf
URL:https://lwvspa.org/event/make-a-difference-from-home-reach-app-training-to-encourage-voter-turnout/
END:VEVENT
END:VCALENDAR