BEGIN:VCALENDAR
VERSION:2.0
PRODID:-//LWVSPA - ECPv6.15.20//NONSGML v1.0//EN
CALSCALE:GREGORIAN
METHOD:PUBLISH
X-WR-CALNAME:LWVSPA
X-ORIGINAL-URL:https://lwvspa.org
X-WR-CALDESC:Events for LWVSPA
REFRESH-INTERVAL;VALUE=DURATION:PT1H
X-Robots-Tag:noindex
X-PUBLISHED-TTL:PT1H
BEGIN:VTIMEZONE
TZID:America/New_York
BEGIN:DAYLIGHT
TZOFFSETFROM:-0500
TZOFFSETTO:-0400
TZNAME:EDT
DTSTART:20250309T070000
END:DAYLIGHT
BEGIN:STANDARD
TZOFFSETFROM:-0400
TZOFFSETTO:-0500
TZNAME:EST
DTSTART:20251102T060000
END:STANDARD
BEGIN:DAYLIGHT
TZOFFSETFROM:-0500
TZOFFSETTO:-0400
TZNAME:EDT
DTSTART:20260308T070000
END:DAYLIGHT
BEGIN:STANDARD
TZOFFSETFROM:-0400
TZOFFSETTO:-0500
TZNAME:EST
DTSTART:20261101T060000
END:STANDARD
BEGIN:DAYLIGHT
TZOFFSETFROM:-0500
TZOFFSETTO:-0400
TZNAME:EDT
DTSTART:20270314T070000
END:DAYLIGHT
BEGIN:STANDARD
TZOFFSETFROM:-0400
TZOFFSETTO:-0500
TZNAME:EST
DTSTART:20271107T060000
END:STANDARD
END:VTIMEZONE
BEGIN:VTIMEZONE
TZID:UTC
BEGIN:STANDARD
TZOFFSETFROM:+0000
TZOFFSETTO:+0000
TZNAME:UTC
DTSTART:20250101T000000
END:STANDARD
END:VTIMEZONE
BEGIN:VEVENT
DTSTART;TZID=America/New_York:20260312T173000
DTEND;TZID=America/New_York:20260312T190000
DTSTAMP:20260425T183423
CREATED:20260212T144729Z
LAST-MODIFIED:20260212T144836Z
UID:10002362-1773336600-1773342000@lwvspa.org
SUMMARY:Special Edition “March Mocktails & Conversation”
DESCRIPTION:Join the League for Cocktails Mocktails & Conversation\, and invite a guest or two.These happy hours are the perfect time to relax with (or without!) a drink and enjoy some great company. \n\n\n\nWe are adding an ACTION to our March 12th Cocktails & Conversation!Our Social Justice Action Team will provide a collection box for the following types of non-perishable items\, to support the Hispanic Outreach Center in Clearwater. Please help if you can with any of the following: Rice\, beans (dried or canned)\, sugar\, flour\, salt\, cooking oil\, toothbrushes and toothpaste\, body soap\, shampoo\, laundry pods\, feminine hygieneGrassroots offers various kava & kratom drinks plus kombuchas\, coffees & teas.Local vegan and Gluten Free pastry options + protein bars available.We’ll have a couple small deli trays to share.Two hour parking out front on Central Ave or behind the building on Baum Ave is available – Carpooling is always recommended! \n\n\n\n\n\n		RSVP Here
URL:https://lwvspa.org/event/special-edition-march-mocktails-conversation/
LOCATION:Grassroots Kava\, 957 Central Ave\, St. Petersburg\, Florida\, 33705\, United States
END:VEVENT
BEGIN:VEVENT
DTSTART;TZID=America/New_York:20260315T160000
DTEND;TZID=America/New_York:20260315T170000
DTSTAMP:20260425T183423
CREATED:20260212T195905Z
LAST-MODIFIED:20260212T195906Z
UID:10002379-1773590400-1773594000@lwvspa.org
SUMMARY:Vigil for Immigrant Justice
DESCRIPTION:The Pinellas/Hillsborough Interfaith Coalition\, LWVSPA\, and our allies host a peaceful Freedom Vigil to stand in solidarity with immigrant families and demand an end to the detention and deportation of our nonviolent\, law-abiding immigrant community neighbors\, siblings\, and friends. These vigils shine a light on the erosion of due process and the rise of authoritarian overreach. We pray for family reunification and justice for all immigrants. Together\, we affirm that justice\, compassion\, and the rule of law must apply to everyone—regardless of immigration status. \n\n\n\nDetails: \n\n\n\nSundays 4-5 pm \n\n\n\nPinellas County Courthouse14250 49th Street N (corner of 144 Ave N & 49th St N)Clearwater\, FL 33762 \n\n\n\nRegister:https://flic.fyi/727vigil
URL:https://lwvspa.org/event/vigil-for-immigrant-justice-2/2026-03-15/
LOCATION:Pinellas County Courthouse\, 14450 49th Street N\, Clearwater\, Florida\, 33762\, United States
END:VEVENT
BEGIN:VEVENT
DTSTART;TZID=America/New_York:20260316T183000
DTEND;TZID=America/New_York:20260316T200000
DTSTAMP:20260425T183423
CREATED:20260121T220341Z
LAST-MODIFIED:20260121T220621Z
UID:10001897-1773685800-1773691200@lwvspa.org
SUMMARY:In Person Board Meeting
DESCRIPTION:Our 3/16/26 meeting will be held in person in the Allendale UMC Hybrid Room. \n\n\n\nIf any LWVSPA member wishes to address the board\, they should email the president at president@lwvspa.org to get on the agenda and to receive meeting info (such as location or Zoom login).
URL:https://lwvspa.org/event/board-meeting-7/
LOCATION:Allendale UMC\, 3803 Haines Road North\, St. Petersburg\, FL\, 33703\, United States
END:VEVENT
BEGIN:VEVENT
DTSTART;TZID=America/New_York:20260317T110000
DTEND;TZID=America/New_York:20260317T120000
DTSTAMP:20260425T183423
CREATED:20251009T161432Z
LAST-MODIFIED:20251009T161451Z
UID:10002171-1773745200-1773748800@lwvspa.org
SUMMARY:Communications Committee Meeting
DESCRIPTION:The LWVSPA Communications Committee meets monthly via Zoom. Email office@lwvspa.org for the link if you’d like to get involved.
URL:https://lwvspa.org/event/communications-committee-meeting-2/2026-03-17/
END:VEVENT
BEGIN:VEVENT
DTSTART;TZID=UTC:20260318T183000
DTEND;TZID=UTC:20260318T193000
DTSTAMP:20260425T183423
CREATED:20210304T081922Z
LAST-MODIFIED:20260225T153810Z
UID:10000891-1773858600-1773862200@lwvspa.org
SUMMARY:Voter Services Committee
DESCRIPTION:Join with the Voter Services Leadership Team to hear about our Voter Guide\, Candidate Forums\, Voter Registration\, & Election and Voter Protection.  \n\n\n\n\n\n		Join Via Zoom
URL:https://lwvspa.org/event/voter-services-committee/2026-03-18/
END:VEVENT
END:VCALENDAR