BEGIN:VCALENDAR
VERSION:2.0
PRODID:-//LWVSPA - ECPv6.15.20//NONSGML v1.0//EN
CALSCALE:GREGORIAN
METHOD:PUBLISH
X-ORIGINAL-URL:https://lwvspa.org
X-WR-CALDESC:Events for LWVSPA
REFRESH-INTERVAL;VALUE=DURATION:PT1H
X-Robots-Tag:noindex
X-PUBLISHED-TTL:PT1H
BEGIN:VTIMEZONE
TZID:UTC
BEGIN:STANDARD
TZOFFSETFROM:+0000
TZOFFSETTO:+0000
TZNAME:UTC
DTSTART:20250101T000000
END:STANDARD
END:VTIMEZONE
BEGIN:VTIMEZONE
TZID:America/New_York
BEGIN:DAYLIGHT
TZOFFSETFROM:-0500
TZOFFSETTO:-0400
TZNAME:EDT
DTSTART:20250309T070000
END:DAYLIGHT
BEGIN:STANDARD
TZOFFSETFROM:-0400
TZOFFSETTO:-0500
TZNAME:EST
DTSTART:20251102T060000
END:STANDARD
BEGIN:DAYLIGHT
TZOFFSETFROM:-0500
TZOFFSETTO:-0400
TZNAME:EDT
DTSTART:20260308T070000
END:DAYLIGHT
BEGIN:STANDARD
TZOFFSETFROM:-0400
TZOFFSETTO:-0500
TZNAME:EST
DTSTART:20261101T060000
END:STANDARD
BEGIN:DAYLIGHT
TZOFFSETFROM:-0500
TZOFFSETTO:-0400
TZNAME:EDT
DTSTART:20270314T070000
END:DAYLIGHT
BEGIN:STANDARD
TZOFFSETFROM:-0400
TZOFFSETTO:-0500
TZNAME:EST
DTSTART:20271107T060000
END:STANDARD
BEGIN:DAYLIGHT
TZOFFSETFROM:-0500
TZOFFSETTO:-0400
TZNAME:EDT
DTSTART:20280312T070000
END:DAYLIGHT
BEGIN:STANDARD
TZOFFSETFROM:-0400
TZOFFSETTO:-0500
TZNAME:EST
DTSTART:20281105T060000
END:STANDARD
END:VTIMEZONE
BEGIN:VEVENT
DTSTART;TZID=UTC:20261021T183000
DTEND;TZID=UTC:20261021T193000
DTSTAMP:20260423T195615
CREATED:20210304T081922Z
LAST-MODIFIED:20260225T153810Z
UID:10000898-1792607400-1792611000@lwvspa.org
SUMMARY:Voter Services Committee
DESCRIPTION:Join with the Voter Services Leadership Team to hear about our Voter Guide\, Candidate Forums\, Voter Registration\, & Election and Voter Protection.  \n\n\n\n\n\n		Join Via Zoom
URL:https://lwvspa.org/event/voter-services-committee/2026-10-21/
LOCATION:Florida
END:VEVENT
BEGIN:VEVENT
DTSTART;TZID=America/New_York:20261026T160000
DTEND;TZID=America/New_York:20261026T170000
DTSTAMP:20260423T195615
CREATED:20250827T201131Z
LAST-MODIFIED:20250827T201135Z
UID:10002107-1793030400-1793034000@lwvspa.org
SUMMARY:Education Committee (With LWVNPC)
DESCRIPTION:Monthly LWVNPC/LWVSPA Education Committee Meeting via Zoom. For an invitation or to attend\, contact lwvnpc.info@gmail.com to receive an agenda. Open to all current LWV members only.
URL:https://lwvspa.org/event/education-committee-with-lwvnpc-6/2026-10-26/
LOCATION:Florida
END:VEVENT
BEGIN:VEVENT
DTSTART;TZID=UTC:20261028T133000
DTEND;TZID=UTC:20261028T143000
DTSTAMP:20260423T195615
CREATED:20260120T193720Z
LAST-MODIFIED:20260120T193721Z
UID:10002289-1793194200-1793197800@lwvspa.org
SUMMARY:Committee on Membership
DESCRIPTION:Contact chair\, Amy Weintraub\, for more teleconference link or for more info.
URL:https://lwvspa.org/event/committee-on-membership-8/2026-10-28/
LOCATION:Florida
END:VEVENT
BEGIN:VEVENT
DTSTART;TZID=America/New_York:20261102T180000
DTEND;TZID=America/New_York:20261102T190000
DTSTAMP:20260423T195615
CREATED:20241216T234524Z
LAST-MODIFIED:20260317T120223Z
UID:10002417-1793642400-1793646000@lwvspa.org
SUMMARY:Reproductive Rights Action Team Meeting
DESCRIPTION:Join us via Zoom! We meet monthly on the 1st Monday. Email office@lwvspa.org with questions. \n\n\n\n\n\n\n\n		Register for Zoom meeting
URL:https://lwvspa.org/event/reproductive-rights-action-team-meeting-5/2026-11-02/
LOCATION:Florida
END:VEVENT
BEGIN:VEVENT
DTSTART;TZID=America/New_York:20261103T170000
DTEND;TZID=America/New_York:20261103T180000
DTSTAMP:20260423T195615
CREATED:20250103T174649Z
LAST-MODIFIED:20250103T174651Z
UID:10001716-1793725200-1793728800@lwvspa.org
SUMMARY:National Popular Vote Committee
DESCRIPTION:First Tuesday of each month\, 5-6 pm.Join us as we talk strategy. First timers are welcome and all levels of experience are encouraged to join. \n\n\n\n\n\n		RSVP
URL:https://lwvspa.org/event/national-popular-vote-committee/2026-11-03/
LOCATION:Florida
END:VEVENT
BEGIN:VEVENT
DTSTART;TZID=America/New_York:20261116T183000
DTEND;TZID=America/New_York:20261116T200000
DTSTAMP:20260423T195615
CREATED:20250218T162007Z
LAST-MODIFIED:20250620T132519Z
UID:10001905-1794853800-1794859200@lwvspa.org
SUMMARY:Board Meeting
DESCRIPTION:If any LWVSPA member wishes to address the board\, they should email the president at president@lwvspa.org to get on the agenda and to receive meeting info (such as location or Zoom login).
URL:https://lwvspa.org/event/board-meeting-4/2026-11-16/
LOCATION:Florida
END:VEVENT
BEGIN:VEVENT
DTSTART;TZID=America/New_York:20261117T110000
DTEND;TZID=America/New_York:20261117T120000
DTSTAMP:20260423T195615
CREATED:20251009T161432Z
LAST-MODIFIED:20251009T161451Z
UID:10002179-1794913200-1794916800@lwvspa.org
SUMMARY:Communications Committee Meeting
DESCRIPTION:The LWVSPA Communications Committee meets monthly via Zoom. Email office@lwvspa.org for the link if you’d like to get involved.
URL:https://lwvspa.org/event/communications-committee-meeting-2/2026-11-17/
LOCATION:Florida
END:VEVENT
BEGIN:VEVENT
DTSTART;TZID=UTC:20261118T183000
DTEND;TZID=UTC:20261118T193000
DTSTAMP:20260423T195615
CREATED:20210304T081922Z
LAST-MODIFIED:20260225T153810Z
UID:10000899-1795026600-1795030200@lwvspa.org
SUMMARY:Voter Services Committee
DESCRIPTION:Join with the Voter Services Leadership Team to hear about our Voter Guide\, Candidate Forums\, Voter Registration\, & Election and Voter Protection.  \n\n\n\n\n\n		Join Via Zoom
URL:https://lwvspa.org/event/voter-services-committee/2026-11-18/
LOCATION:Florida
END:VEVENT
BEGIN:VEVENT
DTSTART;TZID=America/New_York:20261123T160000
DTEND;TZID=America/New_York:20261123T170000
DTSTAMP:20260423T195615
CREATED:20250827T201131Z
LAST-MODIFIED:20250827T201135Z
UID:10002108-1795449600-1795453200@lwvspa.org
SUMMARY:Education Committee (With LWVNPC)
DESCRIPTION:Monthly LWVNPC/LWVSPA Education Committee Meeting via Zoom. For an invitation or to attend\, contact lwvnpc.info@gmail.com to receive an agenda. Open to all current LWV members only.
URL:https://lwvspa.org/event/education-committee-with-lwvnpc-6/2026-11-23/
LOCATION:Florida
END:VEVENT
BEGIN:VEVENT
DTSTART;TZID=UTC:20261125T133000
DTEND;TZID=UTC:20261125T143000
DTSTAMP:20260423T195615
CREATED:20260120T193720Z
LAST-MODIFIED:20260120T193721Z
UID:10002290-1795613400-1795617000@lwvspa.org
SUMMARY:Committee on Membership
DESCRIPTION:Contact chair\, Amy Weintraub\, for more teleconference link or for more info.
URL:https://lwvspa.org/event/committee-on-membership-8/2026-11-25/
LOCATION:Florida
END:VEVENT
BEGIN:VEVENT
DTSTART;TZID=America/New_York:20261201T170000
DTEND;TZID=America/New_York:20261201T180000
DTSTAMP:20260423T195615
CREATED:20250103T174649Z
LAST-MODIFIED:20250103T174651Z
UID:10001717-1796144400-1796148000@lwvspa.org
SUMMARY:National Popular Vote Committee
DESCRIPTION:First Tuesday of each month\, 5-6 pm.Join us as we talk strategy. First timers are welcome and all levels of experience are encouraged to join. \n\n\n\n\n\n		RSVP
URL:https://lwvspa.org/event/national-popular-vote-committee/2026-12-01/
LOCATION:Florida
END:VEVENT
BEGIN:VEVENT
DTSTART;TZID=America/New_York:20261207T180000
DTEND;TZID=America/New_York:20261207T190000
DTSTAMP:20260423T195615
CREATED:20241216T234524Z
LAST-MODIFIED:20260317T120223Z
UID:10002418-1796666400-1796670000@lwvspa.org
SUMMARY:Reproductive Rights Action Team Meeting
DESCRIPTION:Join us via Zoom! We meet monthly on the 1st Monday. Email office@lwvspa.org with questions. \n\n\n\n\n\n\n\n		Register for Zoom meeting
URL:https://lwvspa.org/event/reproductive-rights-action-team-meeting-5/2026-12-07/
LOCATION:Florida
END:VEVENT
BEGIN:VEVENT
DTSTART;TZID=America/New_York:20261215T110000
DTEND;TZID=America/New_York:20261215T120000
DTSTAMP:20260423T195615
CREATED:20251009T161432Z
LAST-MODIFIED:20251009T161451Z
UID:10002180-1797332400-1797336000@lwvspa.org
SUMMARY:Communications Committee Meeting
DESCRIPTION:The LWVSPA Communications Committee meets monthly via Zoom. Email office@lwvspa.org for the link if you’d like to get involved.
URL:https://lwvspa.org/event/communications-committee-meeting-2/2026-12-15/
LOCATION:Florida
END:VEVENT
BEGIN:VEVENT
DTSTART;TZID=UTC:20261216T183000
DTEND;TZID=UTC:20261216T193000
DTSTAMP:20260423T195615
CREATED:20210304T081922Z
LAST-MODIFIED:20260225T153810Z
UID:10000900-1797445800-1797449400@lwvspa.org
SUMMARY:Voter Services Committee
DESCRIPTION:Join with the Voter Services Leadership Team to hear about our Voter Guide\, Candidate Forums\, Voter Registration\, & Election and Voter Protection.  \n\n\n\n\n\n		Join Via Zoom
URL:https://lwvspa.org/event/voter-services-committee/2026-12-16/
LOCATION:Florida
END:VEVENT
BEGIN:VEVENT
DTSTART;TZID=America/New_York:20261221T183000
DTEND;TZID=America/New_York:20261221T200000
DTSTAMP:20260423T195615
CREATED:20250218T162007Z
LAST-MODIFIED:20250620T132519Z
UID:10001906-1797877800-1797883200@lwvspa.org
SUMMARY:Board Meeting
DESCRIPTION:If any LWVSPA member wishes to address the board\, they should email the president at president@lwvspa.org to get on the agenda and to receive meeting info (such as location or Zoom login).
URL:https://lwvspa.org/event/board-meeting-4/2026-12-21/
LOCATION:Florida
END:VEVENT
BEGIN:VEVENT
DTSTART;TZID=UTC:20261223T133000
DTEND;TZID=UTC:20261223T143000
DTSTAMP:20260423T195615
CREATED:20260120T193720Z
LAST-MODIFIED:20260120T193721Z
UID:10002291-1798032600-1798036200@lwvspa.org
SUMMARY:Committee on Membership
DESCRIPTION:Contact chair\, Amy Weintraub\, for more teleconference link or for more info.
URL:https://lwvspa.org/event/committee-on-membership-8/2026-12-23/
LOCATION:Florida
END:VEVENT
BEGIN:VEVENT
DTSTART;TZID=America/New_York:20261228T160000
DTEND;TZID=America/New_York:20261228T170000
DTSTAMP:20260423T195615
CREATED:20250827T201131Z
LAST-MODIFIED:20250827T201135Z
UID:10002109-1798473600-1798477200@lwvspa.org
SUMMARY:Education Committee (With LWVNPC)
DESCRIPTION:Monthly LWVNPC/LWVSPA Education Committee Meeting via Zoom. For an invitation or to attend\, contact lwvnpc.info@gmail.com to receive an agenda. Open to all current LWV members only.
URL:https://lwvspa.org/event/education-committee-with-lwvnpc-6/2026-12-28/
LOCATION:Florida
END:VEVENT
BEGIN:VEVENT
DTSTART;TZID=America/New_York:20270104T180000
DTEND;TZID=America/New_York:20270104T190000
DTSTAMP:20260423T195615
CREATED:20241216T234524Z
LAST-MODIFIED:20260317T120223Z
UID:10002419-1799085600-1799089200@lwvspa.org
SUMMARY:Reproductive Rights Action Team Meeting
DESCRIPTION:Join us via Zoom! We meet monthly on the 1st Monday. Email office@lwvspa.org with questions. \n\n\n\n\n\n\n\n		Register for Zoom meeting
URL:https://lwvspa.org/event/reproductive-rights-action-team-meeting-5/2027-01-04/
LOCATION:Florida
END:VEVENT
BEGIN:VEVENT
DTSTART;TZID=America/New_York:20270105T170000
DTEND;TZID=America/New_York:20270105T180000
DTSTAMP:20260423T195615
CREATED:20250103T174649Z
LAST-MODIFIED:20250103T174651Z
UID:10001718-1799168400-1799172000@lwvspa.org
SUMMARY:National Popular Vote Committee
DESCRIPTION:First Tuesday of each month\, 5-6 pm.Join us as we talk strategy. First timers are welcome and all levels of experience are encouraged to join. \n\n\n\n\n\n		RSVP
URL:https://lwvspa.org/event/national-popular-vote-committee/2027-01-05/
LOCATION:Florida
END:VEVENT
BEGIN:VEVENT
DTSTART;TZID=America/New_York:20270118T183000
DTEND;TZID=America/New_York:20270118T200000
DTSTAMP:20260423T195615
CREATED:20250218T162007Z
LAST-MODIFIED:20250620T132519Z
UID:10001907-1800297000-1800302400@lwvspa.org
SUMMARY:Board Meeting
DESCRIPTION:If any LWVSPA member wishes to address the board\, they should email the president at president@lwvspa.org to get on the agenda and to receive meeting info (such as location or Zoom login).
URL:https://lwvspa.org/event/board-meeting-4/2027-01-18/
LOCATION:Florida
END:VEVENT
BEGIN:VEVENT
DTSTART;TZID=America/New_York:20270119T110000
DTEND;TZID=America/New_York:20270119T120000
DTSTAMP:20260423T195615
CREATED:20251009T161432Z
LAST-MODIFIED:20251009T161451Z
UID:10002181-1800356400-1800360000@lwvspa.org
SUMMARY:Communications Committee Meeting
DESCRIPTION:The LWVSPA Communications Committee meets monthly via Zoom. Email office@lwvspa.org for the link if you’d like to get involved.
URL:https://lwvspa.org/event/communications-committee-meeting-2/2027-01-19/
LOCATION:Florida
END:VEVENT
BEGIN:VEVENT
DTSTART;TZID=UTC:20270120T183000
DTEND;TZID=UTC:20270120T193000
DTSTAMP:20260423T195615
CREATED:20210304T081922Z
LAST-MODIFIED:20260225T153810Z
UID:10000901-1800469800-1800473400@lwvspa.org
SUMMARY:Voter Services Committee
DESCRIPTION:Join with the Voter Services Leadership Team to hear about our Voter Guide\, Candidate Forums\, Voter Registration\, & Election and Voter Protection.  \n\n\n\n\n\n		Join Via Zoom
URL:https://lwvspa.org/event/voter-services-committee/2027-01-20/
LOCATION:Florida
END:VEVENT
BEGIN:VEVENT
DTSTART;TZID=America/New_York:20270125T160000
DTEND;TZID=America/New_York:20270125T170000
DTSTAMP:20260423T195615
CREATED:20250827T201131Z
LAST-MODIFIED:20250827T201135Z
UID:10002110-1800892800-1800896400@lwvspa.org
SUMMARY:Education Committee (With LWVNPC)
DESCRIPTION:Monthly LWVNPC/LWVSPA Education Committee Meeting via Zoom. For an invitation or to attend\, contact lwvnpc.info@gmail.com to receive an agenda. Open to all current LWV members only.
URL:https://lwvspa.org/event/education-committee-with-lwvnpc-6/2027-01-25/
LOCATION:Florida
END:VEVENT
BEGIN:VEVENT
DTSTART;TZID=UTC:20270127T133000
DTEND;TZID=UTC:20270127T143000
DTSTAMP:20260423T195615
CREATED:20260120T193720Z
LAST-MODIFIED:20260120T193721Z
UID:10002292-1801056600-1801060200@lwvspa.org
SUMMARY:Committee on Membership
DESCRIPTION:Contact chair\, Amy Weintraub\, for more teleconference link or for more info.
URL:https://lwvspa.org/event/committee-on-membership-8/2027-01-27/
LOCATION:Florida
END:VEVENT
BEGIN:VEVENT
DTSTART;TZID=America/New_York:20270201T180000
DTEND;TZID=America/New_York:20270201T190000
DTSTAMP:20260423T195615
CREATED:20241216T234524Z
LAST-MODIFIED:20260317T120223Z
UID:10002420-1801504800-1801508400@lwvspa.org
SUMMARY:Reproductive Rights Action Team Meeting
DESCRIPTION:Join us via Zoom! We meet monthly on the 1st Monday. Email office@lwvspa.org with questions. \n\n\n\n\n\n\n\n		Register for Zoom meeting
URL:https://lwvspa.org/event/reproductive-rights-action-team-meeting-5/2027-02-01/
LOCATION:Florida
END:VEVENT
BEGIN:VEVENT
DTSTART;TZID=America/New_York:20270202T170000
DTEND;TZID=America/New_York:20270202T180000
DTSTAMP:20260423T195615
CREATED:20250103T174649Z
LAST-MODIFIED:20250103T174651Z
UID:10001719-1801587600-1801591200@lwvspa.org
SUMMARY:National Popular Vote Committee
DESCRIPTION:First Tuesday of each month\, 5-6 pm.Join us as we talk strategy. First timers are welcome and all levels of experience are encouraged to join. \n\n\n\n\n\n		RSVP
URL:https://lwvspa.org/event/national-popular-vote-committee/2027-02-02/
LOCATION:Florida
END:VEVENT
BEGIN:VEVENT
DTSTART;TZID=America/New_York:20270215T183000
DTEND;TZID=America/New_York:20270215T200000
DTSTAMP:20260423T195615
CREATED:20250218T162007Z
LAST-MODIFIED:20250620T132519Z
UID:10001908-1802716200-1802721600@lwvspa.org
SUMMARY:Board Meeting
DESCRIPTION:If any LWVSPA member wishes to address the board\, they should email the president at president@lwvspa.org to get on the agenda and to receive meeting info (such as location or Zoom login).
URL:https://lwvspa.org/event/board-meeting-4/2027-02-15/
LOCATION:Florida
END:VEVENT
BEGIN:VEVENT
DTSTART;TZID=America/New_York:20270216T110000
DTEND;TZID=America/New_York:20270216T120000
DTSTAMP:20260423T195615
CREATED:20251009T161432Z
LAST-MODIFIED:20251009T161451Z
UID:10002182-1802775600-1802779200@lwvspa.org
SUMMARY:Communications Committee Meeting
DESCRIPTION:The LWVSPA Communications Committee meets monthly via Zoom. Email office@lwvspa.org for the link if you’d like to get involved.
URL:https://lwvspa.org/event/communications-committee-meeting-2/2027-02-16/
LOCATION:Florida
END:VEVENT
BEGIN:VEVENT
DTSTART;TZID=UTC:20270217T183000
DTEND;TZID=UTC:20270217T193000
DTSTAMP:20260423T195615
CREATED:20210304T081922Z
LAST-MODIFIED:20260225T153810Z
UID:10000902-1802889000-1802892600@lwvspa.org
SUMMARY:Voter Services Committee
DESCRIPTION:Join with the Voter Services Leadership Team to hear about our Voter Guide\, Candidate Forums\, Voter Registration\, & Election and Voter Protection.  \n\n\n\n\n\n		Join Via Zoom
URL:https://lwvspa.org/event/voter-services-committee/2027-02-17/
LOCATION:Florida
END:VEVENT
BEGIN:VEVENT
DTSTART;TZID=America/New_York:20270222T160000
DTEND;TZID=America/New_York:20270222T170000
DTSTAMP:20260423T195615
CREATED:20250827T201131Z
LAST-MODIFIED:20250827T201135Z
UID:10002111-1803312000-1803315600@lwvspa.org
SUMMARY:Education Committee (With LWVNPC)
DESCRIPTION:Monthly LWVNPC/LWVSPA Education Committee Meeting via Zoom. For an invitation or to attend\, contact lwvnpc.info@gmail.com to receive an agenda. Open to all current LWV members only.
URL:https://lwvspa.org/event/education-committee-with-lwvnpc-6/2027-02-22/
LOCATION:Florida
END:VEVENT
END:VCALENDAR