BEGIN:VCALENDAR
VERSION:2.0
PRODID:-//LWVSPA - ECPv6.15.20//NONSGML v1.0//EN
CALSCALE:GREGORIAN
METHOD:PUBLISH
X-WR-CALNAME:LWVSPA
X-ORIGINAL-URL:https://lwvspa.org
X-WR-CALDESC:Events for LWVSPA
REFRESH-INTERVAL;VALUE=DURATION:PT1H
X-Robots-Tag:noindex
X-PUBLISHED-TTL:PT1H
BEGIN:VTIMEZONE
TZID:UTC
BEGIN:STANDARD
TZOFFSETFROM:+0000
TZOFFSETTO:+0000
TZNAME:UTC
DTSTART:20210101T000000
END:STANDARD
END:VTIMEZONE
BEGIN:VTIMEZONE
TZID:America/New_York
BEGIN:DAYLIGHT
TZOFFSETFROM:-0500
TZOFFSETTO:-0400
TZNAME:EDT
DTSTART:20210314T070000
END:DAYLIGHT
BEGIN:STANDARD
TZOFFSETFROM:-0400
TZOFFSETTO:-0500
TZNAME:EST
DTSTART:20211107T060000
END:STANDARD
BEGIN:DAYLIGHT
TZOFFSETFROM:-0500
TZOFFSETTO:-0400
TZNAME:EDT
DTSTART:20220313T070000
END:DAYLIGHT
BEGIN:STANDARD
TZOFFSETFROM:-0400
TZOFFSETTO:-0500
TZNAME:EST
DTSTART:20221106T060000
END:STANDARD
BEGIN:DAYLIGHT
TZOFFSETFROM:-0500
TZOFFSETTO:-0400
TZNAME:EDT
DTSTART:20230312T070000
END:DAYLIGHT
BEGIN:STANDARD
TZOFFSETFROM:-0400
TZOFFSETTO:-0500
TZNAME:EST
DTSTART:20231105T060000
END:STANDARD
END:VTIMEZONE
BEGIN:VEVENT
DTSTART;TZID=UTC:20220216T183000
DTEND;TZID=UTC:20220216T193000
DTSTAMP:20260423T201701
CREATED:20210304T081922Z
LAST-MODIFIED:20260225T153810Z
UID:10000804-1645036200-1645039800@lwvspa.org
SUMMARY:Voter Services Committee
DESCRIPTION:Join with the Voter Services Leadership Team to hear about our Voter Guide\, Candidate Forums\, Voter Registration\, & Election and Voter Protection.  \n\n\n\n\n\n		Join Via Zoom
URL:https://lwvspa.org/event/voter-services-committee/2022-02-16/
LOCATION:FL
END:VEVENT
BEGIN:VEVENT
DTSTART;TZID=UTC:20220224T180000
DTEND;TZID=UTC:20220224T193000
DTSTAMP:20260423T201701
CREATED:20210909T212643Z
LAST-MODIFIED:20220218T000020Z
UID:10000869-1645725600-1645731000@lwvspa.org
SUMMARY:Program Planning
DESCRIPTION:Program Planning is our yearly meeting where members present what they feel the local chapter should adopt as our “program” for the new League year. This includes pitches from each established and new team and meeting attendee voting.
URL:https://lwvspa.org/event/program-planning/
LOCATION:FL
END:VEVENT
BEGIN:VEVENT
DTSTART;TZID=UTC:20220301T173000
DTEND;TZID=UTC:20220301T183000
DTSTAMP:20260423T201701
CREATED:20210130T034017Z
LAST-MODIFIED:20220401T185046Z
UID:10000593-1646155800-1646159400@lwvspa.org
SUMMARY:Team Leads Quarterly Meeting
DESCRIPTION:The Board is initiating quarterly conversations so we can better coordinate across the organization and discuss how we might centralize some functions (e.g. volunteer coordination\, communications\, branding\, advocacy coordination & more) in order for all of us to focus more on making change on the issues and tasks we’re passionate about. We’d like all action team and program leads to attend these meetings which will tentatively be held quarterly from 5:30-6:30pm on the 1st Tuesday immediately before Board meetings. Board members and team members are always welcome. If chairpersons are unable to attend\, please send a representative from your team.
URL:https://lwvspa.org/event/team-leads-quarterly-meeting/2022-03-01/
LOCATION:Join by phone ‪(US) +1 970-439-4031‬ PIN: ‪153 751 894‬#
END:VEVENT
BEGIN:VEVENT
DTSTART;TZID=UTC:20220316T183000
DTEND;TZID=UTC:20220316T193000
DTSTAMP:20260423T201701
CREATED:20210304T081922Z
LAST-MODIFIED:20260225T153810Z
UID:10000805-1647455400-1647459000@lwvspa.org
SUMMARY:Voter Services Committee
DESCRIPTION:Join with the Voter Services Leadership Team to hear about our Voter Guide\, Candidate Forums\, Voter Registration\, & Election and Voter Protection.  \n\n\n\n\n\n		Join Via Zoom
URL:https://lwvspa.org/event/voter-services-committee/2022-03-16/
LOCATION:FL
END:VEVENT
BEGIN:VEVENT
DTSTART;TZID=UTC:20220318T180000
DTEND;TZID=UTC:20220318T190000
DTSTAMP:20260423T201701
CREATED:20220202T202303Z
LAST-MODIFIED:20220308T204612Z
UID:10000875-1647626400-1647630000@lwvspa.org
SUMMARY:501c3 Transition Webinar with Tom Carson
DESCRIPTION:The League of Women Voters of the St. Petersburg Area Board of Directors has recommended that our local chapter transition from a 501c4 to a 501c3 now that we have secured 501c3 status. Tom Carson\, a transition consultant that has worked with leagues across the country\, including state leagues\, will provide an overview of the process\, benefits of becoming a 501c3\, and answer member questions.  To attend\, please register below.
URL:https://lwvspa.org/event/501c3-transition-webinar-with-tom-carson/
LOCATION:FL
END:VEVENT
BEGIN:VEVENT
DTSTART;TZID=UTC:20220420T183000
DTEND;TZID=UTC:20220420T193000
DTSTAMP:20260423T201701
CREATED:20210304T081922Z
LAST-MODIFIED:20260225T153810Z
UID:10000806-1650479400-1650483000@lwvspa.org
SUMMARY:Voter Services Committee
DESCRIPTION:Join with the Voter Services Leadership Team to hear about our Voter Guide\, Candidate Forums\, Voter Registration\, & Election and Voter Protection.  \n\n\n\n\n\n		Join Via Zoom
URL:https://lwvspa.org/event/voter-services-committee/2022-04-20/
LOCATION:FL
END:VEVENT
BEGIN:VEVENT
DTSTART;TZID=UTC:20220420T183000
DTEND;TZID=UTC:20220420T200000
DTSTAMP:20260423T201701
CREATED:20220401T191441Z
LAST-MODIFIED:20220401T191442Z
UID:10000876-1650479400-1650484800@lwvspa.org
SUMMARY:So You Want to Help People Vote?
DESCRIPTION:We can all help fight voter suppression by helping to empower voters! Enjoy a fun evening the LWVSPA Voter Services team and learn how to help ensure everyone gets their votes counted. Members only. Snacks will be served!
URL:https://lwvspa.org/event/so-you-want-to-help-people-vote/
LOCATION:FL
END:VEVENT
BEGIN:VEVENT
DTSTART;TZID=UTC:20220430T100000
DTEND;TZID=UTC:20220430T120000
DTSTAMP:20260423T201701
CREATED:20210909T213034Z
LAST-MODIFIED:20220420T002426Z
UID:10000870-1651312800-1651320000@lwvspa.org
SUMMARY:Annual Meeting
DESCRIPTION:The Annual Meeting is where League members conduct annual business. This includes: \n\n\n\nState of the LeagueOfficer and Board Director Nomination SlateBylaws AdoptionYearly Budget AdoptionProgram Adoption\n\n\n\n501(c)(4) League of Women Voters of the St. Petersburg Annual Meeting Agenda \n\n\n\nOpen the Annual MeetingVote to Adopt the Order of Business (Agenda)New Business:Vote to Merge 501(c)(4) with 501(c)(3) (League of Women Voters of the St. Petersburg Area Education Fund)Members of 501(c)(4) will now become members of the 501(c)(3)Adjourn Meeting\n\n\n\n501(c)(3) League of Women Voters of the St. Petersburg Area Education Fund Annual Meeting Agenda \n\n\n\nOpen the Annual MeetingVote to Adopt the Order of Business (Agenda)New Business:Vote to Approve the Merger of 501(c)(4) with the 501(c)(3)Vote to Accept the Members of the 501(c)(4) to the 501(c)(3) as a result of the mergerPresentation: State of the LeaguePresentation: Making Democracy Work AwardVirginia Burnside Award for Long-Term ServiceLong-Term Member AcknowledgementRockstar VolunteerVote to Approve Annual BudgetPresentation: BylawsVote to Approve Annual ProgramVote to Approve Nominating Committee SlateAdjourn Meeting
URL:https://lwvspa.org/event/annual-meeting/
LOCATION:FL
END:VEVENT
BEGIN:VEVENT
DTSTART;TZID=UTC:20220518T183000
DTEND;TZID=UTC:20220518T193000
DTSTAMP:20260423T201701
CREATED:20210304T081922Z
LAST-MODIFIED:20260225T153810Z
UID:10000807-1652898600-1652902200@lwvspa.org
SUMMARY:Voter Services Committee
DESCRIPTION:Join with the Voter Services Leadership Team to hear about our Voter Guide\, Candidate Forums\, Voter Registration\, & Election and Voter Protection.  \n\n\n\n\n\n		Join Via Zoom
URL:https://lwvspa.org/event/voter-services-committee/2022-05-18/
LOCATION:FL
END:VEVENT
BEGIN:VEVENT
DTSTART;TZID=UTC:20220614T183000
DTEND;TZID=UTC:20220614T200000
DTSTAMP:20260423T201701
CREATED:20210130T034538Z
LAST-MODIFIED:20220519T222913Z
UID:10000599-1655231400-1655236800@lwvspa.org
SUMMARY:Board Meeting
DESCRIPTION:
URL:https://lwvspa.org/event/board-meeting/2022-06-14/
LOCATION:Join by phone ‪(US) +1 470-241-4871‬ PIN: ‪120 641 866‬#
END:VEVENT
BEGIN:VEVENT
DTSTART;TZID=UTC:20220615T183000
DTEND;TZID=UTC:20220615T193000
DTSTAMP:20260423T201701
CREATED:20210304T081922Z
LAST-MODIFIED:20260225T153810Z
UID:10000808-1655317800-1655321400@lwvspa.org
SUMMARY:Voter Services Committee
DESCRIPTION:Join with the Voter Services Leadership Team to hear about our Voter Guide\, Candidate Forums\, Voter Registration\, & Election and Voter Protection.  \n\n\n\n\n\n		Join Via Zoom
URL:https://lwvspa.org/event/voter-services-committee/2022-06-15/
LOCATION:FL
END:VEVENT
BEGIN:VEVENT
DTSTART;TZID=UTC:20220621T180000
DTEND;TZID=UTC:20220621T190000
DTSTAMP:20260423T201701
CREATED:20220510T182206Z
LAST-MODIFIED:20220606T181828Z
UID:10000877-1655834400-1655838000@lwvspa.org
SUMMARY:Sustainability Committee Meeting
DESCRIPTION:We will meet at the LWVSPA Office \n\n\n\n2335 22nd Ave S\, Suite 5 \n\n\n\nSt. Petersburg\, FL 33712
URL:https://lwvspa.org/event/sustainability-committee-meeting/
LOCATION:FL
ORGANIZER;CN="Laura Crabtree":MAILTO:lauracrabtree.league@gmail.com
END:VEVENT
BEGIN:VEVENT
DTSTART;TZID=UTC:20220630T180000
DTEND;TZID=UTC:20220630T190000
DTSTAMP:20260423T201701
CREATED:20220614T121121Z
LAST-MODIFIED:20220614T153306Z
UID:10000560-1656612000-1656615600@lwvspa.org
SUMMARY:Orientation for New & Prospective League Members
DESCRIPTION:Get Plugged Into the League’s Work! As one of the most active advocacy and policy education groups in Pinellas County\, the League’s current issues include voter engagement\, environmental sustainability\, gun safety\, campaign finance reform\, immigration\, education\, health care access\, international relations\, and reproductive rights. Come learn about the League’s strategies to influence change and how you can join in! Our New Member Orientation is designed to orient folks who are curious about the League\, as well as those who’ve been members for less than a year. Our hope is that everyone will find what interests them and get involved as expediently as possible. \n\n\n\nRegister in advance for this meeting: \n\n\n\n\n\n		Register\n\n\n\n\nAfter registering\, you will receive a confirmation email containing information about joining the meeting.
URL:https://lwvspa.org/event/orientation-for-new-prospective-league-members-2/
LOCATION:FL
END:VEVENT
BEGIN:VEVENT
DTSTART;TZID=UTC:20220712T183000
DTEND;TZID=UTC:20220712T200000
DTSTAMP:20260423T201701
CREATED:20210130T034538Z
LAST-MODIFIED:20220519T222913Z
UID:10000600-1657650600-1657656000@lwvspa.org
SUMMARY:Board Meeting
DESCRIPTION:
URL:https://lwvspa.org/event/board-meeting/2022-07-12/
LOCATION:Join by phone ‪(US) +1 470-241-4871‬ PIN: ‪120 641 866‬#
END:VEVENT
BEGIN:VEVENT
DTSTART;TZID=UTC:20220718T180000
DTEND;TZID=UTC:20220718T200000
DTSTAMP:20260423T201701
CREATED:20220714T135724Z
LAST-MODIFIED:20220714T135726Z
UID:10000586-1658167200-1658174400@lwvspa.org
SUMMARY:Pinellas County 2022 School Board Candidates Forum
DESCRIPTION:Residents of Pinellas County are invited to attend this important event before casting their vote to learn more about the candidates’ positions. Please join us for this especially important\, non-partisan civic event! The Primary is August 23rd – VOTE! \n\n\n\nThis event is both Virtual and In-Person. \n\n\n\n*Advanced registration is required. Walk-in spaces might be available on a first-come\, first-serve basis on the day of the event but no guarantees. Doors will open at 5:30 pm. For more information please call (727) 394-6942. \n\n\n\n*To request an ASL Interpreter or captionist\, please contact Stephanie Wyatt at (727)-791-5942 or wyatt.stephanie@spcollege.edu \n\n\n\nResources to Vote: https://www.votepinellas.com/ElectionReady \n\n\n\nCandidates: https://www.voterfocus.com/CampaignFi…/candidate_pr.php… \n\n\n\n\n\n		Register
URL:https://lwvspa.org/event/pinellas-county-2022-school-board-candidates-forum/
LOCATION:SPC Clearwater Campus Auditorium\, 2465 Drew Street\, Clearwater\, Florida\, 33765\, United States
END:VEVENT
BEGIN:VEVENT
DTSTART;TZID=UTC:20220720T183000
DTEND;TZID=UTC:20220720T193000
DTSTAMP:20260423T201701
CREATED:20210304T081922Z
LAST-MODIFIED:20260225T153810Z
UID:10000809-1658341800-1658345400@lwvspa.org
SUMMARY:Voter Services Committee
DESCRIPTION:Join with the Voter Services Leadership Team to hear about our Voter Guide\, Candidate Forums\, Voter Registration\, & Election and Voter Protection.  \n\n\n\n\n\n		Join Via Zoom
URL:https://lwvspa.org/event/voter-services-committee/2022-07-20/
LOCATION:FL
END:VEVENT
BEGIN:VEVENT
DTSTART;TZID=America/New_York:20220721T173000
DTEND;TZID=America/New_York:20220721T190000
DTSTAMP:20260423T201701
CREATED:20220630T133522Z
LAST-MODIFIED:20220630T133525Z
UID:10000561-1658424600-1658430000@lwvspa.org
SUMMARY:Cocktails & Conversation
DESCRIPTION:Meet up with League friends (and make new ones!) in a casual setting for our monthly gathering over chatter and drinks. Always a good time. \n\n\n\n\nRegister Here!
URL:https://lwvspa.org/event/cocktails-conversation/
LOCATION:Tiki Docks Skyway Bar + Grill\, 3769 50th Ave S\, St. Petersburg\, Florida\, 33711
END:VEVENT
BEGIN:VEVENT
DTSTART;TZID=UTC:20220727T180000
DTEND;TZID=UTC:20220727T190000
DTSTAMP:20260423T201701
CREATED:20220726T230653Z
LAST-MODIFIED:20220726T230654Z
UID:10000587-1658944800-1658948400@lwvspa.org
SUMMARY:Sustainability Committee Meeting
DESCRIPTION:We will meet at the LWVSPA Office \n\n\n\n2335 22nd Ave S\, Suite 5 \n\n\n\nSt. Petersburg\, FL 33712
URL:https://lwvspa.org/event/sustainability-committee-meeting-2/
LOCATION:FL
ORGANIZER;CN="Laura Crabtree":MAILTO:lauracrabtree.league@gmail.com
END:VEVENT
BEGIN:VEVENT
DTSTART;TZID=UTC:20220809T183000
DTEND;TZID=UTC:20220809T200000
DTSTAMP:20260423T201701
CREATED:20210130T034538Z
LAST-MODIFIED:20220519T222913Z
UID:10000601-1660069800-1660075200@lwvspa.org
SUMMARY:Board Meeting
DESCRIPTION:
URL:https://lwvspa.org/event/board-meeting/2022-08-09/
LOCATION:Join by phone ‪(US) +1 470-241-4871‬ PIN: ‪120 641 866‬#
END:VEVENT
BEGIN:VEVENT
DTSTART;TZID=UTC:20220817T180000
DTEND;TZID=UTC:20220817T200000
DTSTAMP:20260423T201701
CREATED:20220811T163043Z
LAST-MODIFIED:20220811T163046Z
UID:10000588-1660759200-1660766400@lwvspa.org
SUMMARY:All-Member General Meeting
DESCRIPTION:Improve your judicial literacy\, get updates on redistricting\, and learn how you can show up for democracy. \n\n\n\nThis is a great opportunity to meet your fellow Leaguers and have two-way communication with League and Action Group leaders. Membership is not required – if you have a friend that’s curious about the League\, bring them! \n\n\n\nWe hope to see you there!
URL:https://lwvspa.org/event/all-member-general-meeting/
LOCATION:The Center for Health Equity\, 2333 34th St S\, St. Petersburg\, Florida\, 33711\, United States
END:VEVENT
BEGIN:VEVENT
DTSTART;TZID=UTC:20220817T183000
DTEND;TZID=UTC:20220817T193000
DTSTAMP:20260423T201701
CREATED:20210304T081922Z
LAST-MODIFIED:20260225T153810Z
UID:10000810-1660761000-1660764600@lwvspa.org
SUMMARY:Voter Services Committee
DESCRIPTION:Join with the Voter Services Leadership Team to hear about our Voter Guide\, Candidate Forums\, Voter Registration\, & Election and Voter Protection.  \n\n\n\n\n\n		Join Via Zoom
URL:https://lwvspa.org/event/voter-services-committee/2022-08-17/
LOCATION:FL
END:VEVENT
BEGIN:VEVENT
DTSTART;TZID=UTC:20220913T183000
DTEND;TZID=UTC:20220913T200000
DTSTAMP:20260423T201701
CREATED:20210130T034538Z
LAST-MODIFIED:20220519T222913Z
UID:10000602-1663093800-1663099200@lwvspa.org
SUMMARY:Board Meeting
DESCRIPTION:
URL:https://lwvspa.org/event/board-meeting/2022-09-13/
LOCATION:Join by phone ‪(US) +1 470-241-4871‬ PIN: ‪120 641 866‬#
END:VEVENT
BEGIN:VEVENT
DTSTART;TZID=UTC:20220921T183000
DTEND;TZID=UTC:20220921T193000
DTSTAMP:20260423T201701
CREATED:20210304T081922Z
LAST-MODIFIED:20260225T153810Z
UID:10000811-1663785000-1663788600@lwvspa.org
SUMMARY:Voter Services Committee
DESCRIPTION:Join with the Voter Services Leadership Team to hear about our Voter Guide\, Candidate Forums\, Voter Registration\, & Election and Voter Protection.  \n\n\n\n\n\n		Join Via Zoom
URL:https://lwvspa.org/event/voter-services-committee/2022-09-21/
LOCATION:FL
END:VEVENT
BEGIN:VEVENT
DTSTART;TZID=UTC:20221011T183000
DTEND;TZID=UTC:20221011T200000
DTSTAMP:20260423T201701
CREATED:20210130T034538Z
LAST-MODIFIED:20220519T222913Z
UID:10000603-1665513000-1665518400@lwvspa.org
SUMMARY:Board Meeting
DESCRIPTION:
URL:https://lwvspa.org/event/board-meeting/2022-10-11/
LOCATION:Join by phone ‪(US) +1 470-241-4871‬ PIN: ‪120 641 866‬#
END:VEVENT
BEGIN:VEVENT
DTSTART;TZID=UTC:20221019T183000
DTEND;TZID=UTC:20221019T193000
DTSTAMP:20260423T201701
CREATED:20210304T081922Z
LAST-MODIFIED:20260225T153810Z
UID:10000812-1666204200-1666207800@lwvspa.org
SUMMARY:Voter Services Committee
DESCRIPTION:Join with the Voter Services Leadership Team to hear about our Voter Guide\, Candidate Forums\, Voter Registration\, & Election and Voter Protection.  \n\n\n\n\n\n		Join Via Zoom
URL:https://lwvspa.org/event/voter-services-committee/2022-10-19/
LOCATION:FL
END:VEVENT
BEGIN:VEVENT
DTSTART;TZID=UTC:20221108T183000
DTEND;TZID=UTC:20221108T200000
DTSTAMP:20260423T201701
CREATED:20210130T034538Z
LAST-MODIFIED:20220519T222913Z
UID:10000604-1667932200-1667937600@lwvspa.org
SUMMARY:Board Meeting
DESCRIPTION:
URL:https://lwvspa.org/event/board-meeting/2022-11-08/
LOCATION:Join by phone ‪(US) +1 470-241-4871‬ PIN: ‪120 641 866‬#
END:VEVENT
BEGIN:VEVENT
DTSTART;TZID=UTC:20221116T183000
DTEND;TZID=UTC:20221116T193000
DTSTAMP:20260423T201701
CREATED:20210304T081922Z
LAST-MODIFIED:20260225T153810Z
UID:10000813-1668623400-1668627000@lwvspa.org
SUMMARY:Voter Services Committee
DESCRIPTION:Join with the Voter Services Leadership Team to hear about our Voter Guide\, Candidate Forums\, Voter Registration\, & Election and Voter Protection.  \n\n\n\n\n\n		Join Via Zoom
URL:https://lwvspa.org/event/voter-services-committee/2022-11-16/
LOCATION:FL
END:VEVENT
BEGIN:VEVENT
DTSTART;TZID=UTC:20221213T183000
DTEND;TZID=UTC:20221213T200000
DTSTAMP:20260423T201701
CREATED:20210130T034538Z
LAST-MODIFIED:20220519T222913Z
UID:10000605-1670956200-1670961600@lwvspa.org
SUMMARY:Board Meeting
DESCRIPTION:
URL:https://lwvspa.org/event/board-meeting/2022-12-13/
LOCATION:Join by phone ‪(US) +1 470-241-4871‬ PIN: ‪120 641 866‬#
END:VEVENT
BEGIN:VEVENT
DTSTART;TZID=UTC:20221221T183000
DTEND;TZID=UTC:20221221T193000
DTSTAMP:20260423T201701
CREATED:20210304T081922Z
LAST-MODIFIED:20260225T153810Z
UID:10000814-1671647400-1671651000@lwvspa.org
SUMMARY:Voter Services Committee
DESCRIPTION:Join with the Voter Services Leadership Team to hear about our Voter Guide\, Candidate Forums\, Voter Registration\, & Election and Voter Protection.  \n\n\n\n\n\n		Join Via Zoom
URL:https://lwvspa.org/event/voter-services-committee/2022-12-21/
LOCATION:FL
END:VEVENT
BEGIN:VEVENT
DTSTART;TZID=UTC:20230110T183000
DTEND;TZID=UTC:20230110T200000
DTSTAMP:20260423T201701
CREATED:20210130T034538Z
LAST-MODIFIED:20220519T222913Z
UID:10000606-1673375400-1673380800@lwvspa.org
SUMMARY:Board Meeting
DESCRIPTION:
URL:https://lwvspa.org/event/board-meeting/2023-01-10/
LOCATION:Join by phone ‪(US) +1 470-241-4871‬ PIN: ‪120 641 866‬#
END:VEVENT
END:VCALENDAR