BEGIN:VCALENDAR
VERSION:2.0
PRODID:-//LWVSPA - ECPv6.15.20//NONSGML v1.0//EN
CALSCALE:GREGORIAN
METHOD:PUBLISH
X-ORIGINAL-URL:https://lwvspa.org
X-WR-CALDESC:Events for LWVSPA
REFRESH-INTERVAL;VALUE=DURATION:PT1H
X-Robots-Tag:noindex
X-PUBLISHED-TTL:PT1H
BEGIN:VTIMEZONE
TZID:America/New_York
BEGIN:DAYLIGHT
TZOFFSETFROM:-0500
TZOFFSETTO:-0400
TZNAME:EDT
DTSTART:20220313T070000
END:DAYLIGHT
BEGIN:STANDARD
TZOFFSETFROM:-0400
TZOFFSETTO:-0500
TZNAME:EST
DTSTART:20221106T060000
END:STANDARD
BEGIN:DAYLIGHT
TZOFFSETFROM:-0500
TZOFFSETTO:-0400
TZNAME:EDT
DTSTART:20230312T070000
END:DAYLIGHT
BEGIN:STANDARD
TZOFFSETFROM:-0400
TZOFFSETTO:-0500
TZNAME:EST
DTSTART:20231105T060000
END:STANDARD
BEGIN:DAYLIGHT
TZOFFSETFROM:-0500
TZOFFSETTO:-0400
TZNAME:EDT
DTSTART:20240310T070000
END:DAYLIGHT
BEGIN:STANDARD
TZOFFSETFROM:-0400
TZOFFSETTO:-0500
TZNAME:EST
DTSTART:20241103T060000
END:STANDARD
END:VTIMEZONE
BEGIN:VTIMEZONE
TZID:UTC
BEGIN:STANDARD
TZOFFSETFROM:+0000
TZOFFSETTO:+0000
TZNAME:UTC
DTSTART:20220101T000000
END:STANDARD
END:VTIMEZONE
BEGIN:VEVENT
DTSTART;TZID=America/New_York:20230815T180000
DTEND;TZID=America/New_York:20230815T190000
DTSTAMP:20260425T115956
CREATED:20230803T193728Z
LAST-MODIFIED:20230803T193729Z
UID:10000924-1692122400-1692126000@lwvspa.org
SUMMARY:Reproductive Rights Action Team Meeting
DESCRIPTION:Sign up here to join the team email group and to get the Zoom link: \n\n\n\nhttps://forms.gle/SYehL9yTEZG5tvZk8 \n\n\n\nThanks to Leaguers and other Florida repro supporters\, we’ve had an amazing push collecting about half the petitions we will need to get abortion access on the 2024 ballot. HOWVER\, with the December deadline looming\, we need to do even more. Please join the LWVSPA Repro Rights Action Team to meet other abortion rights supporters and learn more about getting involved in this campaign to get abortion on the ballot here in Florida. \n\n\n\nThe petitions you help collect could make all the difference in getting abortion on the ballot in 2024\, but we won’t be able to reach enough voters without you.
URL:https://lwvspa.org/event/reproductive-rights-action-team-meeting/
LOCATION:FL
END:VEVENT
BEGIN:VEVENT
DTSTART;TZID=UTC:20230816T180000
DTEND;TZID=UTC:20230816T190000
DTSTAMP:20260425T115956
CREATED:20230403T185514Z
LAST-MODIFIED:20230403T185515Z
UID:10000879-1692208800-1692212400@lwvspa.org
SUMMARY:Sustainability Committee Meeting
DESCRIPTION:We will meet at the LWVSPA Office \n\n\n\n2335 22nd Ave S\, Suite 5 \n\n\n\nSt. Petersburg\, FL 33712
URL:https://lwvspa.org/event/sustainability-committee-meeting-6/
LOCATION:FL
ORGANIZER;CN="Laura Crabtree":MAILTO:lauracrabtree.league@gmail.com
END:VEVENT
BEGIN:VEVENT
DTSTART;TZID=UTC:20230816T183000
DTEND;TZID=UTC:20230816T193000
DTSTAMP:20260425T115956
CREATED:20210304T081922Z
LAST-MODIFIED:20260225T153810Z
UID:10000822-1692210600-1692214200@lwvspa.org
SUMMARY:Voter Services Committee
DESCRIPTION:Join with the Voter Services Leadership Team to hear about our Voter Guide\, Candidate Forums\, Voter Registration\, & Election and Voter Protection.  \n\n\n\n\n\n		Join Via Zoom
URL:https://lwvspa.org/event/voter-services-committee/2023-08-16/
LOCATION:FL
END:VEVENT
BEGIN:VEVENT
DTSTART;TZID=UTC:20230822T180000
DTEND;TZID=UTC:20230822T190000
DTSTAMP:20260425T115956
CREATED:20230720T173100Z
LAST-MODIFIED:20230720T173152Z
UID:10000922-1692727200-1692730800@lwvspa.org
SUMMARY:Orientation for New & Prospective League Members
DESCRIPTION:Get Plugged Into the League’s Work! As one of the most active advocacy and policy education groups in Pinellas County\, the League’s current issues include voter engagement\, environmental sustainability\, gun safety\, campaign finance reform\, and reproductive rights. Come learn about the League’s strategies to influence change and how you can join in!  \n\n\n\nOur New Member Orientation is designed to orient folks who are curious about the League\, as well as those who’ve been members for less than a year. Our hope is that everyone will find what interests them and get involved as expediently as possible. \n\n\n\nRegister in advance for this meeting: \n\n\n\n\n\n		Register
URL:https://lwvspa.org/event/orientation-for-new-prospective-league-members-4/
LOCATION:FL
END:VEVENT
BEGIN:VEVENT
DTSTART;TZID=UTC:20230823T170000
DTEND;TZID=UTC:20230823T180000
DTSTAMP:20260425T115956
CREATED:20210130T033331Z
LAST-MODIFIED:20231113T115936Z
UID:10000928-1692810000-1692813600@lwvspa.org
SUMMARY:Committee on Membership
DESCRIPTION:Contact chair\, Amy Weintraub\, for more teleconference link or for more info.
URL:https://lwvspa.org/event/committee-on-membership-2-2023-05-24/2023-08-23/
LOCATION:FL
END:VEVENT
END:VCALENDAR