BEGIN:VCALENDAR
VERSION:2.0
PRODID:-//LWVSPA - ECPv6.15.20//NONSGML v1.0//EN
CALSCALE:GREGORIAN
METHOD:PUBLISH
X-ORIGINAL-URL:https://lwvspa.org
X-WR-CALDESC:Events for LWVSPA
REFRESH-INTERVAL;VALUE=DURATION:PT1H
X-Robots-Tag:noindex
X-PUBLISHED-TTL:PT1H
BEGIN:VTIMEZONE
TZID:UTC
BEGIN:STANDARD
TZOFFSETFROM:+0000
TZOFFSETTO:+0000
TZNAME:UTC
DTSTART:20220101T000000
END:STANDARD
END:VTIMEZONE
BEGIN:VTIMEZONE
TZID:America/New_York
BEGIN:DAYLIGHT
TZOFFSETFROM:-0500
TZOFFSETTO:-0400
TZNAME:EDT
DTSTART:20220313T070000
END:DAYLIGHT
BEGIN:STANDARD
TZOFFSETFROM:-0400
TZOFFSETTO:-0500
TZNAME:EST
DTSTART:20221106T060000
END:STANDARD
BEGIN:DAYLIGHT
TZOFFSETFROM:-0500
TZOFFSETTO:-0400
TZNAME:EDT
DTSTART:20230312T070000
END:DAYLIGHT
BEGIN:STANDARD
TZOFFSETFROM:-0400
TZOFFSETTO:-0500
TZNAME:EST
DTSTART:20231105T060000
END:STANDARD
BEGIN:DAYLIGHT
TZOFFSETFROM:-0500
TZOFFSETTO:-0400
TZNAME:EDT
DTSTART:20240310T070000
END:DAYLIGHT
BEGIN:STANDARD
TZOFFSETFROM:-0400
TZOFFSETTO:-0500
TZNAME:EST
DTSTART:20241103T060000
END:STANDARD
END:VTIMEZONE
BEGIN:VEVENT
DTSTART;TZID=UTC:20230905T180000
DTEND;TZID=UTC:20230905T200000
DTSTAMP:20260425T092109
CREATED:20230720T173747Z
LAST-MODIFIED:20230831T153143Z
UID:10000923-1693936800-1693944000@lwvspa.org
SUMMARY:All-Member General Meeting
DESCRIPTION:City of St. Pete Council Vice-Chair Deborah Figgs-Sanders will be speaking about hot topics in the city. Following the meeting the Reproductive Rights team will offer a 15-minute training on best practices in collecting the petitions to get abortion rights on the 2024 ballot. This is for people new to petition collection work. \n\n\n\nWe hope to see you there!  \n\n\n\nEmail office@lwvspa.org with any questions.
URL:https://lwvspa.org/event/all-member-general-meeting-3/
LOCATION:Allendale UMC\, 3803 Haines Road North\, St. Petersburg\, FL\, 33703\, United States
END:VEVENT
BEGIN:VEVENT
DTSTART;TZID=America/New_York:20230914T183000
DTEND;TZID=America/New_York:20230914T210000
DTSTAMP:20260425T092109
CREATED:20230807T123117Z
LAST-MODIFIED:20230807T123118Z
UID:10000988-1694716200-1694725200@lwvspa.org
SUMMARY:Hopped-Up on Democracy
DESCRIPTION:Hey smarty pants! Do you like Democracy? Craft Beer? Trivia\, Games and Prizes? Then join us for a FREE\, non-partisan\, democracy-themed Game Night\, special redistricting edition. Bring your friends\, bring your spouse who’s apathetic about voting\, bring your mom and let’s get our democracy on! Free food and drinks! \n\n\n\n\n\n		Register Here
URL:https://lwvspa.org/event/hopped-up-on-democracy/
LOCATION:Pinellas Ale Works\, 1962 1st Ave S\, Florida\, 33712
END:VEVENT
BEGIN:VEVENT
DTSTART;TZID=UTC:20230920T183000
DTEND;TZID=UTC:20230920T193000
DTSTAMP:20260425T092109
CREATED:20210304T081922Z
LAST-MODIFIED:20260225T153810Z
UID:10000823-1695234600-1695238200@lwvspa.org
SUMMARY:Voter Services Committee
DESCRIPTION:Join with the Voter Services Leadership Team to hear about our Voter Guide\, Candidate Forums\, Voter Registration\, & Election and Voter Protection.  \n\n\n\n\n\n		Join Via Zoom
URL:https://lwvspa.org/event/voter-services-committee/2023-09-20/
LOCATION:FL
END:VEVENT
BEGIN:VEVENT
DTSTART;TZID=UTC:20230920T183000
DTEND;TZID=UTC:20230920T193000
DTSTAMP:20260425T092109
CREATED:20210304T081922Z
LAST-MODIFIED:20230920T230203Z
UID:10000844-1695234600-1695238200@lwvspa.org
SUMMARY:Voter Services Committee
DESCRIPTION:Join with the Voter Services Leadership Team to hear about our Voter Guide\, Candidate Forums\, Voter Registration\, & Election and Voter Protection.  \n\n\n\nThis meeting will be held in-person.
URL:https://lwvspa.org/event/voter-services-committee-2023-09-20-2/
LOCATION:Allendale UMC\, 3803 Haines Road North\, St. Petersburg\, FL\, 33703\, United States
END:VEVENT
BEGIN:VEVENT
DTSTART;TZID=UTC:20230927T170000
DTEND;TZID=UTC:20230927T180000
DTSTAMP:20260425T092109
CREATED:20210130T033331Z
LAST-MODIFIED:20231113T115936Z
UID:10000929-1695834000-1695837600@lwvspa.org
SUMMARY:Committee on Membership
DESCRIPTION:Contact chair\, Amy Weintraub\, for more teleconference link or for more info.
URL:https://lwvspa.org/event/committee-on-membership-2-2023-05-24/2023-09-27/
LOCATION:FL
END:VEVENT
END:VCALENDAR