BEGIN:VCALENDAR
VERSION:2.0
PRODID:-//LWVSPA - ECPv6.15.20//NONSGML v1.0//EN
CALSCALE:GREGORIAN
METHOD:PUBLISH
X-WR-CALNAME:LWVSPA
X-ORIGINAL-URL:https://lwvspa.org
X-WR-CALDESC:Events for LWVSPA
REFRESH-INTERVAL;VALUE=DURATION:PT1H
X-Robots-Tag:noindex
X-PUBLISHED-TTL:PT1H
BEGIN:VTIMEZONE
TZID:America/New_York
BEGIN:DAYLIGHT
TZOFFSETFROM:-0500
TZOFFSETTO:-0400
TZNAME:EDT
DTSTART:20240310T070000
END:DAYLIGHT
BEGIN:STANDARD
TZOFFSETFROM:-0400
TZOFFSETTO:-0500
TZNAME:EST
DTSTART:20241103T060000
END:STANDARD
BEGIN:DAYLIGHT
TZOFFSETFROM:-0500
TZOFFSETTO:-0400
TZNAME:EDT
DTSTART:20250309T070000
END:DAYLIGHT
BEGIN:STANDARD
TZOFFSETFROM:-0400
TZOFFSETTO:-0500
TZNAME:EST
DTSTART:20251102T060000
END:STANDARD
BEGIN:DAYLIGHT
TZOFFSETFROM:-0500
TZOFFSETTO:-0400
TZNAME:EDT
DTSTART:20260308T070000
END:DAYLIGHT
BEGIN:STANDARD
TZOFFSETFROM:-0400
TZOFFSETTO:-0500
TZNAME:EST
DTSTART:20261101T060000
END:STANDARD
END:VTIMEZONE
BEGIN:VTIMEZONE
TZID:UTC
BEGIN:STANDARD
TZOFFSETFROM:+0000
TZOFFSETTO:+0000
TZNAME:UTC
DTSTART:20240101T000000
END:STANDARD
END:VTIMEZONE
BEGIN:VEVENT
DTSTART;TZID=America/New_York:20250701T170000
DTEND;TZID=America/New_York:20250701T180000
DTSTAMP:20260423T194926
CREATED:20250103T174649Z
LAST-MODIFIED:20250103T174651Z
UID:10001700-1751389200-1751392800@lwvspa.org
SUMMARY:National Popular Vote Committee
DESCRIPTION:First Tuesday of each month\, 5-6 pm.Join us as we talk strategy. First timers are welcome and all levels of experience are encouraged to join. \n\n\n\n\n\n		RSVP
URL:https://lwvspa.org/event/national-popular-vote-committee/2025-07-01/
LOCATION:FL
END:VEVENT
BEGIN:VEVENT
DTSTART;TZID=America/New_York:20250707T183000
DTEND;TZID=America/New_York:20250707T203000
DTSTAMP:20260423T194926
CREATED:20250604T194519Z
LAST-MODIFIED:20250604T194521Z
UID:10001874-1751913000-1751920200@lwvspa.org
SUMMARY:Paint N' Sip Fundraiser for the Tampa Bay Abortion Fund
DESCRIPTION:Join Art Den for a fundraiser! Net Proceeds to benefit Tampa Bay Abortion Fund\, hosted by the League of Women Voters — Saint Petersburg. \n\n\n\nWe will take you step by step to paint your own customizable masterpiece — choose your favorite color combo and make it uniquely yours! No experience? No problem. Art Den will guide you step by step in a relaxed\, creative setting. \n\n\n\nIf you are unable to attend the event and still wish to donate\, you can donate here. \n\n\n\nNO WALK-INS ACCEPTED – ADVANCE REGISTRATION REQUIRED \n\n\n\n\n\n\n\n		Buy Paint N’ Sip Tickets
URL:https://lwvspa.org/event/paint-n-sip-fundraiser-for-the-tampa-bay-abortion-fund/
LOCATION:The Hive\, 559 49th St. S.\, St. Petersburg\, Florida\, 33707\, United States
END:VEVENT
BEGIN:VEVENT
DTSTART;TZID=America/New_York:20250710T170000
DTEND;TZID=America/New_York:20250710T172000
DTSTAMP:20260423T194926
CREATED:20250628T182443Z
LAST-MODIFIED:20250628T182445Z
UID:10001949-1752166800-1752168000@lwvspa.org
SUMMARY:Social Justice Action Team - Final Vote
DESCRIPTION:LWVSPA Members only. \n\n\n\nThe Social Justice Action Team Proposal scored an average of 45 points at the 6/26 meeting – well above the 30 points required! 57 members voted. \n\n\n\nThe next step to adding this team is putting it to a final vote by LWVSPA members. In light of current events\, we are doing this via a brief Zoom meeting with a yes/no vote instead of waiting until the next all-member meeting in September. \n\n\n\nYou can view a recording of the Social Justice Action Team’s presentation (starts at 25 min 30 sec)\, and review the Social Justice Team Proposal. \n\n\n\nResults will be announced in the Weekly Update on the Sunday after the meeting. \n\n\n\nPlease email office@lwvspa.org for the Zoom link. You must be a LWVSPA member to vote. \n\n\n\nThank you!
URL:https://lwvspa.org/event/social-justice-action-team-final-vote/
LOCATION:FL
END:VEVENT
BEGIN:VEVENT
DTSTART;TZID=America/New_York:20250712T130000
DTEND;TZID=America/New_York:20250712T140000
DTSTAMP:20260423T194926
CREATED:20250611T212759Z
LAST-MODIFIED:20250611T212956Z
UID:10001875-1752325200-1752328800@lwvspa.org
SUMMARY:Boxing & Self Defense
DESCRIPTION:Every level\, including beginners\, welcome!Cost is $15 at the door.Please arrive 15-30 minutes early\, with an earlier arrival time if you are new to the sport.Open to family\, spouses\, and friends (ages 8+) \n\n\n\n\n\n\n\n		RSVP
URL:https://lwvspa.org/event/boxing-self-defense/
LOCATION:1MR One More Round\, 2626 Central Ave Unit A\, St. Petersburg\, Florida\, 33712\, United States
END:VEVENT
BEGIN:VEVENT
DTSTART;TZID=America/New_York:20250715T173000
DTEND;TZID=America/New_York:20250715T190000
DTSTAMP:20260423T194926
CREATED:20250616T221620Z
LAST-MODIFIED:20250616T221650Z
UID:10001883-1752600600-1752606000@lwvspa.org
SUMMARY:July Cocktails & Conversation
DESCRIPTION:We would love for you to join the League for Cocktails & Conversation\, and invite a guest or two. \n\n\n\nThese happy hours are the perfect time to relax with (or without!) a drink and enjoy some great company. \n\n\n\nThe July event will be at the Casual Clam in St. Petersburg.  \n\n\n\n\n\n		RSVP Here!
URL:https://lwvspa.org/event/july-cocktails-conversation/
LOCATION:The Casual Clam\, 3336 Dr M.L.K. Jr St N\, St. Petersburg\, Florida\, 33704\, United States
END:VEVENT
BEGIN:VEVENT
DTSTART;TZID=UTC:20250716T183000
DTEND;TZID=UTC:20250716T193000
DTSTAMP:20260423T194926
CREATED:20250614T192438Z
LAST-MODIFIED:20250622T011244Z
UID:10000883-1752690600-1752694200@lwvspa.org
SUMMARY:Voter Services Committee
DESCRIPTION:In addition to current events\, this agenda features new LWVSPA partnerships with USF:  the launch of LWVUSF and a Returning Citizens research project co-sponsored by LWVFL. \n\n\n\nPlease contact office@lwvspa.org for info on joining our meetings via Zoom.
URL:https://lwvspa.org/event/voter-services-committee-5/
LOCATION:FL
END:VEVENT
BEGIN:VEVENT
DTSTART;TZID=America/New_York:20250717T163000
DTEND;TZID=America/New_York:20250717T180000
DTSTAMP:20260423T194926
CREATED:20250628T184248Z
LAST-MODIFIED:20250628T184347Z
UID:10001950-1752769800-1752775200@lwvspa.org
SUMMARY:“Good Trouble Lives On” #Resistance Day of Action
DESCRIPTION:Our nation is in a constitutional crisis. Now more than ever\, it’s critical that League members have mobilize in our communities to defend our democracy. \n\n\n\nAnother #Resistance DAY OF ACTION with Pinellas NOW and LWVSPA! We will be sign-waving & chanting around the perimeter of Williams Park and surrounding intersections against the attacks posed on our civil and human rights by the Trump administration and to remind them that in America\, the power lies with the people. \n\n\n\nGood Trouble Lives On is a national day of nonviolent action on the anniversary of Congressman John Lewis’s passing. This event is in solidarity with sister events being held across the nation on July 17th to defend our democracy and carry forward his legacy of Good Trouble. \n\n\n\nPlease register using this link: https://mobilize.us/s/NBIFXM \n\n\n\nFor more event information\, visit: tinyurl.com/StPeteJuly17
URL:https://lwvspa.org/event/good-trouble-lives-on-resistance-day-of-action/
LOCATION:Williams Park\, 350 2nd Ave N\, St. Petersburg\, Florida\, 33701\, United States
END:VEVENT
BEGIN:VEVENT
DTSTART;TZID=America/New_York:20250719T100000
DTEND;TZID=America/New_York:20250719T120000
DTSTAMP:20260423T194926
CREATED:20250708T145045Z
LAST-MODIFIED:20250708T145053Z
UID:10001952-1752919200-1752926400@lwvspa.org
SUMMARY:St. Petersburg NAACP 2025 Legislative Debrief
DESCRIPTION:St. Petersburg NAACP in partnership with Equal Ground\, will host a 2025 Legislative Update and Forum. LWVSPA is co-hosting\, and Voter Services co-chair Heidi Davis will speak! \n\n\n\nParticipants will have an opportunity to get updates on what bills did and did not pass this legislative session\, learn the impact these bills will have on our communities\, discover ways to stay engaged\, and fight for the issues that matter to our community. This event is virtual. Please RSVP to attend. \n\n\n\n\n\n		RSVP to Attend
URL:https://lwvspa.org/event/st-petersburg-naacp-2025-legislative-debrief/
LOCATION:FL
END:VEVENT
BEGIN:VEVENT
DTSTART;TZID=America/New_York:20250721T170000
DTEND;TZID=America/New_York:20250721T180000
DTSTAMP:20260423T194926
CREATED:20250620T130834Z
LAST-MODIFIED:20250620T130836Z
UID:10001885-1753117200-1753120800@lwvspa.org
SUMMARY:Helping the Helpers: Showing Up For Yourself While Standing Up For Others
DESCRIPTION:LWVSPA members only. \n\n\n\nThis will be an interactive panel involving a discussion\, psychoeducation\, and action items. Topics will include: radical hope\, burnout and self-care\, and navigating feelings of guilt. \n\n\n\nJessica Klein\, LMHC\, works at It Begins Within Healing Center in St. Petersburg. She specializes in couples and adults. Her areas of interest/specializations are: life transitions\, interpersonal challenges\, and deepening self-understanding. \n\n\n\nMeredith Mechanik\, RCSWI\, is a therapist at Mosaic Wellness Collective in Tampa. She works with teens and adults\, with a focus on college students\, parents\, and members of the LGBTQ+ community. In addition to addressing anxiety\, depression\, and life transitions\, Meredith supports clients through concerns related to identity development\, neurodivergence\, and perfectionism. \n\n\n\nKayla Rosenkrans is a Licensed Mental Health Counselor (LMHC) in the state of Florida. She has worked in the mental health field for nearly seven years in private practice\, residential treatment\, crisis response\, and in domestic violence/homeless shelters. Currently\, Kayla runs her own therapy practice called Solace Counseling Center\, based in St. Petersburg\, FL. She works with individuals navigating anxiety\, trauma\, codependency\, and relationship challenges. \n\n\n\n\n\n		Register for Zoom
URL:https://lwvspa.org/event/helping-the-helpers-showing-up-for-yourself-while-standing-up-for-others/
LOCATION:FL
END:VEVENT
BEGIN:VEVENT
DTSTART;TZID=America/New_York:20250721T183000
DTEND;TZID=America/New_York:20250721T200000
DTSTAMP:20260423T194926
CREATED:20250218T162007Z
LAST-MODIFIED:20250620T132519Z
UID:10001890-1753122600-1753128000@lwvspa.org
SUMMARY:Board Meeting
DESCRIPTION:If any LWVSPA member wishes to address the board\, they should email the president at president@lwvspa.org to get on the agenda and to receive meeting info (such as location or Zoom login).
URL:https://lwvspa.org/event/board-meeting-4/2025-07-21/
LOCATION:FL
END:VEVENT
BEGIN:VEVENT
DTSTART;TZID=UTC:20250723T170000
DTEND;TZID=UTC:20250723T180000
DTSTAMP:20260423T194926
CREATED:20210130T033331Z
LAST-MODIFIED:20231113T115936Z
UID:10000951-1753290000-1753293600@lwvspa.org
SUMMARY:Committee on Membership
DESCRIPTION:Contact chair\, Amy Weintraub\, for more teleconference link or for more info.
URL:https://lwvspa.org/event/committee-on-membership-2-2023-05-24/2025-07-23/
LOCATION:FL
END:VEVENT
BEGIN:VEVENT
DTSTART;TZID=America/New_York:20250730T170000
DTEND;TZID=America/New_York:20250730T180000
DTSTAMP:20260423T194926
CREATED:20250710T104419Z
LAST-MODIFIED:20250710T104421Z
UID:10001954-1753894800-1753898400@lwvspa.org
SUMMARY:Finance Committee Meeting
DESCRIPTION:Email office@lwvspa.org for more info.
URL:https://lwvspa.org/event/finance-committee-meeting/
LOCATION:FL
END:VEVENT
END:VCALENDAR