BEGIN:VCALENDAR
VERSION:2.0
PRODID:-//LWVSPA - ECPv6.15.20//NONSGML v1.0//EN
CALSCALE:GREGORIAN
METHOD:PUBLISH
X-ORIGINAL-URL:https://lwvspa.org
X-WR-CALDESC:Events for LWVSPA
REFRESH-INTERVAL;VALUE=DURATION:PT1H
X-Robots-Tag:noindex
X-PUBLISHED-TTL:PT1H
BEGIN:VTIMEZONE
TZID:UTC
BEGIN:STANDARD
TZOFFSETFROM:+0000
TZOFFSETTO:+0000
TZNAME:UTC
DTSTART:20190101T000000
END:STANDARD
END:VTIMEZONE
BEGIN:VEVENT
DTSTART;TZID=UTC:20201022T063000
DTEND;TZID=UTC:20201022T210000
DTSTAMP:20260425T223432
CREATED:20201202T002323Z
LAST-MODIFIED:20201202T002325Z
UID:10000446-1603348200-1603400400@lwvspa.org
SUMMARY:Councilwoman Gina Driscoll Talks St Pete Food Policy Council
DESCRIPTION:Join this exciting discussion featuring Council Woman Gina Driscoll to talk about the newly approved independent Food Policy Council and her efforts to address food insecurity in St Petersburg.  As part of our event\, we encourage everyone to move along in their journey to a plant-centered diet\, so we’ve identified some terrific plant-based dining partners. Please choose an awesome dinner meal\, order online or call it in\, pick it up\, be safe\, and head back home to share this digital dining adventure with us. The event RSVP page includes links to the restaurants with a website.  Thank you to our Co-Sponsors: St. Petersburg Free Clinic\, Foundation for a Healthy St. Petersburg\, Wunder Farms\, One Community Grocery Co-op\, Sustainable Urban Agriculture Coalition\, and St Petersburg Plant Society.  Everyone’s welcome\, even if you are not dining with a meal from one of these! Please RSVP below\, so we can set our table for you.Registration link: http://events.constantcontact.com/register/event?llr=hljhxzdab&oeidk=a07ehb3vkbd9b71f8b3Facebook event link: https://www.facebook.com/events/2710597135862314
URL:https://lwvspa.org/event/councilwoman-gina-driscoll-talks-st-pete-food-policy-council/
ATTACH;FMTTYPE=image/jpeg:https://lwvspa.org/wp-content/uploads/iStock-1220069395-1-scaled.jpg
END:VEVENT
BEGIN:VEVENT
DTSTART;TZID=UTC:20201020T180000
DTEND;TZID=UTC:20201020T210000
DTSTAMP:20260425T223432
CREATED:20201202T002219Z
LAST-MODIFIED:20201202T002221Z
UID:10000445-1603216800-1603227600@lwvspa.org
SUMMARY:General Meeting
DESCRIPTION:Our online General Meetings for all members provides updates on League info and offers an opportunity for two-way communication with League and Action Group leaders.Registration link: https://events.r20.constantcontact.com/register/eventReg?oeidk=a07ehb3ch8ocb5a3341&oseq=&c=&ch=Facebook event link: https://www.facebook.com/events/327474785363290
URL:https://lwvspa.org/event/general-meeting/
ATTACH;FMTTYPE=image/jpeg:https://lwvspa.org/wp-content/uploads/the-climate-reality-project-Hb6uWq0i4MI-unsplash-1-scaled.jpg
END:VEVENT
BEGIN:VEVENT
DTSTART;TZID=UTC:20201019T190000
DTEND;TZID=UTC:20201019T210000
DTSTAMP:20260425T223432
CREATED:20201202T002115Z
LAST-MODIFIED:20201202T002117Z
UID:10000444-1603134000-1603141200@lwvspa.org
SUMMARY:Food Politics Meeting
DESCRIPTION:(recurring monthly on the third Monday) \n\n\n\n\nJOIN US for the LWVSPA Food Politics (FKA Plant Power) Action Team.   \n\n\n\nThis year\, our primary goals are to educate people about the impact of their food choices on the corrupting influence of money in politics\, personal health and environmental impacts; to find like-minded people and organizations\, to empower individuals to take personal action\, and perhaps most importantly\, to have fun and eat good food. In this meeting we will develop our action plan\, talk about our budget and get started! \n\n\n\nVideo conference link: https://meet.google.com/ioc-atgf-jxb
URL:https://lwvspa.org/event/food-politics-meeting/
ATTACH;FMTTYPE=image/jpeg:https://lwvspa.org/wp-content/uploads/the-creative-exchange-ixS7UCRJTdM-unsplash-1-scaled.jpg
END:VEVENT
END:VCALENDAR