BEGIN:VCALENDAR
VERSION:2.0
PRODID:-//LWVSPA - ECPv6.15.20//NONSGML v1.0//EN
CALSCALE:GREGORIAN
METHOD:PUBLISH
X-WR-CALNAME:LWVSPA
X-ORIGINAL-URL:https://lwvspa.org
X-WR-CALDESC:Events for LWVSPA
REFRESH-INTERVAL;VALUE=DURATION:PT1H
X-Robots-Tag:noindex
X-PUBLISHED-TTL:PT1H
BEGIN:VTIMEZONE
TZID:America/New_York
BEGIN:DAYLIGHT
TZOFFSETFROM:-0500
TZOFFSETTO:-0400
TZNAME:EDT
DTSTART:20230312T070000
END:DAYLIGHT
BEGIN:STANDARD
TZOFFSETFROM:-0400
TZOFFSETTO:-0500
TZNAME:EST
DTSTART:20231105T060000
END:STANDARD
BEGIN:DAYLIGHT
TZOFFSETFROM:-0500
TZOFFSETTO:-0400
TZNAME:EDT
DTSTART:20240310T070000
END:DAYLIGHT
BEGIN:STANDARD
TZOFFSETFROM:-0400
TZOFFSETTO:-0500
TZNAME:EST
DTSTART:20241103T060000
END:STANDARD
BEGIN:DAYLIGHT
TZOFFSETFROM:-0500
TZOFFSETTO:-0400
TZNAME:EDT
DTSTART:20250309T070000
END:DAYLIGHT
BEGIN:STANDARD
TZOFFSETFROM:-0400
TZOFFSETTO:-0500
TZNAME:EST
DTSTART:20251102T060000
END:STANDARD
END:VTIMEZONE
BEGIN:VTIMEZONE
TZID:UTC
BEGIN:STANDARD
TZOFFSETFROM:+0000
TZOFFSETTO:+0000
TZNAME:UTC
DTSTART:20230101T000000
END:STANDARD
END:VTIMEZONE
BEGIN:VEVENT
DTSTART;TZID=America/New_York:20241005T100000
DTEND;TZID=America/New_York:20241005T160000
DTSTAMP:20260424T110452
CREATED:20240913T143520Z
LAST-MODIFIED:20240918T172502Z
UID:10001592-1728122400-1728144000@lwvspa.org
SUMMARY:Yes on 4 Weekend of Action "Signed\, Sealed\, and Delivered"
DESCRIPTION:Canvass and REACH App Power Hour \n\n\n\n\n\nSign up for a variety of voter outreach activities during this Weekend of Action. \n\n\n\n·       Sat\, Oct 5 registration: https://www.mobilize.us/yes4florida/event/692085/ \n\n\n\n·       Sun\, Oct 6 registration: https://www.mobilize.us/yes4florida/event/692090/
URL:https://lwvspa.org/event/yes-on-4-weekend-of-action-signed-sealed-and-delivered/2024-10-05/
LOCATION:Florida
END:VEVENT
BEGIN:VEVENT
DTSTART;TZID=America/New_York:20241002T180000
DTEND;TZID=America/New_York:20241002T190000
DTSTAMP:20260424T110452
CREATED:20240913T145105Z
LAST-MODIFIED:20240913T145107Z
UID:10001595-1727892000-1727895600@lwvspa.org
SUMMARY:Sustainability Action Team Meeting
DESCRIPTION:The Sustainability Action Team is meeting at the Sanderlin Center Rain Garden. Email lauracrabtree.league@gmail.com if you need more info.
URL:https://lwvspa.org/event/sustainability-action-team-meeting-3/2024-10-02/
LOCATION:Sanderlin Center\, 2335 22nd Ave S\, Saint Petersburg\, Florida\, 33712\, United States
END:VEVENT
BEGIN:VEVENT
DTSTART;TZID=America/New_York:20241001T174500
DTEND;TZID=America/New_York:20241001T190000
DTSTAMP:20260424T110452
CREATED:20240904T172106Z
LAST-MODIFIED:20240904T172129Z
UID:10001588-1727804700-1727809200@lwvspa.org
SUMMARY:LWVSPA All-Member Meeting: Let's Tour the Supervisor of Elections Office
DESCRIPTION:For our October meeting\, we will gather at the Pinellas County Supervisor of Elections office where we will hear from senior staff on their goals and programs to ensure equal access to voter registration and ballots and transparency of the electoral process. We will have a tour of their operations. \n\n\n\nThis meeting is open to League members only and registration is required. \n\n\n\n\n\n		RSVP for the All-Member Meeting
URL:https://lwvspa.org/event/lwvspa-all-member-meeting-lets-tour-the-supervisor-of-elections-office-2/
LOCATION:Pinellas Election Service Center\, 13001 Starkey Rd.\, Largo\, Florida\, 33773\, United States
END:VEVENT
BEGIN:VEVENT
DTSTART;TZID=America/New_York:20240930T183000
DTEND;TZID=America/New_York:20240930T210000
DTSTAMP:20260424T110452
CREATED:20240913T151223Z
LAST-MODIFIED:20240929T115723Z
UID:10001598-1727721000-1727730000@lwvspa.org
SUMMARY:CANCELED: Hopped-Up on Democracy
DESCRIPTION:Canceled due to hurricane Helene. \n\n\n\n \n\n\n\n\n\n		RSVP Here
URL:https://lwvspa.org/event/hopped-up-on-democracy-2/
LOCATION:Grand Central Brewhouse\, 2340 Central Ave\, St. Petersburg\, Florida\, 33712\, United States
END:VEVENT
BEGIN:VEVENT
DTSTART;TZID=America/New_York:20240929T150000
DTEND;TZID=America/New_York:20240929T180000
DTSTAMP:20260424T110452
CREATED:20240922T004600Z
LAST-MODIFIED:20240929T115632Z
UID:10001603-1727622000-1727632800@lwvspa.org
SUMMARY:CANCELED: Yes on 4 Tabling @ Cage Brewing's Family Fun Day
DESCRIPTION:Canceled due to hurricane Helene
URL:https://lwvspa.org/event/yes-on-4-table-cage-brewings-family-fun-day/
LOCATION:Cage Brewing\, 2001 1st Ave S\, St. Petersburg\, Florida\, 33712\, United States
END:VEVENT
BEGIN:VEVENT
DTSTART;TZID=America/New_York:20240929T130000
DTEND;TZID=America/New_York:20240929T170000
DTSTAMP:20260424T110452
CREATED:20240921T153024Z
LAST-MODIFIED:20240921T153027Z
UID:10001601-1727614800-1727629200@lwvspa.org
SUMMARY:Help Us Restore St. Pete's Diversity in Democracy Mural!
DESCRIPTION:RSVP on Facebook\n\n\n\n\nIn late May/early June\, and again\, in September\, the St. Pete “Diversity in Democracy” mural was vandalized with anti-voting messages.  \n\n\n\nJoin the League of Women Voters of the St. Petersburg Area and Artists John Gascot and James Hartzell in restoring this downtown symbol of community and unity. Under their guidance\, the public will have a hand in bringing this mural back to life! \n\n\n\nThe “Diversity in Democracy” mural was created by St. Pete artists John Gascot and James Hartzell and commissioned by the League of Women Voters of the St. Petersburg Area as a vibrant public art piece to encourage voting and celebrate our community’s diversity leading up to the 2020 election. This mural stands as a testament to the power of civic engagement. Despite this setback\, artists Gascot and Hartzell remain undeterred. They are committed to repairing the mural and reinforcing its crucial message: that voting is more important now than ever. \n\n\n\nMaterials and bottled water (while supplies last) will be provided. \n\n\n\nVOTER REGISTRATION WILL BE ON SITE DURING THIS EVENT.
URL:https://lwvspa.org/event/help-us-restore-st-petes-diversity-in-democracy-mural/
LOCATION:Florida
END:VEVENT
BEGIN:VEVENT
DTSTART;TZID=America/New_York:20240928T100000
DTEND;TZID=America/New_York:20240928T120000
DTSTAMP:20260424T110452
CREATED:20240904T171430Z
LAST-MODIFIED:20240913T143013Z
UID:10001587-1727517600-1727524800@lwvspa.org
SUMMARY:St. Pete Neighborhood Yes on 4 Canvass - Pasadena/S. Pasadena
DESCRIPTION:Join the St. Pete League of Women Voters for a neighborhood canvass. \n\n\n\nTogether we will learn the best practices for canvassing and how to talk to voters about supporting the Amendment to Limit Government Interference with Abortion! \n\n\n\nDuring this event\, participants will be paired up with a fellow volunteer and have the opportunity use their new skills to identify Yes on 4 supporters and promote Amendment 4 to a broader audience. \n\n\n\nWith your help\, we can end the near total abortion ban in Florida! Let’s go! \n\n\n\n\n\n		Register to Canvass
URL:https://lwvspa.org/event/st-pete-neighborhood-yes-on-4-canvass-pasadena-s-pasadena/
LOCATION:Florida
END:VEVENT
BEGIN:VEVENT
DTSTART;TZID=America/New_York:20240925T180000
DTEND;TZID=America/New_York:20240925T193000
DTSTAMP:20260424T110452
CREATED:20240913T142856Z
LAST-MODIFIED:20240913T142859Z
UID:10001589-1727287200-1727292600@lwvspa.org
SUMMARY:Reproductive Rights Panel Discussion: Abortion Access is Religious Freedom
DESCRIPTION:Please attend this FREE virtual panel\, and share with other passionate friends. Panelists will discuss the connection between reproductive freedom and church state separation\, highlighting their case challenging Missouri’s abortion ban under the state’s Establishment Clause\, as well as how the rise of Christian Nationalism is a threat to both abortion rights and religious freedom. This event is open to the general public and not limited to League members.  \n\n\n\nWe’ll also provide important #YesOn4 campaign updates at the top of the meeting. This meeting will take place in lieu of our regular monthly Repro Rights Action Team Meeting\, but will incorporate all regular content and calls to action. \n\n\n\nPreviously recorded panels in this Reproductive Rights Panel Series can be found on the LWVSPA’s YouTube channel\, here. \n\n\n\n\n\n		Register Here
URL:https://lwvspa.org/event/reproductive-rights-panel-discussion-abortion-access-is-religious-freedom/
LOCATION:Florida
END:VEVENT
BEGIN:VEVENT
DTSTART;TZID=UTC:20240925T170000
DTEND;TZID=UTC:20240925T180000
DTSTAMP:20260424T110452
CREATED:20210130T033331Z
LAST-MODIFIED:20231113T115936Z
UID:10000941-1727283600-1727287200@lwvspa.org
SUMMARY:Committee on Membership
DESCRIPTION:Contact chair\, Amy Weintraub\, for more teleconference link or for more info.
URL:https://lwvspa.org/event/committee-on-membership-2-2023-05-24/2024-09-25/
LOCATION:Florida
END:VEVENT
BEGIN:VEVENT
DTSTART;TZID=America/New_York:20240922T140000
DTEND;TZID=America/New_York:20240922T160000
DTSTAMP:20260424T110452
CREATED:20240904T171302Z
LAST-MODIFIED:20240904T171338Z
UID:10001586-1727013600-1727020800@lwvspa.org
SUMMARY:St. Pete Neighborhood Yes on 4 Canvass - Allendale
DESCRIPTION:Join the St. Pete League of Women Voters for a neighborhood canvass. \n\n\n\nTogether we will learn the best practices for canvassing and how to talk to voters about supporting the Amendment to Limit Government Interference with Abortion! \n\n\n\nDuring this event\, participants will be paired up with a fellow volunteer and have the opportunity use their new skills to identify Yes on 4 supporters and promote Amendment 4 to a broader audience. \n\n\n\nWith your help\, we can end the near total abortion ban in Florida! Let’s go! \n\n\n\n\n\n		Register to Canvass
URL:https://lwvspa.org/event/st-pete-neighborhood-canvass-allendale/
LOCATION:Florida
END:VEVENT
BEGIN:VEVENT
DTSTART;TZID=America/New_York:20240921T100000
DTEND;TZID=America/New_York:20240921T120000
DTSTAMP:20260424T110452
CREATED:20240904T170941Z
LAST-MODIFIED:20240904T171150Z
UID:10001585-1726912800-1726920000@lwvspa.org
SUMMARY:St. Pete Neighborhood Yes on 4 Canvass - Woodlawn
DESCRIPTION:Join the St. Pete League of Women Voters for a neighborhood canvass. \n\n\n\nTogether we will learn the best practices for canvassing and how to talk to voters about supporting the Amendment to Limit Government Interference with Abortion! \n\n\n\nDuring this event\, participants will be paired up with a fellow volunteer and have the opportunity use their new skills to identify Yes on 4 supporters and promote Amendment 4 to a broader audience. \n\n\n\nWith your help\, we can end the near total abortion ban in Florida! Let’s go! \n\n\n\n\n\n		Register to Canvass
URL:https://lwvspa.org/event/st-pete-neighborhood-canvass-woodlawn/
LOCATION:Florida
END:VEVENT
BEGIN:VEVENT
DTSTART;TZID=America/New_York:20240919T173000
DTEND;TZID=America/New_York:20240919T193000
DTSTAMP:20260424T110452
CREATED:20240913T143227Z
LAST-MODIFIED:20240913T143230Z
UID:10001590-1726767000-1726774200@lwvspa.org
SUMMARY:Yes on 4! Super Saturday Neighborhood Canvass - Live Oak Neighborhood
DESCRIPTION:Join the St. Pete League of Women Voters for a neighborhood canvass. \n\n\n\nTogether we will learn the best practices for canvassing and how to talk to voters about supporting the Amendment to Limit Government Interference with Abortion! \n\n\n\nDuring this event\, participants will be paired up with a fellow volunteer and have the opportunity use their new skills to identify Yes on 4 supporters and promote Amendment 4 to a broader audience. \n\n\n\nWith your help\, we can end the near total abortion ban in Florida! Let’s go! \n\n\n\n\n\n		Register
URL:https://lwvspa.org/event/yes-on-4-super-saturday-neighborhood-canvass-live-oak-neighborhood-2/
LOCATION:Florida
END:VEVENT
BEGIN:VEVENT
DTSTART;TZID=UTC:20240918T183000
DTEND;TZID=UTC:20240918T193000
DTSTAMP:20260424T110453
CREATED:20210304T081922Z
LAST-MODIFIED:20260225T153810Z
UID:10000835-1726684200-1726687800@lwvspa.org
SUMMARY:Voter Services Committee
DESCRIPTION:Join with the Voter Services Leadership Team to hear about our Voter Guide\, Candidate Forums\, Voter Registration\, & Election and Voter Protection.  \n\n\n\n\n\n		Join Via Zoom
URL:https://lwvspa.org/event/voter-services-committee/2024-09-18/
LOCATION:Florida
END:VEVENT
BEGIN:VEVENT
DTSTART;TZID=UTC:20240918T174500
DTEND;TZID=UTC:20240918T184500
DTSTAMP:20260424T110453
CREATED:20240802T160935Z
LAST-MODIFIED:20240802T160938Z
UID:10001576-1726681500-1726685100@lwvspa.org
SUMMARY:Orientation for New & Prospective League Members
DESCRIPTION:As one of the most active advocacy and policy education groups in Pinellas County\, the League of Women Voters’ current issues include voter engagement\, education\, and protection; environmental sustainability; social justice; reproductive rights; public schools/education; and the National Popular Vote. \n\n\n\nNew Member Orientation is designed to orient folks who are curious about the League\, as well as those who’ve been members for less than a year. \n\n\n\n** Childcare will be offered in the Allendale nursery. If you need this service\, indicate the names and ages of your children upon registration.** \n\n\n\nOur hope is that everyone will find what interests them and get involved as expediently as possible. \n\n\n\nRegister in advance for this meeting: \n\n\n\n\n\n		RSVP Here
URL:https://lwvspa.org/event/orientation-for-new-prospective-league-members-8/
LOCATION:Allendale UMC\, 3803 Haines Road North\, St. Petersburg\, FL\, 33703\, United States
END:VEVENT
BEGIN:VEVENT
DTSTART;TZID=America/New_York:20240917T173000
DTEND;TZID=America/New_York:20240917T193000
DTSTAMP:20260424T110453
CREATED:20240827T150324Z
LAST-MODIFIED:20240827T150431Z
UID:10001582-1726594200-1726601400@lwvspa.org
SUMMARY:September Cocktails & Conversation
DESCRIPTION:We would love for you to join the League for Cocktails & Conversation\, and invite a guest or two.  \n\n\n\nThese happy hours are the perfect time to relax with (or without!) a drink.  \n\n\n\nCome have a beverage and a bite\, meet some new members and catch up with old friends.  \n\n\n\nFood and drinks are available for purchase\, and there’s plenty of parking on-site. \n\n\n\n\n\n\n\n		Register Here
URL:https://lwvspa.org/event/september-cocktails-conversation/
LOCATION:Sesh Brewing Company\, 2221 4th St N\, St. Petersburg\, Florida\, 33704\, United States
END:VEVENT
BEGIN:VEVENT
DTSTART;TZID=America/New_York:20240915T083000
DTEND;TZID=America/New_York:20240915T103000
DTSTAMP:20260424T110453
CREATED:20240828T153626Z
LAST-MODIFIED:20240828T153643Z
UID:10001583-1726389000-1726396200@lwvspa.org
SUMMARY:Parent Advocacy League Meeting
DESCRIPTION:This brand-new group is dedicated to providing an opportunity for parents to get involved in League work in a kid-friendly environment!Come learn about the league\, how to get involved\, meet other parent advocates\, and bring your little ones! \n\n\n\nPlease register in advance.League members are free. Prospective league members must pay the Run+Play admission fee. \n\n\n\n\n\n		Register Here
URL:https://lwvspa.org/event/parent-advocacy-league-meeting-3/
LOCATION:Run+Play Kids Cafe\, 3950 Central Ave\, St. Petersburg\, Florida\, 33711\, United States
END:VEVENT
BEGIN:VEVENT
DTSTART;TZID=America/New_York:20240914T100000
DTEND;TZID=America/New_York:20240914T120000
DTSTAMP:20260424T110453
CREATED:20240802T161900Z
LAST-MODIFIED:20240802T173529Z
UID:10001580-1726308000-1726315200@lwvspa.org
SUMMARY:Yes on 4! Super Saturday Neighborhood Canvass - Bayway Area
DESCRIPTION:Join the St. Pete League of Women Voters for a neighborhood canvass. \n\n\n\nTogether we will learn the best practices for canvassing and how to talk to voters about supporting the Amendment to Limit Government Interference with Abortion! \n\n\n\nDuring this event\, participants will be paired up with a fellow volunteer and have the opportunity use their new skills to identify Yes on 4 supporters and promote Amendment 4 to a broader audience. \n\n\n\nWith your help\, we can end the near total abortion ban in Florida! Let’s go! \n\n\n\n\n\n		Register to Canvass
URL:https://lwvspa.org/event/yes-on-4-super-saturday-neighborhood-canvass-bayway-area/
LOCATION:Florida
END:VEVENT
BEGIN:VEVENT
DTSTART;TZID=America/New_York:20240908T100000
DTEND;TZID=America/New_York:20240908T120000
DTSTAMP:20260424T110453
CREATED:20240802T161732Z
LAST-MODIFIED:20240904T210527Z
UID:10001579-1725789600-1725796800@lwvspa.org
SUMMARY:Yes on 4! Super Saturday Neighborhood Canvass - Live Oak Neighborhood
DESCRIPTION:(Originally scheduled for the evening of 9/4\, moved to morning of 9/8 due to weather). \n\n\n\nJoin the St. Pete League of Women Voters for a neighborhood canvass. \n\n\n\nTogether we will learn the best practices for canvassing and how to talk to voters about supporting the Amendment to Limit Government Interference with Abortion! \n\n\n\nDuring this event\, participants will be paired up with a fellow volunteer and have the opportunity use their new skills to identify Yes on 4 supporters and promote Amendment 4 to a broader audience. \n\n\n\nWith your help\, we can end the near total abortion ban in Florida! Let’s go! \n\n\n\n\n\n		Register to Canvass
URL:https://lwvspa.org/event/yes-on-4-super-saturday-neighborhood-canvass-live-oak-neighborhood/
LOCATION:Florida
END:VEVENT
BEGIN:VEVENT
DTSTART;TZID=America/New_York:20240831T100000
DTEND;TZID=America/New_York:20240831T120000
DTSTAMP:20260424T110453
CREATED:20240802T161539Z
LAST-MODIFIED:20240802T173641Z
UID:10001578-1725098400-1725105600@lwvspa.org
SUMMARY:Yes on 4! Super Saturday Neighborhood Canvass - Disston Heights Neighborhood
DESCRIPTION:Join the St. Pete League of Women Voters for a neighborhood canvass. \n\n\n\nTogether we will learn the best practices for canvassing and how to talk to voters about supporting the Amendment to Limit Government Interference with Abortion! \n\n\n\nDuring this event\, participants will be paired up with a fellow volunteer and have the opportunity use their new skills to identify Yes on 4 supporters and promote Amendment 4 to a broader audience. \n\n\n\nWith your help\, we can end the near total abortion ban in Florida! Let’s go! \n\n\n\n\n\n		Register to Canvass
URL:https://lwvspa.org/event/yes-on-4-super-saturday-neighborhood-canvass-disston-heights-neighborhood/
LOCATION:Florida
END:VEVENT
BEGIN:VEVENT
DTSTART;TZID=America/New_York:20240828T180000
DTEND;TZID=America/New_York:20240828T190000
DTSTAMP:20260424T110453
CREATED:20240726T144250Z
LAST-MODIFIED:20240802T173659Z
UID:10001515-1724868000-1724871600@lwvspa.org
SUMMARY:Reproductive Rights Action Team Meeting
DESCRIPTION:Join us via Zoom! We meet monthly on the 4th Wednesday. \n\n\n\n\n\n\n\n		Register for the Zoom
URL:https://lwvspa.org/event/reproductive-rights-action-team-meeting-3/2024-08-28/
LOCATION:Florida
END:VEVENT
BEGIN:VEVENT
DTSTART;TZID=UTC:20240828T170000
DTEND;TZID=UTC:20240828T180000
DTSTAMP:20260424T110453
CREATED:20210130T033331Z
LAST-MODIFIED:20231113T115936Z
UID:10000940-1724864400-1724868000@lwvspa.org
SUMMARY:Committee on Membership
DESCRIPTION:Contact chair\, Amy Weintraub\, for more teleconference link or for more info.
URL:https://lwvspa.org/event/committee-on-membership-2-2023-05-24/2024-08-28/
LOCATION:Florida
END:VEVENT
BEGIN:VEVENT
DTSTART;TZID=America/New_York:20240824T150000
DTEND;TZID=America/New_York:20240824T170000
DTSTAMP:20260424T110453
CREATED:20240802T161343Z
LAST-MODIFIED:20240802T173719Z
UID:10001577-1724511600-1724518800@lwvspa.org
SUMMARY:Yes on 4! Super Saturday Neighborhood Canvass - Allendale Neighborhood
DESCRIPTION:Join the St. Pete League of Women Voters for a neighborhood canvass. \n\n\n\nTogether we will learn the best practices for canvassing and how to talk to voters about supporting the Amendment to Limit Government Interference with Abortion! \n\n\n\nDuring this event\, participants will be paired up with a fellow volunteer and have the opportunity use their new skills to identify Yes on 4 supporters and promote Amendment 4 to a broader audience. \n\n\n\nWith your help\, we can end the near total abortion ban in Florida! Let’s go! \n\n\n\n\n\n		Register to Canvass\n\n\n\n\nFacebook event page: https://www.facebook.com/events/1651839908936940
URL:https://lwvspa.org/event/yes-on-4-super-saturday-neighborhood-canvass-allendale-neighborhood/
LOCATION:Florida
END:VEVENT
BEGIN:VEVENT
DTSTART;TZID=UTC:20240821T183000
DTEND;TZID=UTC:20240821T193000
DTSTAMP:20260424T110453
CREATED:20210304T081922Z
LAST-MODIFIED:20260225T153810Z
UID:10000834-1724265000-1724268600@lwvspa.org
SUMMARY:Voter Services Committee
DESCRIPTION:Join with the Voter Services Leadership Team to hear about our Voter Guide\, Candidate Forums\, Voter Registration\, & Election and Voter Protection.  \n\n\n\n\n\n		Join Via Zoom
URL:https://lwvspa.org/event/voter-services-committee/2024-08-21/
LOCATION:Florida
END:VEVENT
BEGIN:VEVENT
DTSTART;TZID=America/New_York:20240820T070000
DTEND;TZID=America/New_York:20240820T190000
DTSTAMP:20260424T110453
CREATED:20240717T155616Z
LAST-MODIFIED:20240717T155619Z
UID:10001509-1724137200-1724180400@lwvspa.org
SUMMARY:Florida Primary Election
DESCRIPTION:August 20th is the Florida Primary Election. Polls are open 7am-7pm.  \n\n\n\nFind your polling place and view a sample ballot at https://www.votepinellas.gov/
URL:https://lwvspa.org/event/florida-primary-election/
LOCATION:Florida
END:VEVENT
BEGIN:VEVENT
DTSTART;TZID=America/New_York:20240817T090000
DTEND;TZID=America/New_York:20240817T110000
DTSTAMP:20260424T110453
CREATED:20240803T193935Z
LAST-MODIFIED:20240803T193937Z
UID:10001581-1723885200-1723892400@lwvspa.org
SUMMARY:Parent Advocacy League Meeting
DESCRIPTION:This brand-new group is dedicated to providing an opportunity for parents to get involved in League work in a kid-friendly environment!Come learn about the league\, how to get involved\, meet other parent advocates\, and bring your little ones! \n\n\n\nPlease register in advance.League members are free. Prospective league members must pay the Run+Play admission fee. \n\n\n\n\n\n		Register Here
URL:https://lwvspa.org/event/parent-advocacy-league-meeting-2/
LOCATION:Run+Play Kids Cafe\, 3950 Central Ave\, St. Petersburg\, Florida\, 33711\, United States
END:VEVENT
BEGIN:VEVENT
DTSTART;TZID=America/New_York:20240814T170000
DTEND;TZID=America/New_York:20240814T190000
DTSTAMP:20260424T110453
CREATED:20240726T150110Z
LAST-MODIFIED:20240726T150113Z
UID:10001575-1723654800-1723662000@lwvspa.org
SUMMARY:August Cocktails & Conversation
DESCRIPTION:We would love for you to join the League for Cocktails & Conversation\, and invite a guest or two. Bring the most prospects to C&C\, and you can win a LWV coffee mug! \n\n\n\nThese happy hours are the perfect time to relax with (or without!) a drink and enjoy some great company\, and introduce someone to the many benefits of joining the League. \n\n\n\nJust an easy\, casual evening out – the perfect mid-week pick-me-up! \n\n\n\nFood and drinks are available for purchase\, and there’s plenty of parking on-site. \n\n\n\n\n\n\n\n		RSVP Here
URL:https://lwvspa.org/event/august-cocktails-conversation/
LOCATION:Tiki Docks Skyway Bar + Grill\, 3769 50th Ave S\, St. Petersburg\, Florida\, 33711
END:VEVENT
BEGIN:VEVENT
DTSTART;TZID=America/New_York:20240810T000000
DTEND;TZID=America/New_York:20240818T235959
DTSTAMP:20260424T110453
CREATED:20240717T160231Z
LAST-MODIFIED:20240717T160234Z
UID:10001512-1723248000-1724025599@lwvspa.org
SUMMARY:Early Voting
DESCRIPTION:Early Voting Dates/Times:August 10 – 18\, Monday – Friday\, 8 a.m. – 6 p.m.; Saturday – Sunday\, 8 a.m. – 5 p.m. \n\n\n\nEarly Voting Locations:– Supervisor of Elections Office – Election Service Center – 13001 Starkey Rd.\, Starkey Lakes Corporate Center\, Largo\, FL 33773– Supervisor of Elections Office – County Building – 501 First Ave. N.\, St. Petersburg\, FL 33701– Supervisor of Elections Office – Pinellas County Courthouse – 315 Court St.\, Room 117\, Clearwater\, FL 33756(Voter parking spots will be designated in courthouse parking lots) \n\n\n\nMore info at https://www.votepinellas.gov/Election-Information/Early-Voting
URL:https://lwvspa.org/event/early-voting/
LOCATION:Florida
END:VEVENT
BEGIN:VEVENT
DTSTART;TZID=America/New_York:20240808T080000
DTEND;TZID=America/New_York:20240808T170000
DTSTAMP:20260424T110453
CREATED:20240717T160102Z
LAST-MODIFIED:20240717T160104Z
UID:10001511-1723104000-1723136400@lwvspa.org
SUMMARY:Deadline to request a vote by mail ballot for the Florida primary election
DESCRIPTION:Request a vote by mail ballot at https://www.votepinellas.gov/VoteByMail
URL:https://lwvspa.org/event/deadline-to-request-a-vote-by-mail-ballot-for-the-florida-primary-election/
LOCATION:Florida
END:VEVENT
BEGIN:VEVENT
DTSTART;TZID=America/New_York:20240807T180000
DTEND;TZID=America/New_York:20240807T193000
DTSTAMP:20260424T110453
CREATED:20240614T164255Z
LAST-MODIFIED:20240712T174139Z
UID:10001502-1723053600-1723059000@lwvspa.org
SUMMARY:LWVSPA All-Member Meeting: Focus on Education in Pinellas County Schools
DESCRIPTION:Kevin Hendrick\, Pinellas County Schools Superintendent will be the keynote speaker. He will share an overview of Pinellas County Schools\, highlights for the 24-25 school year\, and information about the PCS Referendum on the November Ballot. Caprice Edmond\, School Board member will also speak in her role as a school board member for Pinellas County Schools. \n\n\n\nThis meeting is open to League members only. \n\n\n\nThis event was previously scheduled for 8/6 but has been moved to accommodate League members’ attending the St. Pete Chamber’s Meet the Candidates event. \n\n\n\n\n\n		RSVP Here
URL:https://lwvspa.org/event/lwvspa-all-member-meeting-focus-on-education-in-pinellas-county-schools/
LOCATION:Allendale UMC\, 3803 Haines Road North\, St. Petersburg\, FL\, 33703\, United States
END:VEVENT
BEGIN:VEVENT
DTSTART;TZID=America/New_York:20240731T180000
DTEND;TZID=America/New_York:20240731T190000
DTSTAMP:20260424T110453
CREATED:20240710T133726Z
LAST-MODIFIED:20240710T133729Z
UID:10001504-1722448800-1722452400@lwvspa.org
SUMMARY:Sustainability Action Team Meeting
DESCRIPTION:The Sustainability Action Team is meeting at the Sanderlin Center Rain Garden. Email lauracrabtree.league@gmail.com if you need more info.
URL:https://lwvspa.org/event/sustainability-action-team-meeting-2/
LOCATION:Sanderlin Center\, 2335 22nd Ave S\, Saint Petersburg\, Florida\, 33712\, United States
END:VEVENT
END:VCALENDAR