BEGIN:VCALENDAR
VERSION:2.0
PRODID:-//LWVSPA - ECPv6.15.20//NONSGML v1.0//EN
CALSCALE:GREGORIAN
METHOD:PUBLISH
X-WR-CALNAME:LWVSPA
X-ORIGINAL-URL:https://lwvspa.org
X-WR-CALDESC:Events for LWVSPA
REFRESH-INTERVAL;VALUE=DURATION:PT1H
X-Robots-Tag:noindex
X-PUBLISHED-TTL:PT1H
BEGIN:VTIMEZONE
TZID:UTC
BEGIN:STANDARD
TZOFFSETFROM:+0000
TZOFFSETTO:+0000
TZNAME:UTC
DTSTART:20250101T000000
END:STANDARD
END:VTIMEZONE
BEGIN:VEVENT
DTSTART;TZID=UTC:20260527T133000
DTEND;TZID=UTC:20260527T143000
DTSTAMP:20260423T104118
CREATED:20260120T193720Z
LAST-MODIFIED:20260120T193721Z
UID:10002284-1779888600-1779892200@lwvspa.org
SUMMARY:Committee on Membership
DESCRIPTION:Contact chair\, Amy Weintraub\, for more teleconference link or for more info.
URL:https://lwvspa.org/event/committee-on-membership-8/2026-05-27/
END:VEVENT
BEGIN:VEVENT
DTSTART;TZID=UTC:20260624T133000
DTEND;TZID=UTC:20260624T143000
DTSTAMP:20260423T104118
CREATED:20260120T193720Z
LAST-MODIFIED:20260120T193721Z
UID:10002285-1782307800-1782311400@lwvspa.org
SUMMARY:Committee on Membership
DESCRIPTION:Contact chair\, Amy Weintraub\, for more teleconference link or for more info.
URL:https://lwvspa.org/event/committee-on-membership-8/2026-06-24/
END:VEVENT
BEGIN:VEVENT
DTSTART;TZID=UTC:20260722T133000
DTEND;TZID=UTC:20260722T143000
DTSTAMP:20260423T104118
CREATED:20260120T193720Z
LAST-MODIFIED:20260120T193721Z
UID:10002286-1784727000-1784730600@lwvspa.org
SUMMARY:Committee on Membership
DESCRIPTION:Contact chair\, Amy Weintraub\, for more teleconference link or for more info.
URL:https://lwvspa.org/event/committee-on-membership-8/2026-07-22/
END:VEVENT
BEGIN:VEVENT
DTSTART;TZID=UTC:20260826T133000
DTEND;TZID=UTC:20260826T143000
DTSTAMP:20260423T104118
CREATED:20260120T193720Z
LAST-MODIFIED:20260120T193721Z
UID:10002287-1787751000-1787754600@lwvspa.org
SUMMARY:Committee on Membership
DESCRIPTION:Contact chair\, Amy Weintraub\, for more teleconference link or for more info.
URL:https://lwvspa.org/event/committee-on-membership-8/2026-08-26/
END:VEVENT
BEGIN:VEVENT
DTSTART;TZID=UTC:20260923T133000
DTEND;TZID=UTC:20260923T143000
DTSTAMP:20260423T104118
CREATED:20260120T193720Z
LAST-MODIFIED:20260120T193721Z
UID:10002288-1790170200-1790173800@lwvspa.org
SUMMARY:Committee on Membership
DESCRIPTION:Contact chair\, Amy Weintraub\, for more teleconference link or for more info.
URL:https://lwvspa.org/event/committee-on-membership-8/2026-09-23/
END:VEVENT
BEGIN:VEVENT
DTSTART;TZID=UTC:20261028T133000
DTEND;TZID=UTC:20261028T143000
DTSTAMP:20260423T104118
CREATED:20260120T193720Z
LAST-MODIFIED:20260120T193721Z
UID:10002289-1793194200-1793197800@lwvspa.org
SUMMARY:Committee on Membership
DESCRIPTION:Contact chair\, Amy Weintraub\, for more teleconference link or for more info.
URL:https://lwvspa.org/event/committee-on-membership-8/2026-10-28/
END:VEVENT
BEGIN:VEVENT
DTSTART;TZID=UTC:20261125T133000
DTEND;TZID=UTC:20261125T143000
DTSTAMP:20260423T104118
CREATED:20260120T193720Z
LAST-MODIFIED:20260120T193721Z
UID:10002290-1795613400-1795617000@lwvspa.org
SUMMARY:Committee on Membership
DESCRIPTION:Contact chair\, Amy Weintraub\, for more teleconference link or for more info.
URL:https://lwvspa.org/event/committee-on-membership-8/2026-11-25/
END:VEVENT
BEGIN:VEVENT
DTSTART;TZID=UTC:20261223T133000
DTEND;TZID=UTC:20261223T143000
DTSTAMP:20260423T104118
CREATED:20260120T193720Z
LAST-MODIFIED:20260120T193721Z
UID:10002291-1798032600-1798036200@lwvspa.org
SUMMARY:Committee on Membership
DESCRIPTION:Contact chair\, Amy Weintraub\, for more teleconference link or for more info.
URL:https://lwvspa.org/event/committee-on-membership-8/2026-12-23/
END:VEVENT
BEGIN:VEVENT
DTSTART;TZID=UTC:20270127T133000
DTEND;TZID=UTC:20270127T143000
DTSTAMP:20260423T104118
CREATED:20260120T193720Z
LAST-MODIFIED:20260120T193721Z
UID:10002292-1801056600-1801060200@lwvspa.org
SUMMARY:Committee on Membership
DESCRIPTION:Contact chair\, Amy Weintraub\, for more teleconference link or for more info.
URL:https://lwvspa.org/event/committee-on-membership-8/2027-01-27/
END:VEVENT
BEGIN:VEVENT
DTSTART;TZID=UTC:20270224T133000
DTEND;TZID=UTC:20270224T143000
DTSTAMP:20260423T104118
CREATED:20260120T193720Z
LAST-MODIFIED:20260120T193721Z
UID:10002293-1803475800-1803479400@lwvspa.org
SUMMARY:Committee on Membership
DESCRIPTION:Contact chair\, Amy Weintraub\, for more teleconference link or for more info.
URL:https://lwvspa.org/event/committee-on-membership-8/2027-02-24/
END:VEVENT
BEGIN:VEVENT
DTSTART;TZID=UTC:20270324T133000
DTEND;TZID=UTC:20270324T143000
DTSTAMP:20260423T104118
CREATED:20260120T193720Z
LAST-MODIFIED:20260120T193721Z
UID:10002294-1805895000-1805898600@lwvspa.org
SUMMARY:Committee on Membership
DESCRIPTION:Contact chair\, Amy Weintraub\, for more teleconference link or for more info.
URL:https://lwvspa.org/event/committee-on-membership-8/2027-03-24/
END:VEVENT
BEGIN:VEVENT
DTSTART;TZID=UTC:20270428T133000
DTEND;TZID=UTC:20270428T143000
DTSTAMP:20260423T104118
CREATED:20260120T193720Z
LAST-MODIFIED:20260120T193721Z
UID:10002295-1808919000-1808922600@lwvspa.org
SUMMARY:Committee on Membership
DESCRIPTION:Contact chair\, Amy Weintraub\, for more teleconference link or for more info.
URL:https://lwvspa.org/event/committee-on-membership-8/2027-04-28/
END:VEVENT
BEGIN:VEVENT
DTSTART;TZID=UTC:20270526T133000
DTEND;TZID=UTC:20270526T143000
DTSTAMP:20260423T104118
CREATED:20260120T193720Z
LAST-MODIFIED:20260120T193721Z
UID:10002296-1811338200-1811341800@lwvspa.org
SUMMARY:Committee on Membership
DESCRIPTION:Contact chair\, Amy Weintraub\, for more teleconference link or for more info.
URL:https://lwvspa.org/event/committee-on-membership-8/2027-05-26/
END:VEVENT
BEGIN:VEVENT
DTSTART;TZID=UTC:20270623T133000
DTEND;TZID=UTC:20270623T143000
DTSTAMP:20260423T104118
CREATED:20260120T193720Z
LAST-MODIFIED:20260120T193721Z
UID:10002297-1813757400-1813761000@lwvspa.org
SUMMARY:Committee on Membership
DESCRIPTION:Contact chair\, Amy Weintraub\, for more teleconference link or for more info.
URL:https://lwvspa.org/event/committee-on-membership-8/2027-06-23/
END:VEVENT
BEGIN:VEVENT
DTSTART;TZID=UTC:20270728T133000
DTEND;TZID=UTC:20270728T143000
DTSTAMP:20260423T104118
CREATED:20260120T193720Z
LAST-MODIFIED:20260120T193721Z
UID:10002298-1816781400-1816785000@lwvspa.org
SUMMARY:Committee on Membership
DESCRIPTION:Contact chair\, Amy Weintraub\, for more teleconference link or for more info.
URL:https://lwvspa.org/event/committee-on-membership-8/2027-07-28/
END:VEVENT
BEGIN:VEVENT
DTSTART;TZID=UTC:20270825T133000
DTEND;TZID=UTC:20270825T143000
DTSTAMP:20260423T104118
CREATED:20260120T193720Z
LAST-MODIFIED:20260120T193721Z
UID:10002299-1819200600-1819204200@lwvspa.org
SUMMARY:Committee on Membership
DESCRIPTION:Contact chair\, Amy Weintraub\, for more teleconference link or for more info.
URL:https://lwvspa.org/event/committee-on-membership-8/2027-08-25/
END:VEVENT
BEGIN:VEVENT
DTSTART;TZID=UTC:20270922T133000
DTEND;TZID=UTC:20270922T143000
DTSTAMP:20260423T104118
CREATED:20260120T193720Z
LAST-MODIFIED:20260120T193721Z
UID:10002300-1821619800-1821623400@lwvspa.org
SUMMARY:Committee on Membership
DESCRIPTION:Contact chair\, Amy Weintraub\, for more teleconference link or for more info.
URL:https://lwvspa.org/event/committee-on-membership-8/2027-09-22/
END:VEVENT
BEGIN:VEVENT
DTSTART;TZID=UTC:20271027T133000
DTEND;TZID=UTC:20271027T143000
DTSTAMP:20260423T104118
CREATED:20260120T193720Z
LAST-MODIFIED:20260120T193721Z
UID:10002301-1824643800-1824647400@lwvspa.org
SUMMARY:Committee on Membership
DESCRIPTION:Contact chair\, Amy Weintraub\, for more teleconference link or for more info.
URL:https://lwvspa.org/event/committee-on-membership-8/2027-10-27/
END:VEVENT
BEGIN:VEVENT
DTSTART;TZID=UTC:20271124T133000
DTEND;TZID=UTC:20271124T143000
DTSTAMP:20260423T104118
CREATED:20260120T193720Z
LAST-MODIFIED:20260120T193721Z
UID:10002302-1827063000-1827066600@lwvspa.org
SUMMARY:Committee on Membership
DESCRIPTION:Contact chair\, Amy Weintraub\, for more teleconference link or for more info.
URL:https://lwvspa.org/event/committee-on-membership-8/2027-11-24/
END:VEVENT
BEGIN:VEVENT
DTSTART;TZID=UTC:20271222T133000
DTEND;TZID=UTC:20271222T143000
DTSTAMP:20260423T104118
CREATED:20260120T193720Z
LAST-MODIFIED:20260120T193721Z
UID:10002303-1829482200-1829485800@lwvspa.org
SUMMARY:Committee on Membership
DESCRIPTION:Contact chair\, Amy Weintraub\, for more teleconference link or for more info.
URL:https://lwvspa.org/event/committee-on-membership-8/2027-12-22/
END:VEVENT
BEGIN:VEVENT
DTSTART;TZID=UTC:20280126T133000
DTEND;TZID=UTC:20280126T143000
DTSTAMP:20260423T104118
CREATED:20260120T193720Z
LAST-MODIFIED:20260120T193721Z
UID:10002304-1832506200-1832509800@lwvspa.org
SUMMARY:Committee on Membership
DESCRIPTION:Contact chair\, Amy Weintraub\, for more teleconference link or for more info.
URL:https://lwvspa.org/event/committee-on-membership-8/2028-01-26/
END:VEVENT
BEGIN:VEVENT
DTSTART;TZID=UTC:20280223T133000
DTEND;TZID=UTC:20280223T143000
DTSTAMP:20260423T104118
CREATED:20260120T193720Z
LAST-MODIFIED:20260120T193721Z
UID:10002305-1834925400-1834929000@lwvspa.org
SUMMARY:Committee on Membership
DESCRIPTION:Contact chair\, Amy Weintraub\, for more teleconference link or for more info.
URL:https://lwvspa.org/event/committee-on-membership-8/2028-02-23/
END:VEVENT
BEGIN:VEVENT
DTSTART;TZID=UTC:20280322T133000
DTEND;TZID=UTC:20280322T143000
DTSTAMP:20260423T104118
CREATED:20260120T193720Z
LAST-MODIFIED:20260120T193721Z
UID:10002306-1837344600-1837348200@lwvspa.org
SUMMARY:Committee on Membership
DESCRIPTION:Contact chair\, Amy Weintraub\, for more teleconference link or for more info.
URL:https://lwvspa.org/event/committee-on-membership-8/2028-03-22/
END:VEVENT
BEGIN:VEVENT
DTSTART;TZID=UTC:20280426T133000
DTEND;TZID=UTC:20280426T143000
DTSTAMP:20260423T104118
CREATED:20260120T193720Z
LAST-MODIFIED:20260120T193721Z
UID:10002307-1840368600-1840372200@lwvspa.org
SUMMARY:Committee on Membership
DESCRIPTION:Contact chair\, Amy Weintraub\, for more teleconference link or for more info.
URL:https://lwvspa.org/event/committee-on-membership-8/2028-04-26/
END:VEVENT
BEGIN:VEVENT
DTSTART;TZID=UTC:20280524T133000
DTEND;TZID=UTC:20280524T143000
DTSTAMP:20260423T104118
CREATED:20260120T193720Z
LAST-MODIFIED:20260120T193721Z
UID:10002308-1842787800-1842791400@lwvspa.org
SUMMARY:Committee on Membership
DESCRIPTION:Contact chair\, Amy Weintraub\, for more teleconference link or for more info.
URL:https://lwvspa.org/event/committee-on-membership-8/2028-05-24/
END:VEVENT
BEGIN:VEVENT
DTSTART;TZID=UTC:20280628T133000
DTEND;TZID=UTC:20280628T143000
DTSTAMP:20260423T104118
CREATED:20260120T193720Z
LAST-MODIFIED:20260120T193721Z
UID:10002309-1845811800-1845815400@lwvspa.org
SUMMARY:Committee on Membership
DESCRIPTION:Contact chair\, Amy Weintraub\, for more teleconference link or for more info.
URL:https://lwvspa.org/event/committee-on-membership-8/2028-06-28/
END:VEVENT
BEGIN:VEVENT
DTSTART;TZID=UTC:20280726T133000
DTEND;TZID=UTC:20280726T143000
DTSTAMP:20260423T104118
CREATED:20260120T193720Z
LAST-MODIFIED:20260120T193721Z
UID:10002310-1848231000-1848234600@lwvspa.org
SUMMARY:Committee on Membership
DESCRIPTION:Contact chair\, Amy Weintraub\, for more teleconference link or for more info.
URL:https://lwvspa.org/event/committee-on-membership-8/2028-07-26/
END:VEVENT
BEGIN:VEVENT
DTSTART;TZID=UTC:20280823T133000
DTEND;TZID=UTC:20280823T143000
DTSTAMP:20260423T104118
CREATED:20260120T193720Z
LAST-MODIFIED:20260120T193721Z
UID:10002311-1850650200-1850653800@lwvspa.org
SUMMARY:Committee on Membership
DESCRIPTION:Contact chair\, Amy Weintraub\, for more teleconference link or for more info.
URL:https://lwvspa.org/event/committee-on-membership-8/2028-08-23/
END:VEVENT
BEGIN:VEVENT
DTSTART;TZID=UTC:20280927T133000
DTEND;TZID=UTC:20280927T143000
DTSTAMP:20260423T104118
CREATED:20260120T193720Z
LAST-MODIFIED:20260120T193721Z
UID:10002312-1853674200-1853677800@lwvspa.org
SUMMARY:Committee on Membership
DESCRIPTION:Contact chair\, Amy Weintraub\, for more teleconference link or for more info.
URL:https://lwvspa.org/event/committee-on-membership-8/2028-09-27/
END:VEVENT
BEGIN:VEVENT
DTSTART;TZID=UTC:20281025T133000
DTEND;TZID=UTC:20281025T143000
DTSTAMP:20260423T104118
CREATED:20260120T193720Z
LAST-MODIFIED:20260120T193721Z
UID:10002313-1856093400-1856097000@lwvspa.org
SUMMARY:Committee on Membership
DESCRIPTION:Contact chair\, Amy Weintraub\, for more teleconference link or for more info.
URL:https://lwvspa.org/event/committee-on-membership-8/2028-10-25/
END:VEVENT
END:VCALENDAR