BEGIN:VCALENDAR
VERSION:2.0
PRODID:-//LWVSPA - ECPv6.15.20//NONSGML v1.0//EN
CALSCALE:GREGORIAN
METHOD:PUBLISH
X-WR-CALNAME:LWVSPA
X-ORIGINAL-URL:https://lwvspa.org
X-WR-CALDESC:Events for LWVSPA
REFRESH-INTERVAL;VALUE=DURATION:PT1H
X-Robots-Tag:noindex
X-PUBLISHED-TTL:PT1H
BEGIN:VTIMEZONE
TZID:America/New_York
BEGIN:DAYLIGHT
TZOFFSETFROM:-0500
TZOFFSETTO:-0400
TZNAME:EDT
DTSTART:20230312T070000
END:DAYLIGHT
BEGIN:STANDARD
TZOFFSETFROM:-0400
TZOFFSETTO:-0500
TZNAME:EST
DTSTART:20231105T060000
END:STANDARD
BEGIN:DAYLIGHT
TZOFFSETFROM:-0500
TZOFFSETTO:-0400
TZNAME:EDT
DTSTART:20240310T070000
END:DAYLIGHT
BEGIN:STANDARD
TZOFFSETFROM:-0400
TZOFFSETTO:-0500
TZNAME:EST
DTSTART:20241103T060000
END:STANDARD
BEGIN:DAYLIGHT
TZOFFSETFROM:-0500
TZOFFSETTO:-0400
TZNAME:EDT
DTSTART:20250309T070000
END:DAYLIGHT
BEGIN:STANDARD
TZOFFSETFROM:-0400
TZOFFSETTO:-0500
TZNAME:EST
DTSTART:20251102T060000
END:STANDARD
END:VTIMEZONE
BEGIN:VEVENT
DTSTART;TZID=America/New_York:20240709T170000
DTEND;TZID=America/New_York:20240709T180000
DTSTAMP:20260424T144701
CREATED:20240614T164103Z
LAST-MODIFIED:20240614T164103Z
UID:10001501-1720544400-1720548000@lwvspa.org
SUMMARY:National Popular Vote: Making sure every voice is heard
DESCRIPTION:Join us as we discuss the current electoral system\, what the implementation of the National Popular Vote Interstate Compact would mean\, and how to lobby your legislators on this\, or any other\, cause. This is a hybrid event: you can attend in-person or via Zoom. \n\n\n\n\n\n		RSVP Here
URL:https://lwvspa.org/event/national-popular-vote-making-sure-every-voice-is-heard/
LOCATION:Allendale UMC\, 3803 Haines Road North\, St. Petersburg\, FL\, 33703\, United States
END:VEVENT
BEGIN:VEVENT
DTSTART;TZID=America/New_York:20240710T180000
DTEND;TZID=America/New_York:20240710T191500
DTSTAMP:20260424T144701
CREATED:20240626T141220Z
LAST-MODIFIED:20240626T141220Z
UID:10001503-1720634400-1720638900@lwvspa.org
SUMMARY:Reproductive Resilience: Realities in a Pre-Roe and Post-Roe World
DESCRIPTION:Please join the St. Petersburg League of Women Voters’ Reproductive Rights Action Team for its third monthly virtual panel discussion\, Reproductive Resilience: Realities in a Pre-Roe and Post-Roe World. If you cannot attend live\, the event will be recorded and emailed out to all registered. \n\n\n\nThis month\, we will be joined by Sue Lehrer\, PhD\, CSW\, who will share a story of her family’s experience with abortion care pre-Roe. Sue has been in healthcare since the age of 8 when her military Dad was diagnosed with MS. Making lemonade out of lemons\, Sue got her degrees and helped build out the continuum of care in the U.S. (respite\, adult day care\, hospice\, assisted living\, memory care and retirement communities).  For a decade she has been a pro bono nonpartisan citizen lobbyist for AARP and is passionate about equal access to medical care\, medications and other support services for all. We will also allow time for audience members to share their stories\, with anonymity possible. \n\n\n\nAfter Sue and members have shared their stories\, Marla Neufeld will walk us through the legal barriers that existed (after Roe) and continue to exist (after Dobbs) in the world of family planning. Marla is a partner in Greenspoon Marder’s Surrogacy and Assisted Reproductive Technology practice group\, which she founded. She represents parties working with a surrogate\, egg\, sperm or embryo donor. Marla experienced her own infertility journey for many years and ultimately worked with a gestational surrogate to build her family. She focuses on helping others start a family using the available third-party reproductive technologies and adoption laws. She is passionate about reproductive rights. \n\n\n\n\n\n		Register
URL:https://lwvspa.org/event/reproductive-resilience-realities-in-a-pre-roe-and-post-roe-world/
LOCATION:FL
END:VEVENT
END:VCALENDAR