BEGIN:VCALENDAR
VERSION:2.0
PRODID:-//LWVSPA - ECPv6.15.20//NONSGML v1.0//EN
CALSCALE:GREGORIAN
METHOD:PUBLISH
X-WR-CALNAME:LWVSPA
X-ORIGINAL-URL:https://lwvspa.org
X-WR-CALDESC:Events for LWVSPA
REFRESH-INTERVAL;VALUE=DURATION:PT1H
X-Robots-Tag:noindex
X-PUBLISHED-TTL:PT1H
BEGIN:VTIMEZONE
TZID:America/New_York
BEGIN:DAYLIGHT
TZOFFSETFROM:-0500
TZOFFSETTO:-0400
TZNAME:EDT
DTSTART:20230312T070000
END:DAYLIGHT
BEGIN:STANDARD
TZOFFSETFROM:-0400
TZOFFSETTO:-0500
TZNAME:EST
DTSTART:20231105T060000
END:STANDARD
BEGIN:DAYLIGHT
TZOFFSETFROM:-0500
TZOFFSETTO:-0400
TZNAME:EDT
DTSTART:20240310T070000
END:DAYLIGHT
BEGIN:STANDARD
TZOFFSETFROM:-0400
TZOFFSETTO:-0500
TZNAME:EST
DTSTART:20241103T060000
END:STANDARD
BEGIN:DAYLIGHT
TZOFFSETFROM:-0500
TZOFFSETTO:-0400
TZNAME:EDT
DTSTART:20250309T070000
END:DAYLIGHT
BEGIN:STANDARD
TZOFFSETFROM:-0400
TZOFFSETTO:-0500
TZNAME:EST
DTSTART:20251102T060000
END:STANDARD
END:VTIMEZONE
BEGIN:VTIMEZONE
TZID:UTC
BEGIN:STANDARD
TZOFFSETFROM:+0000
TZOFFSETTO:+0000
TZNAME:UTC
DTSTART:20230101T000000
END:STANDARD
END:VTIMEZONE
BEGIN:VEVENT
DTSTART;TZID=America/New_York:20240722T080000
DTEND;TZID=America/New_York:20240722T170000
DTSTAMP:20260424T133502
CREATED:20240717T155850Z
LAST-MODIFIED:20240717T155853Z
UID:10001510-1721635200-1721667600@lwvspa.org
SUMMARY:Deadline to register to vote in the Florida primary election
DESCRIPTION:July 22nd is the deadline to register to vote and/or update your party affiliation for the August 20th Florida primary election. \n\n\n\nRegister or update your registration here: https://registertovoteflorida.gov/home
URL:https://lwvspa.org/event/deadline-to-register-to-vote-in-the-florida-primary-election/
LOCATION:FL
END:VEVENT
BEGIN:VEVENT
DTSTART;TZID=America/New_York:20240722T183000
DTEND;TZID=America/New_York:20240722T200000
DTSTAMP:20260424T133502
CREATED:20240717T160335Z
LAST-MODIFIED:20240717T161101Z
UID:10001513-1721673000-1721678400@lwvspa.org
SUMMARY:Pinellas School Board Candidate Forum
DESCRIPTION:School Board Candidate Forum \n\n\n\nMonday\, July 22nd – 6:30 PM \n\n\n\nPinellas Realtors Organization 4590 Ulmerton Rd\, Pinellas Park\, FL 33762 \n\n\n\n7 candidates who are running for 3 open seats have been invited. Al Ruechel will moderate the forum. \n\n\n\nThe open seats include one countywide seat\, a district 4 (north county) seat and a district 5 (mid county) seat. \n\n\n\nSchool Board elections will be on the August 20th ballot. At least two of these races will be decided in August!  \n\n\n\nPlease submit questions to candidates@pccpta.org
URL:https://lwvspa.org/event/pinellas-school-board-candidate-forum/
LOCATION:FL
END:VEVENT
BEGIN:VEVENT
DTSTART;TZID=UTC:20240724T170000
DTEND;TZID=UTC:20240724T180000
DTSTAMP:20260424T133502
CREATED:20210130T033331Z
LAST-MODIFIED:20231113T115936Z
UID:10000939-1721840400-1721844000@lwvspa.org
SUMMARY:Committee on Membership
DESCRIPTION:Contact chair\, Amy Weintraub\, for more teleconference link or for more info.
URL:https://lwvspa.org/event/committee-on-membership-2-2023-05-24/2024-07-24/
LOCATION:FL
END:VEVENT
BEGIN:VEVENT
DTSTART;TZID=America/New_York:20240727T090000
DTEND;TZID=America/New_York:20240727T110000
DTSTAMP:20260424T133502
CREATED:20240712T174546Z
LAST-MODIFIED:20240712T174548Z
UID:10001508-1722070800-1722078000@lwvspa.org
SUMMARY:Parent Advocacy League Meeting
DESCRIPTION:This brand-new group is dedicated to providing an opportunity for parents to get involved in League work in a kid-friendly environment!Come learn about the league\, how to get involved\, meet other parent advocates\, and bring your little ones! \n\n\n\nPlease register in advance.League members are free. Prospective league members must pay the Run+Play admission fee. \n\n\n\n\n\n		Register
URL:https://lwvspa.org/event/parent-advocacy-league-meeting/
LOCATION:Run+Play Kids Cafe\, 3950 Central Ave\, St. Petersburg\, Florida\, 33711\, United States
END:VEVENT
END:VCALENDAR