BEGIN:VCALENDAR
VERSION:2.0
PRODID:-//LWVSPA - ECPv6.15.20//NONSGML v1.0//EN
CALSCALE:GREGORIAN
METHOD:PUBLISH
X-WR-CALNAME:LWVSPA
X-ORIGINAL-URL:https://lwvspa.org
X-WR-CALDESC:Events for LWVSPA
REFRESH-INTERVAL;VALUE=DURATION:PT1H
X-Robots-Tag:noindex
X-PUBLISHED-TTL:PT1H
BEGIN:VTIMEZONE
TZID:America/New_York
BEGIN:DAYLIGHT
TZOFFSETFROM:-0500
TZOFFSETTO:-0400
TZNAME:EDT
DTSTART:20240310T070000
END:DAYLIGHT
BEGIN:STANDARD
TZOFFSETFROM:-0400
TZOFFSETTO:-0500
TZNAME:EST
DTSTART:20241103T060000
END:STANDARD
BEGIN:DAYLIGHT
TZOFFSETFROM:-0500
TZOFFSETTO:-0400
TZNAME:EDT
DTSTART:20250309T070000
END:DAYLIGHT
BEGIN:STANDARD
TZOFFSETFROM:-0400
TZOFFSETTO:-0500
TZNAME:EST
DTSTART:20251102T060000
END:STANDARD
BEGIN:DAYLIGHT
TZOFFSETFROM:-0500
TZOFFSETTO:-0400
TZNAME:EDT
DTSTART:20260308T070000
END:DAYLIGHT
BEGIN:STANDARD
TZOFFSETFROM:-0400
TZOFFSETTO:-0500
TZNAME:EST
DTSTART:20261101T060000
END:STANDARD
END:VTIMEZONE
BEGIN:VEVENT
DTSTART;TZID=America/New_York:20250505T180000
DTEND;TZID=America/New_York:20250505T190000
DTSTAMP:20260424T004638
CREATED:20241216T234524Z
LAST-MODIFIED:20260317T120223Z
UID:10002403-1746468000-1746471600@lwvspa.org
SUMMARY:Reproductive Rights Action Team Meeting
DESCRIPTION:Join us via Zoom! We meet monthly on the 1st Monday. Email office@lwvspa.org with questions. \n\n\n\n\n\n\n\n		Register for Zoom meeting
URL:https://lwvspa.org/event/reproductive-rights-action-team-meeting-5/2025-05-05/
LOCATION:FL
END:VEVENT
BEGIN:VEVENT
DTSTART;TZID=America/New_York:20250506T170000
DTEND;TZID=America/New_York:20250506T180000
DTSTAMP:20260424T004638
CREATED:20250103T174649Z
LAST-MODIFIED:20250103T174651Z
UID:10001698-1746550800-1746554400@lwvspa.org
SUMMARY:National Popular Vote Committee
DESCRIPTION:First Tuesday of each month\, 5-6 pm.Join us as we talk strategy. First timers are welcome and all levels of experience are encouraged to join. \n\n\n\n\n\n		RSVP
URL:https://lwvspa.org/event/national-popular-vote-committee/2025-05-06/
LOCATION:FL
END:VEVENT
BEGIN:VEVENT
DTSTART;TZID=America/New_York:20250506T190000
DTEND;TZID=America/New_York:20250506T200000
DTSTAMP:20260424T004638
CREATED:20250414T142020Z
LAST-MODIFIED:20250505T210653Z
UID:10001859-1746558000-1746561600@lwvspa.org
SUMMARY:Town Hall Zoom Meeting - How did young adults vote in 2024?
DESCRIPTION:Join us at our town hall zoom meeting for an in-depth look at the data around voting during the 2024 election. Find out what it will take to engage youth voters in the next election! Hosted by the Education Committee of LWVNPC / LWVSPA. \n\n\n\n\n\n		Register for Zoom Town Hall
URL:https://lwvspa.org/event/town-hall-zoom-meeting-how-did-young-adults-vote-in-2024/
LOCATION:FL
END:VEVENT
BEGIN:VEVENT
DTSTART;TZID=America/New_York:20250508T160000
DTEND;TZID=America/New_York:20250508T180000
DTSTAMP:20260424T004638
CREATED:20250321T201131Z
LAST-MODIFIED:20250321T201134Z
UID:10001850-1746720000-1746727200@lwvspa.org
SUMMARY:Community Craft Nights hosted by NPV
DESCRIPTION:Join the National Popular Vote Committee as we curate leave-behind materials for your next legislator meeting!Meet committee members\, talk shop\, practice your talking points\, hear about Lobby Days\, and learn about your legislators. \n\n\n\nWe will meet at the LWVSPA Office.
URL:https://lwvspa.org/event/community-craft-nights-hosted-by-npv/2025-05-08/
LOCATION:LWVSPA Office\, 3803 Haines Rd N\, St. Petersburg\, Florida\, 33703\, United States
END:VEVENT
END:VCALENDAR