BEGIN:VCALENDAR
VERSION:2.0
PRODID:-//LWVSPA - ECPv6.15.20//NONSGML v1.0//EN
CALSCALE:GREGORIAN
METHOD:PUBLISH
X-WR-CALNAME:LWVSPA
X-ORIGINAL-URL:https://lwvspa.org
X-WR-CALDESC:Events for LWVSPA
REFRESH-INTERVAL;VALUE=DURATION:PT1H
X-Robots-Tag:noindex
X-PUBLISHED-TTL:PT1H
BEGIN:VTIMEZONE
TZID:America/New_York
BEGIN:DAYLIGHT
TZOFFSETFROM:-0500
TZOFFSETTO:-0400
TZNAME:EDT
DTSTART:20240310T070000
END:DAYLIGHT
BEGIN:STANDARD
TZOFFSETFROM:-0400
TZOFFSETTO:-0500
TZNAME:EST
DTSTART:20241103T060000
END:STANDARD
BEGIN:DAYLIGHT
TZOFFSETFROM:-0500
TZOFFSETTO:-0400
TZNAME:EDT
DTSTART:20250309T070000
END:DAYLIGHT
BEGIN:STANDARD
TZOFFSETFROM:-0400
TZOFFSETTO:-0500
TZNAME:EST
DTSTART:20251102T060000
END:STANDARD
BEGIN:DAYLIGHT
TZOFFSETFROM:-0500
TZOFFSETTO:-0400
TZNAME:EDT
DTSTART:20260308T070000
END:DAYLIGHT
BEGIN:STANDARD
TZOFFSETFROM:-0400
TZOFFSETTO:-0500
TZNAME:EST
DTSTART:20261101T060000
END:STANDARD
END:VTIMEZONE
BEGIN:VTIMEZONE
TZID:UTC
BEGIN:STANDARD
TZOFFSETFROM:+0000
TZOFFSETTO:+0000
TZNAME:UTC
DTSTART:20240101T000000
END:STANDARD
END:VTIMEZONE
BEGIN:VEVENT
DTSTART;TZID=America/New_York:20250624T180000
DTEND;TZID=America/New_York:20250624T190000
DTSTAMP:20260423T232645
CREATED:20250504T122604Z
LAST-MODIFIED:20250504T122653Z
UID:10001866-1750788000-1750791600@lwvspa.org
SUMMARY:Speakers Bureau Training
DESCRIPTION:Do you have an interest in public speaking in our community?   \n\n\n\nJoin the LWVSPA for a training session on the Speakers Bureau!  We will cover the role of the Speakers Bureau and presentation topics. \n\n\n\nMeeting via Zoom\, registration is required. \n\n\n\n\n\n		Register for Zoom training
URL:https://lwvspa.org/event/speakers-bureau-trainingdo-you-have-an-interest-in-public-speaking-in-our-community-join-the-lwvspa-for-a-training-session-on-the-speakers-bureau-we-will-cover-the-role-of-the-speakers-b/
LOCATION:FL
END:VEVENT
BEGIN:VEVENT
DTSTART;TZID=UTC:20250625T170000
DTEND;TZID=UTC:20250625T180000
DTSTAMP:20260423T232645
CREATED:20210130T033331Z
LAST-MODIFIED:20231113T115936Z
UID:10000950-1750870800-1750874400@lwvspa.org
SUMMARY:Committee on Membership
DESCRIPTION:Contact chair\, Amy Weintraub\, for more teleconference link or for more info.
URL:https://lwvspa.org/event/committee-on-membership-2-2023-05-24/2025-06-25/
LOCATION:FL
END:VEVENT
BEGIN:VEVENT
DTSTART;TZID=America/New_York:20250626T180000
DTEND;TZID=America/New_York:20250626T193000
DTSTAMP:20260423T232645
CREATED:20250514T190639Z
LAST-MODIFIED:20250620T131232Z
UID:10001868-1750960800-1750966200@lwvspa.org
SUMMARY:LWVSPA All-Member General Meeting
DESCRIPTION:Gather with fellow members to catch up on what is happening League-wide. \n\n\n\nAt our June General Meeting\, we will receive an update on the Florida Legislative Session\, hear the findings of our recent Member Survey\, find out about all the ways to get plugged into our League’s work\, and more! \n\n\n\nWe will meet in the sanctuary of Allendale UMC. See you there! \n\n\n\nThis meeting will be livestreamed\, and a recording will be available afterwards on our YouTube channel. \n\n\n\n\n\n		View Livestream\n\n\n\n\n\n\n		RSVP Here
URL:https://lwvspa.org/event/lwvspa-all-member-general-meeting/
LOCATION:Allendale UMC\, 3803 Haines Road North\, St. Petersburg\, FL\, 33703\, United States
END:VEVENT
END:VCALENDAR