BEGIN:VCALENDAR
VERSION:2.0
PRODID:-//LWVSPA - ECPv6.15.20//NONSGML v1.0//EN
CALSCALE:GREGORIAN
METHOD:PUBLISH
X-ORIGINAL-URL:https://lwvspa.org
X-WR-CALDESC:Events for LWVSPA
REFRESH-INTERVAL;VALUE=DURATION:PT1H
X-Robots-Tag:noindex
X-PUBLISHED-TTL:PT1H
BEGIN:VTIMEZONE
TZID:America/New_York
BEGIN:DAYLIGHT
TZOFFSETFROM:-0500
TZOFFSETTO:-0400
TZNAME:EDT
DTSTART:20240310T070000
END:DAYLIGHT
BEGIN:STANDARD
TZOFFSETFROM:-0400
TZOFFSETTO:-0500
TZNAME:EST
DTSTART:20241103T060000
END:STANDARD
BEGIN:DAYLIGHT
TZOFFSETFROM:-0500
TZOFFSETTO:-0400
TZNAME:EDT
DTSTART:20250309T070000
END:DAYLIGHT
BEGIN:STANDARD
TZOFFSETFROM:-0400
TZOFFSETTO:-0500
TZNAME:EST
DTSTART:20251102T060000
END:STANDARD
BEGIN:DAYLIGHT
TZOFFSETFROM:-0500
TZOFFSETTO:-0400
TZNAME:EDT
DTSTART:20260308T070000
END:DAYLIGHT
BEGIN:STANDARD
TZOFFSETFROM:-0400
TZOFFSETTO:-0500
TZNAME:EST
DTSTART:20261101T060000
END:STANDARD
END:VTIMEZONE
BEGIN:VEVENT
DTSTART;TZID=America/New_York:20250909T180000
DTEND;TZID=America/New_York:20250909T193000
DTSTAMP:20260423T195038
CREATED:20250813T220922Z
LAST-MODIFIED:20250905T142718Z
UID:10002084-1757440800-1757446200@lwvspa.org
SUMMARY:Yearning To Breathe Free: Updates on the Fight for Immigrants’ Rights in Florida
DESCRIPTION:Florida’s immigration landscape is rapidly shifting. Join us for a timely conversation with advocates and community leaders as they break down the latest policy changes\, enforcement trends\, lawsuits\, and their real-life impact on immigrant communities. Whether you’re an organizer\, concerned citizen\, or ally\, this panel will provide the insights and tools you need to stay informed and take action for a more just and welcoming Florida. \n\n\n\n\n\n		RSVP Here
URL:https://lwvspa.org/event/yearning-to-breathe-free-updates-on-the-fight-for-immigrants-rights-in-florida/
LOCATION:Allendale UMC\, 3803 Haines Road North\, St. Petersburg\, FL\, 33703\, United States
END:VEVENT
BEGIN:VEVENT
DTSTART;TZID=America/New_York:20250911T180000
DTEND;TZID=America/New_York:20250911T190000
DTSTAMP:20260423T195038
CREATED:20250802T111239Z
LAST-MODIFIED:20250802T111241Z
UID:10002021-1757613600-1757617200@lwvspa.org
SUMMARY:Communications Committee Meeting
DESCRIPTION:The LWVSPA Communications Committee meets on the second Thursday of every month via Zoom. Email office@lwvspa.org for the link if you’d like to get involved.
URL:https://lwvspa.org/event/communications-committee-meeting/2025-09-11/
LOCATION:FL
END:VEVENT
END:VCALENDAR