BEGIN:VCALENDAR
VERSION:2.0
PRODID:-//LWVSPA - ECPv6.15.20//NONSGML v1.0//EN
CALSCALE:GREGORIAN
METHOD:PUBLISH
X-WR-CALNAME:LWVSPA
X-ORIGINAL-URL:https://lwvspa.org
X-WR-CALDESC:Events for LWVSPA
REFRESH-INTERVAL;VALUE=DURATION:PT1H
X-Robots-Tag:noindex
X-PUBLISHED-TTL:PT1H
BEGIN:VTIMEZONE
TZID:America/New_York
BEGIN:DAYLIGHT
TZOFFSETFROM:-0500
TZOFFSETTO:-0400
TZNAME:EDT
DTSTART:20240310T070000
END:DAYLIGHT
BEGIN:STANDARD
TZOFFSETFROM:-0400
TZOFFSETTO:-0500
TZNAME:EST
DTSTART:20241103T060000
END:STANDARD
BEGIN:DAYLIGHT
TZOFFSETFROM:-0500
TZOFFSETTO:-0400
TZNAME:EDT
DTSTART:20250309T070000
END:DAYLIGHT
BEGIN:STANDARD
TZOFFSETFROM:-0400
TZOFFSETTO:-0500
TZNAME:EST
DTSTART:20251102T060000
END:STANDARD
BEGIN:DAYLIGHT
TZOFFSETFROM:-0500
TZOFFSETTO:-0400
TZNAME:EDT
DTSTART:20260308T070000
END:DAYLIGHT
BEGIN:STANDARD
TZOFFSETFROM:-0400
TZOFFSETTO:-0500
TZNAME:EST
DTSTART:20261101T060000
END:STANDARD
END:VTIMEZONE
BEGIN:VTIMEZONE
TZID:UTC
BEGIN:STANDARD
TZOFFSETFROM:+0000
TZOFFSETTO:+0000
TZNAME:UTC
DTSTART:20240101T000000
END:STANDARD
END:VTIMEZONE
BEGIN:VEVENT
DTSTART;TZID=America/New_York:20250915T183000
DTEND;TZID=America/New_York:20250915T200000
DTSTAMP:20260423T194922
CREATED:20250218T162007Z
LAST-MODIFIED:20250620T132519Z
UID:10001892-1757961000-1757966400@lwvspa.org
SUMMARY:Board Meeting
DESCRIPTION:If any LWVSPA member wishes to address the board\, they should email the president at president@lwvspa.org to get on the agenda and to receive meeting info (such as location or Zoom login).
URL:https://lwvspa.org/event/board-meeting-4/2025-09-15/
LOCATION:FL
END:VEVENT
BEGIN:VEVENT
DTSTART;TZID=UTC:20250917T183000
DTEND;TZID=UTC:20250917T193000
DTSTAMP:20260423T194922
CREATED:20250617T143048Z
LAST-MODIFIED:20250818T224813Z
UID:10000885-1758133800-1758137400@lwvspa.org
SUMMARY:Voter Services Committee - IN PERSON
DESCRIPTION:This meeting will be held in-person at the Allendale UMC Sanctuary. \n\n\n\nCome for a (mostly) social gathering with updates on coming events. Bring a yummy snack to share and a beverage!  \n\n\n\nPlease contact office@lwvspa.org if you need additional info.
URL:https://lwvspa.org/event/voter-services-committee-7/
LOCATION:Allendale UMC\, 3803 Haines Road North\, St. Petersburg\, FL\, 33703\, United States
END:VEVENT
END:VCALENDAR