BEGIN:VCALENDAR
VERSION:2.0
PRODID:-//LWVSPA - ECPv6.15.20//NONSGML v1.0//EN
CALSCALE:GREGORIAN
METHOD:PUBLISH
X-ORIGINAL-URL:https://lwvspa.org
X-WR-CALDESC:Events for LWVSPA
REFRESH-INTERVAL;VALUE=DURATION:PT1H
X-Robots-Tag:noindex
X-PUBLISHED-TTL:PT1H
BEGIN:VTIMEZONE
TZID:America/New_York
BEGIN:DAYLIGHT
TZOFFSETFROM:-0500
TZOFFSETTO:-0400
TZNAME:EDT
DTSTART:20240310T070000
END:DAYLIGHT
BEGIN:STANDARD
TZOFFSETFROM:-0400
TZOFFSETTO:-0500
TZNAME:EST
DTSTART:20241103T060000
END:STANDARD
BEGIN:DAYLIGHT
TZOFFSETFROM:-0500
TZOFFSETTO:-0400
TZNAME:EDT
DTSTART:20250309T070000
END:DAYLIGHT
BEGIN:STANDARD
TZOFFSETFROM:-0400
TZOFFSETTO:-0500
TZNAME:EST
DTSTART:20251102T060000
END:STANDARD
BEGIN:DAYLIGHT
TZOFFSETFROM:-0500
TZOFFSETTO:-0400
TZNAME:EDT
DTSTART:20260308T070000
END:DAYLIGHT
BEGIN:STANDARD
TZOFFSETFROM:-0400
TZOFFSETTO:-0500
TZNAME:EST
DTSTART:20261101T060000
END:STANDARD
END:VTIMEZONE
BEGIN:VEVENT
DTSTART;TZID=America/New_York:20251102T170000
DTEND;TZID=America/New_York:20251102T180000
DTSTAMP:20260423T173543
CREATED:20251028T114229Z
LAST-MODIFIED:20251028T114231Z
UID:10002230-1762102800-1762106400@lwvspa.org
SUMMARY:Disappeared In America Day of Action
DESCRIPTION:Immigrant families are being torn apart — but together\, we can demand human dignity\, justice\, and due process. On Nov 2\, join the vigil in front of the Pinellas County Courthouse in Clearwater as part of the national Disappeared In America Day of Action. Together\, we will not tolerate our immigrant neighbors and loved ones to disappear without a trace. Sponsored by Pinellas/Hillsborough Interfaith Coalition\, co-sponsored by LWVSPA \n\n\n\n\n\n		RSVP / More Info
URL:https://lwvspa.org/event/disappeared-in-america-day-of-action/
LOCATION:Pinellas County Courthouse\, 14450 49th Street N\, Clearwater\, Florida\, 33762\, United States
END:VEVENT
BEGIN:VEVENT
DTSTART;TZID=America/New_York:20251103T180000
DTEND;TZID=America/New_York:20251103T190000
DTSTAMP:20260423T173543
CREATED:20241216T234524Z
LAST-MODIFIED:20260317T120223Z
UID:10002407-1762192800-1762196400@lwvspa.org
SUMMARY:Reproductive Rights Action Team Meeting
DESCRIPTION:Join us via Zoom! We meet monthly on the 1st Monday. Email office@lwvspa.org with questions. \n\n\n\n\n\n\n\n		Register for Zoom meeting
URL:https://lwvspa.org/event/reproductive-rights-action-team-meeting-5/2025-11-03/
LOCATION:FL
END:VEVENT
BEGIN:VEVENT
DTSTART;TZID=America/New_York:20251104T170000
DTEND;TZID=America/New_York:20251104T180000
DTSTAMP:20260423T173543
CREATED:20250103T174649Z
LAST-MODIFIED:20250103T174651Z
UID:10001704-1762275600-1762279200@lwvspa.org
SUMMARY:National Popular Vote Committee
DESCRIPTION:First Tuesday of each month\, 5-6 pm.Join us as we talk strategy. First timers are welcome and all levels of experience are encouraged to join. \n\n\n\n\n\n		RSVP
URL:https://lwvspa.org/event/national-popular-vote-committee/2025-11-04/
LOCATION:FL
END:VEVENT
BEGIN:VEVENT
DTSTART;TZID=America/New_York:20251106T170000
DTEND;TZID=America/New_York:20251106T180000
DTSTAMP:20260423T173543
CREATED:20250711T152606Z
LAST-MODIFIED:20260404T193451Z
UID:10001959-1762448400-1762452000@lwvspa.org
SUMMARY:Social Justice Action Team Meeting
DESCRIPTION:We believe in secure equal rights and equal opportunity for all. We promote social and economic justice and the health and safety of all Americans.  \n\n\n\nThe Social Justice Team invites the public to engage in and become more educated on the prescient issues of the day. We seek to expand the imagined possibilities of progress for all people and voices. We advocate safe\, open-minded discussions in the community around the intersections of economics\, history\, politics\, privilege\, and race. \n\n\n\n\n\n		RSVP for Zoom
URL:https://lwvspa.org/event/social-justice-action-team-meeting/2025-11-06/
LOCATION:FL
END:VEVENT
END:VCALENDAR