BEGIN:VCALENDAR
VERSION:2.0
PRODID:-//LWVSPA - ECPv6.15.20//NONSGML v1.0//EN
CALSCALE:GREGORIAN
METHOD:PUBLISH
X-ORIGINAL-URL:https://lwvspa.org
X-WR-CALDESC:Events for LWVSPA
REFRESH-INTERVAL;VALUE=DURATION:PT1H
X-Robots-Tag:noindex
X-PUBLISHED-TTL:PT1H
BEGIN:VTIMEZONE
TZID:America/New_York
BEGIN:DAYLIGHT
TZOFFSETFROM:-0500
TZOFFSETTO:-0400
TZNAME:EDT
DTSTART:20240310T070000
END:DAYLIGHT
BEGIN:STANDARD
TZOFFSETFROM:-0400
TZOFFSETTO:-0500
TZNAME:EST
DTSTART:20241103T060000
END:STANDARD
BEGIN:DAYLIGHT
TZOFFSETFROM:-0500
TZOFFSETTO:-0400
TZNAME:EDT
DTSTART:20250309T070000
END:DAYLIGHT
BEGIN:STANDARD
TZOFFSETFROM:-0400
TZOFFSETTO:-0500
TZNAME:EST
DTSTART:20251102T060000
END:STANDARD
BEGIN:DAYLIGHT
TZOFFSETFROM:-0500
TZOFFSETTO:-0400
TZNAME:EDT
DTSTART:20260308T070000
END:DAYLIGHT
BEGIN:STANDARD
TZOFFSETFROM:-0400
TZOFFSETTO:-0500
TZNAME:EST
DTSTART:20261101T060000
END:STANDARD
END:VTIMEZONE
BEGIN:VTIMEZONE
TZID:UTC
BEGIN:STANDARD
TZOFFSETFROM:+0000
TZOFFSETTO:+0000
TZNAME:UTC
DTSTART:20240101T000000
END:STANDARD
END:VTIMEZONE
BEGIN:VEVENT
DTSTART;TZID=America/New_York:20251116T150000
DTEND;TZID=America/New_York:20251116T163000
DTSTAMP:20260423T173555
CREATED:20251030T125906Z
LAST-MODIFIED:20251030T131942Z
UID:10002231-1763305200-1763310600@lwvspa.org
SUMMARY:Cadillac Crew - Studio@620
DESCRIPTION:Join LWVSPA at a performance of Cadillac Crew at the Studio@620!Space is limited – only 10 seats available. Open to LWVSPA members only. \n\n\n\n“On the day of a much-anticipated speech by Rosa Parks during the height of the Civil Rights Movement four activists working in a Virginia civil rights office wonder whether the proclamation of equality amongst mankind includes women.”More info on the play here: https://thestudioat620.org/events/cadillac-crew/ \n\n\n\n \n\n\n\nIf no seats remain\, join the waitlist here: https://forms.gle/eTCzgvbwMeZHmvsc8 \n\n\n\n\n\n		RSVP Here
URL:https://lwvspa.org/event/cadillac-crew-studio620/
LOCATION:The Studio@620\, 620 1st Ave S\, St. Petersburg\, Florida\, 33701\, United States
END:VEVENT
BEGIN:VEVENT
DTSTART;TZID=America/New_York:20251116T160000
DTEND;TZID=America/New_York:20251116T170000
DTSTAMP:20260423T173555
CREATED:20251116T130321Z
LAST-MODIFIED:20260212T195822Z
UID:10002247-1763308800-1763312400@lwvspa.org
SUMMARY:Vigil for Immigrant Justice
DESCRIPTION:The Pinellas/Hillsborough Interfaith Coalition\, LWVSPA\, and our allies host a peaceful Freedom Vigil to stand in solidarity with immigrant families and demand an end to the detention and deportation of our nonviolent\, law-abiding immigrant community neighbors\, siblings\, and friends. These vigils shine a light on the erosion of due process and the rise of authoritarian overreach. We pray for family reunification and justice for all immigrants. Together\, we affirm that justice\, compassion\, and the rule of law must apply to everyone—regardless of immigration status. \n\n\n\nDetails: \n\n\n\nSundays 4-5 pm \n\n\n\nPinellas County Courthouse14250 49th Street N (corner of 144 Ave N & 49th St N)Clearwater\, FL 33762 \n\n\n\nRegister:https://flic.fyi/727vigil
URL:https://lwvspa.org/event/vigil-for-immigrant-justice/2025-11-16/
LOCATION:Pinellas County Courthouse\, 14450 49th Street N\, Clearwater\, Florida\, 33762\, United States
END:VEVENT
BEGIN:VEVENT
DTSTART;TZID=America/New_York:20251116T160000
DTEND;TZID=America/New_York:20251116T170000
DTSTAMP:20260423T173555
CREATED:20260212T195905Z
LAST-MODIFIED:20260212T195906Z
UID:10002367-1763308800-1763312400@lwvspa.org
SUMMARY:Vigil for Immigrant Justice
DESCRIPTION:The Pinellas/Hillsborough Interfaith Coalition\, LWVSPA\, and our allies host a peaceful Freedom Vigil to stand in solidarity with immigrant families and demand an end to the detention and deportation of our nonviolent\, law-abiding immigrant community neighbors\, siblings\, and friends. These vigils shine a light on the erosion of due process and the rise of authoritarian overreach. We pray for family reunification and justice for all immigrants. Together\, we affirm that justice\, compassion\, and the rule of law must apply to everyone—regardless of immigration status. \n\n\n\nDetails: \n\n\n\nSundays 4-5 pm \n\n\n\nPinellas County Courthouse14250 49th Street N (corner of 144 Ave N & 49th St N)Clearwater\, FL 33762 \n\n\n\nRegister:https://flic.fyi/727vigil
URL:https://lwvspa.org/event/vigil-for-immigrant-justice-2/2025-11-16/
LOCATION:Pinellas County Courthouse\, 14450 49th Street N\, Clearwater\, Florida\, 33762\, United States
END:VEVENT
BEGIN:VEVENT
DTSTART;TZID=America/New_York:20251117T170000
DTEND;TZID=America/New_York:20251117T180000
DTSTAMP:20260423T173555
CREATED:20251104T140914Z
LAST-MODIFIED:20251104T140932Z
UID:10002232-1763398800-1763402400@lwvspa.org
SUMMARY:LWV Manatee Repro Rights Action Team meeting: FL State Rep. Kelly Skidmore
DESCRIPTION:Florida State Rep. Kelly Skidmore of Delray Beach will be the guest speaker for the LWV-MC Reproductive Rights Action Team meeting. Rep. Skidmore is the sponsor of HB 6001\, a bill to abolish the nearly $30 million spent each year by the state of Florida to fund “faux medical clinics” designed solely to steer women away from abortion.  \n\n\n\nMeeting via Zoom. \n\n\n\n\n\n		Register Here
URL:https://lwvspa.org/event/lwv-manatee-reproductive-rights-action-team-meeting-florida-state-rep-kelly-skidmore/
LOCATION:FL
END:VEVENT
BEGIN:VEVENT
DTSTART;TZID=America/New_York:20251118T110000
DTEND;TZID=America/New_York:20251118T120000
DTSTAMP:20260423T173555
CREATED:20251009T161432Z
LAST-MODIFIED:20251009T161451Z
UID:10002167-1763463600-1763467200@lwvspa.org
SUMMARY:Communications Committee Meeting
DESCRIPTION:The LWVSPA Communications Committee meets monthly via Zoom. Email office@lwvspa.org for the link if you’d like to get involved.
URL:https://lwvspa.org/event/communications-committee-meeting-2/2025-11-18/
LOCATION:FL
END:VEVENT
BEGIN:VEVENT
DTSTART;TZID=UTC:20251119T183000
DTEND;TZID=UTC:20251119T193000
DTSTAMP:20260423T173555
CREATED:20210304T081922Z
LAST-MODIFIED:20260225T153810Z
UID:10000887-1763577000-1763580600@lwvspa.org
SUMMARY:Voter Services Committee
DESCRIPTION:Join with the Voter Services Leadership Team to hear about our Voter Guide\, Candidate Forums\, Voter Registration\, & Election and Voter Protection.  \n\n\n\n\n\n		Join Via Zoom
URL:https://lwvspa.org/event/voter-services-committee/2025-11-19/
LOCATION:FL
END:VEVENT
BEGIN:VEVENT
DTSTART;TZID=America/New_York:20251120T173000
DTEND;TZID=America/New_York:20251120T190000
DTSTAMP:20260423T173555
CREATED:20251024T131048Z
LAST-MODIFIED:20251030T133331Z
UID:10002228-1763659800-1763665200@lwvspa.org
SUMMARY:November Cocktails & Conversations
DESCRIPTION:We would love for you to join the League for Cocktails & Conversation\, and invite a guest or two. \n\n\n\nThese happy hours are the perfect time to relax with (or without!) a drink and enjoy some great company. \n\n\n\nOur November event will be at The Study. \n\n\n\nThe Study is a Wine & Bourbon Tasting Lounge\, and offers charcuterie boards and other light bites. Ample parking. \n\n\n\nYou can sample a wide range of wines and bourbons\, self-serve pre-measured tastes or glasses. \n\n\n\nWe will host a donation box in support of Feeding Tampa Bay at our Nov. 20 C&C. The SNAP benefits cut effective Nov. 1 is having a serious impact on many of our neighbors\, and food insecurity is a very real threat in our local communities.  \n\n\n\nPlease bring non perishable items such as \n\n\n\nholiday meal staples \n\n\n\ncanned vegetables \n\n\n\ncanned meats \n\n\n\ndry cereals\, rice\, pasta \n\n\n\nIf you prefer to make a monetary donation at C&C\, we’ll have a QR code for that or you can give a check to Feeding Tampa Bay. \n\n\n\nThanks to LWV member Cassie Schwalm who is organizing this food drive. \n\n\n\nThere will be no C&C in December\, but we will resume in the new year! \n\n\n\n\n\n		RSVP Here
URL:https://lwvspa.org/event/november-cocktails-conversations/
LOCATION:The Study Wine & Bourbon Tasting Lounge\, 3100 3rd Ave N\, St. Petersburg\, Florida\, 33713\, United States
END:VEVENT
END:VCALENDAR