BEGIN:VCALENDAR
VERSION:2.0
PRODID:-//LWVSPA - ECPv6.15.20//NONSGML v1.0//EN
CALSCALE:GREGORIAN
METHOD:PUBLISH
X-WR-CALNAME:LWVSPA
X-ORIGINAL-URL:https://lwvspa.org
X-WR-CALDESC:Events for LWVSPA
REFRESH-INTERVAL;VALUE=DURATION:PT1H
X-Robots-Tag:noindex
X-PUBLISHED-TTL:PT1H
BEGIN:VTIMEZONE
TZID:America/New_York
BEGIN:DAYLIGHT
TZOFFSETFROM:-0500
TZOFFSETTO:-0400
TZNAME:EDT
DTSTART:20250309T070000
END:DAYLIGHT
BEGIN:STANDARD
TZOFFSETFROM:-0400
TZOFFSETTO:-0500
TZNAME:EST
DTSTART:20251102T060000
END:STANDARD
BEGIN:DAYLIGHT
TZOFFSETFROM:-0500
TZOFFSETTO:-0400
TZNAME:EDT
DTSTART:20260308T070000
END:DAYLIGHT
BEGIN:STANDARD
TZOFFSETFROM:-0400
TZOFFSETTO:-0500
TZNAME:EST
DTSTART:20261101T060000
END:STANDARD
BEGIN:DAYLIGHT
TZOFFSETFROM:-0500
TZOFFSETTO:-0400
TZNAME:EDT
DTSTART:20270314T070000
END:DAYLIGHT
BEGIN:STANDARD
TZOFFSETFROM:-0400
TZOFFSETTO:-0500
TZNAME:EST
DTSTART:20271107T060000
END:STANDARD
END:VTIMEZONE
BEGIN:VEVENT
DTSTART;TZID=America/New_York:20260104T160000
DTEND;TZID=America/New_York:20260104T170000
DTSTAMP:20260423T163133
CREATED:20260212T195905Z
LAST-MODIFIED:20260212T195906Z
UID:10002254-1767542400-1767546000@lwvspa.org
SUMMARY:Vigil for Immigrant Justice
DESCRIPTION:The Pinellas/Hillsborough Interfaith Coalition\, LWVSPA\, and our allies host a peaceful Freedom Vigil to stand in solidarity with immigrant families and demand an end to the detention and deportation of our nonviolent\, law-abiding immigrant community neighbors\, siblings\, and friends. These vigils shine a light on the erosion of due process and the rise of authoritarian overreach. We pray for family reunification and justice for all immigrants. Together\, we affirm that justice\, compassion\, and the rule of law must apply to everyone—regardless of immigration status. \n\n\n\nDetails: \n\n\n\nSundays 4-5 pm \n\n\n\nPinellas County Courthouse14250 49th Street N (corner of 144 Ave N & 49th St N)Clearwater\, FL 33762 \n\n\n\nRegister:https://flic.fyi/727vigil
URL:https://lwvspa.org/event/vigil-for-immigrant-justice-2/2026-01-04/
LOCATION:Pinellas County Courthouse\, 14450 49th Street N\, Clearwater\, Florida\, 33762\, United States
END:VEVENT
BEGIN:VEVENT
DTSTART;TZID=America/New_York:20260106T170000
DTEND;TZID=America/New_York:20260106T180000
DTSTAMP:20260423T163133
CREATED:20250103T174649Z
LAST-MODIFIED:20250103T174651Z
UID:10001706-1767718800-1767722400@lwvspa.org
SUMMARY:National Popular Vote Committee
DESCRIPTION:First Tuesday of each month\, 5-6 pm.Join us as we talk strategy. First timers are welcome and all levels of experience are encouraged to join. \n\n\n\n\n\n		RSVP
URL:https://lwvspa.org/event/national-popular-vote-committee/2026-01-06/
LOCATION:FL
END:VEVENT
BEGIN:VEVENT
DTSTART;TZID=America/New_York:20260108T180000
DTEND;TZID=America/New_York:20260108T200000
DTSTAMP:20260423T163133
CREATED:20251213T205512Z
LAST-MODIFIED:20251215T192753Z
UID:10001645-1767895200-1767902400@lwvspa.org
SUMMARY:Reproductive Rights Film Screening & Action Team Meeting - IN PERSON
DESCRIPTION:Our January meeting will be on 1/8 (instead of 1/5).  \n\n\n\nWe will be doing a group watch of the Devil is Busy. and we will also provide updates on Repro related legislation at this meeting. \n\n\n\nWe will have materials for letter writing if anyone would like to write while they watch\, or take some home. See you there! \n\n\n\n\n\n		RSVP Here
URL:https://lwvspa.org/event/reproductive-rights-action-team-meeting-6/
LOCATION:FL
END:VEVENT
END:VCALENDAR