BEGIN:VCALENDAR
VERSION:2.0
PRODID:-//LWVSPA - ECPv6.15.20//NONSGML v1.0//EN
CALSCALE:GREGORIAN
METHOD:PUBLISH
X-WR-CALNAME:LWVSPA
X-ORIGINAL-URL:https://lwvspa.org
X-WR-CALDESC:Events for LWVSPA
REFRESH-INTERVAL;VALUE=DURATION:PT1H
X-Robots-Tag:noindex
X-PUBLISHED-TTL:PT1H
BEGIN:VTIMEZONE
TZID:America/New_York
BEGIN:DAYLIGHT
TZOFFSETFROM:-0500
TZOFFSETTO:-0400
TZNAME:EDT
DTSTART:20250309T070000
END:DAYLIGHT
BEGIN:STANDARD
TZOFFSETFROM:-0400
TZOFFSETTO:-0500
TZNAME:EST
DTSTART:20251102T060000
END:STANDARD
BEGIN:DAYLIGHT
TZOFFSETFROM:-0500
TZOFFSETTO:-0400
TZNAME:EDT
DTSTART:20260308T070000
END:DAYLIGHT
BEGIN:STANDARD
TZOFFSETFROM:-0400
TZOFFSETTO:-0500
TZNAME:EST
DTSTART:20261101T060000
END:STANDARD
BEGIN:DAYLIGHT
TZOFFSETFROM:-0500
TZOFFSETTO:-0400
TZNAME:EDT
DTSTART:20270314T070000
END:DAYLIGHT
BEGIN:STANDARD
TZOFFSETFROM:-0400
TZOFFSETTO:-0500
TZNAME:EST
DTSTART:20271107T060000
END:STANDARD
END:VTIMEZONE
BEGIN:VEVENT
DTSTART;TZID=America/New_York:20260329T160000
DTEND;TZID=America/New_York:20260329T170000
DTSTAMP:20260423T140250
CREATED:20260212T195905Z
LAST-MODIFIED:20260212T195906Z
UID:10002381-1774800000-1774803600@lwvspa.org
SUMMARY:Vigil for Immigrant Justice
DESCRIPTION:The Pinellas/Hillsborough Interfaith Coalition\, LWVSPA\, and our allies host a peaceful Freedom Vigil to stand in solidarity with immigrant families and demand an end to the detention and deportation of our nonviolent\, law-abiding immigrant community neighbors\, siblings\, and friends. These vigils shine a light on the erosion of due process and the rise of authoritarian overreach. We pray for family reunification and justice for all immigrants. Together\, we affirm that justice\, compassion\, and the rule of law must apply to everyone—regardless of immigration status. \n\n\n\nDetails: \n\n\n\nSundays 4-5 pm \n\n\n\nPinellas County Courthouse14250 49th Street N (corner of 144 Ave N & 49th St N)Clearwater\, FL 33762 \n\n\n\nRegister:https://flic.fyi/727vigil
URL:https://lwvspa.org/event/vigil-for-immigrant-justice-2/2026-03-29/
LOCATION:Pinellas County Courthouse\, 14450 49th Street N\, Clearwater\, Florida\, 33762\, United States
END:VEVENT
BEGIN:VEVENT
DTSTART;TZID=America/New_York:20260330T170000
DTEND;TZID=America/New_York:20260330T183000
DTSTAMP:20260423T140250
CREATED:20260127T155115Z
LAST-MODIFIED:20260317T122053Z
UID:10002355-1774890000-1774895400@lwvspa.org
SUMMARY:Parent Advocacy League March 2026
DESCRIPTION:The Parent Advocacy League (PAL) is a family-friendly space for parents and caregivers to connect\, learn\, and engage with the League of Women Voters of the St. Petersburg Area. \n\n\n\n📍 Crisp Park🕔 5:00–6:30 PM | Kids welcome\, outdoor play encouragedBring dinner or grab food nearby. Discussion begins around 5:30 PM. \n\n\n\n\n\n		RSVP Here!
URL:https://lwvspa.org/event/parent-action-league-march-2026/
LOCATION:Crisp Park Playground\, Poplar St. NE. and 35th Ave. NE.\, St. Petersburg\, Florida\, 33711\, United States
ATTACH;FMTTYPE=image/png:https://lwvspa.org/wp-content/uploads/PAL-March-30.png
END:VEVENT
BEGIN:VEVENT
DTSTART;TZID=America/New_York:20260331T173000
DTEND;TZID=America/New_York:20260331T210000
DTSTAMP:20260423T140250
CREATED:20260305T200714Z
LAST-MODIFIED:20260305T200715Z
UID:10002395-1774978200-1774990800@lwvspa.org
SUMMARY:Nerd Nite St. Pete Featuring LWVSPA Voter Services Co-Chair Heidi Davis
DESCRIPTION:Buy Tickets\n\n\n\n\nLearning hits different with a drink in your hand and smart people around you. Nerd Nite is a worldwide phenomenon\, popping up in over a hundred cities\, including right here in St. Pete. \n\n\n\nEach month\, three passionate presenters take the stage for fascinating and fun 20-minute talks on things they truly geek out about. You will get to sip cocktails\, eat from local vendors\, mingle\, laugh\, and follow curiosity wherever it wanders. \n\n\n\nThink of it as a lecture series that ditched the podium and grabbed a beer instead.Drink. Learn. Connect. Come for the fun facts\, stay for the conversations\, and leave knowing something you didn’t when you walked in.Doors open at 5:30pm. Presentations begin promptly at 7pm. \n\n\n\nTickets are $6.91. All tickets will be sold online.No need to print tickets: Give us your name and we will check you in. \n\n\n\nCheck out this month’s speakers: \n\n\n\nLeila Martini \n\n\n\nThere’s a Word For That: Untangling Taxonomy \n\n\n\nWhat do filing cabinets\, Netflix categories\, and government websites have in common? They all depend on taxonomy — the quiet hero (and occasional villain) of how we find things. In this talk\, we’ll peek inside a real-life taxonomy tangle from the world of public health\, play a quick audience quiz\, and prove that organizing knowledge can actually be weirdly fun — and absolutely essential for making sense of our digital lives. \n\n\n\nLeila Martini is a Tampa\, Florida native whose love for words began at the tender age of five. From the moment she received her first typewriter\, Leila was captivated by the power storytelling and the nuance of words. Her career accidentally led her to become a taxonomist among other things. \n\n\n\nHeidi Davis \n\n\n\nHistory of Voting Legislation in St Pete \n\n\n\nTake a walk through the history of Voting Legislation from the Declaration of Independence to today. \n\n\n\nI’m a native New Yorker transplanted here about 30 years ago. I spent 35 years in Corporate America before retiring. Now I focus my time on volunteering for the League of Women Voters\, co-chairing Voter Services and acting as the team lead for the Vote411 Voter Guide for Pinellas County and the Florida state league. \n\n\n\nJD Adler \n\n\n\nFrom Grimm to Disney… what stories tell us about the teller \n\n\n\nEvery story changes with the telling and the teller. Each re-telling over time tell us more than just the story. They show us how the craft of storytelling has developed. It also tells about the person and the culture from which the version comes. \n\n\n\nJD is an author of journalism\, poetry\, and fiction as well as being a storyteller in the oral tradition. He has traveled across America by car\, train\, and thumb. Today he lives in St. Pete with the love of his life.
URL:https://lwvspa.org/event/nerd-nite-st-pete-featuring-lwvspa-voter-services-co-chair-heidi-davis/
LOCATION:Coastal Creative\, 2201 1st Ave S\, St. Petersburg\, Florida\, 33712\, United States
END:VEVENT
BEGIN:VEVENT
DTSTART;TZID=America/New_York:20260402T170000
DTEND;TZID=America/New_York:20260402T180000
DTSTAMP:20260423T140250
CREATED:20250711T152606Z
LAST-MODIFIED:20260404T193451Z
UID:10001964-1775149200-1775152800@lwvspa.org
SUMMARY:Social Justice Action Team Meeting
DESCRIPTION:We believe in secure equal rights and equal opportunity for all. We promote social and economic justice and the health and safety of all Americans.  \n\n\n\nThe Social Justice Team invites the public to engage in and become more educated on the prescient issues of the day. We seek to expand the imagined possibilities of progress for all people and voices. We advocate safe\, open-minded discussions in the community around the intersections of economics\, history\, politics\, privilege\, and race. \n\n\n\n\n\n		RSVP for Zoom
URL:https://lwvspa.org/event/social-justice-action-team-meeting/2026-04-02/
LOCATION:FL
END:VEVENT
END:VCALENDAR