BEGIN:VCALENDAR
VERSION:2.0
PRODID:-//LWVSPA - ECPv6.15.20//NONSGML v1.0//EN
CALSCALE:GREGORIAN
METHOD:PUBLISH
X-WR-CALNAME:LWVSPA
X-ORIGINAL-URL:https://lwvspa.org
X-WR-CALDESC:Events for LWVSPA
REFRESH-INTERVAL;VALUE=DURATION:PT1H
X-Robots-Tag:noindex
X-PUBLISHED-TTL:PT1H
BEGIN:VTIMEZONE
TZID:America/New_York
BEGIN:DAYLIGHT
TZOFFSETFROM:-0500
TZOFFSETTO:-0400
TZNAME:EDT
DTSTART:20250309T070000
END:DAYLIGHT
BEGIN:STANDARD
TZOFFSETFROM:-0400
TZOFFSETTO:-0500
TZNAME:EST
DTSTART:20251102T060000
END:STANDARD
BEGIN:DAYLIGHT
TZOFFSETFROM:-0500
TZOFFSETTO:-0400
TZNAME:EDT
DTSTART:20260308T070000
END:DAYLIGHT
BEGIN:STANDARD
TZOFFSETFROM:-0400
TZOFFSETTO:-0500
TZNAME:EST
DTSTART:20261101T060000
END:STANDARD
BEGIN:DAYLIGHT
TZOFFSETFROM:-0500
TZOFFSETTO:-0400
TZNAME:EDT
DTSTART:20270314T070000
END:DAYLIGHT
BEGIN:STANDARD
TZOFFSETFROM:-0400
TZOFFSETTO:-0500
TZNAME:EST
DTSTART:20271107T060000
END:STANDARD
END:VTIMEZONE
BEGIN:VTIMEZONE
TZID:UTC
BEGIN:STANDARD
TZOFFSETFROM:+0000
TZOFFSETTO:+0000
TZNAME:UTC
DTSTART:20250101T000000
END:STANDARD
END:VTIMEZONE
BEGIN:VEVENT
DTSTART;TZID=America/New_York:20260412T160000
DTEND;TZID=America/New_York:20260412T170000
DTSTAMP:20260423T113858
CREATED:20260212T195905Z
LAST-MODIFIED:20260212T195906Z
UID:10002383-1776009600-1776013200@lwvspa.org
SUMMARY:Vigil for Immigrant Justice
DESCRIPTION:The Pinellas/Hillsborough Interfaith Coalition\, LWVSPA\, and our allies host a peaceful Freedom Vigil to stand in solidarity with immigrant families and demand an end to the detention and deportation of our nonviolent\, law-abiding immigrant community neighbors\, siblings\, and friends. These vigils shine a light on the erosion of due process and the rise of authoritarian overreach. We pray for family reunification and justice for all immigrants. Together\, we affirm that justice\, compassion\, and the rule of law must apply to everyone—regardless of immigration status. \n\n\n\nDetails: \n\n\n\nSundays 4-5 pm \n\n\n\nPinellas County Courthouse14250 49th Street N (corner of 144 Ave N & 49th St N)Clearwater\, FL 33762 \n\n\n\nRegister:https://flic.fyi/727vigil
URL:https://lwvspa.org/event/vigil-for-immigrant-justice-2/2026-04-12/
LOCATION:Pinellas County Courthouse\, 14450 49th Street N\, Clearwater\, Florida\, 33762\, United States
END:VEVENT
BEGIN:VEVENT
DTSTART;TZID=UTC:20260415T183000
DTEND;TZID=UTC:20260415T193000
DTSTAMP:20260423T113858
CREATED:20210304T081922Z
LAST-MODIFIED:20260225T153810Z
UID:10000892-1776277800-1776281400@lwvspa.org
SUMMARY:Voter Services Committee
DESCRIPTION:Join with the Voter Services Leadership Team to hear about our Voter Guide\, Candidate Forums\, Voter Registration\, & Election and Voter Protection.  \n\n\n\n\n\n		Join Via Zoom
URL:https://lwvspa.org/event/voter-services-committee/2026-04-15/
LOCATION:FL
END:VEVENT
BEGIN:VEVENT
DTSTART;TZID=America/New_York:20260415T190000
DTEND;TZID=America/New_York:20260415T200000
DTSTAMP:20260423T113858
CREATED:20260412T122437Z
LAST-MODIFIED:20260412T122520Z
UID:10002476-1776279600-1776283200@lwvspa.org
SUMMARY:Say No to Mid-Decade Redistricting in Florida: Zoom
DESCRIPTION:LWVFL will host a webinar to help inform League members and the public about mid-decade redistricting. \n\n\n\nPlease join us for this one-hour session that will offer attendees a brief background on redistricting\, current status of redistricting efforts in Florida\, and LWVFL’s position. Rosemary Niles of the LWVFL Speakers Bureau will lead this informative discussion. This webinar is free and open to the public. \n\n\n\n\n\n\n\n\n\n		RSVP Here
URL:https://lwvspa.org/event/say-no-to-mid-decade-redistricting-in-florida-zoom/
LOCATION:FL
END:VEVENT
BEGIN:VEVENT
DTSTART;TZID=America/New_York:20260417T190000
DTEND;TZID=America/New_York:20260417T220000
DTSTAMP:20260423T113858
CREATED:20260313T154806Z
LAST-MODIFIED:20260320T181621Z
UID:10002397-1776452400-1776463200@lwvspa.org
SUMMARY:More Than Orange Blossoms: Feisty\, Fabulous Females of Florida
DESCRIPTION:Hosted by the Gulfport Historical Society. \n\n\n\nThough not always in the history books\, the women who helped build\, form\, shape\, and develop the state have inspired hope and possibility. This presentation highlights stories of strong\, courageous women like Julia Tuttle\, known as the Mother of Miami\, or Mary McLeod Bethune\, daughter of enslaved parents who went on to become an advisor to several US presidents\, and other brave women who influenced and impacted their communities\, Florida\, and the nation. Discover and rediscover some of the women who grew and shaped the state! \n\n\n\nAn internationally celebrated storyteller\, teaching artist\, and Chautauqua scholar\, Carrie Sue Ayvar is the recipient of multiple awards for service\, leadership\, and dedication to the art of storytelling and education. Her bilingual blend of traditional\, historical\, and personal tales connects the people\, languages\, and cultures of Florida. Attendance is free\, but a donation helps the Gulfport Historical Society continue to offer great programs like this one! \n\n\n\nFunding for this Florida Talks program was provided in part by Florida Humanities. Any views\, findings\, conclusions or recommendations expressed in this program do not necessarily represent those of Florida Humanities. \n\n\n\n\n\n		RSVP Here
URL:https://lwvspa.org/event/more-than-orange-blossoms-feisty-fabulous-females-of-florida/
LOCATION:Gulfport Public Library\, 5501 28th Avenue S\, Gulfport\, Florida\, 33703\, United States
END:VEVENT
BEGIN:VEVENT
DTSTART;TZID=America/New_York:20260418T110000
DTEND;TZID=America/New_York:20260418T143000
DTSTAMP:20260423T113858
CREATED:20250918T192022Z
LAST-MODIFIED:20260221T195554Z
UID:10002163-1776510000-1776522600@lwvspa.org
SUMMARY:2026 Annual Meeting & Luncheon
DESCRIPTION:Our fun and inspiring Luncheon includes keynote speaker Dianna Wynn\, President of the League of Women Voters of the United States. \n\n\n\nThe Annual Meeting\, held just prior to the Luncheon\, is where League members conduct business including: \n\n\n\n\nProgram Adoption\n\n\n\nState of the League\n\n\n\nOfficer and Board Director Nomination Slate\n\n\n\nBylaws Adoption\n\n\n\nYearly Budget Adoption\n\n\n\n\n\n\n		Buy Luncheon Tickets
URL:https://lwvspa.org/event/2026-annual-meeting-luncheon/
LOCATION:Banquet Masters\, 13355 49th St N\, Clearwater\, Florida\, 33762\, United States
ATTACH;FMTTYPE=image/png:https://lwvspa.org/wp-content/uploads/2026-annual-meeting.png
END:VEVENT
END:VCALENDAR