BEGIN:VCALENDAR
VERSION:2.0
PRODID:-//LWVSPA - ECPv6.15.20//NONSGML v1.0//EN
CALSCALE:GREGORIAN
METHOD:PUBLISH
X-ORIGINAL-URL:https://lwvspa.org
X-WR-CALDESC:Events for LWVSPA
REFRESH-INTERVAL;VALUE=DURATION:PT1H
X-Robots-Tag:noindex
X-PUBLISHED-TTL:PT1H
BEGIN:VTIMEZONE
TZID:America/New_York
BEGIN:DAYLIGHT
TZOFFSETFROM:-0500
TZOFFSETTO:-0400
TZNAME:EDT
DTSTART:20250309T070000
END:DAYLIGHT
BEGIN:STANDARD
TZOFFSETFROM:-0400
TZOFFSETTO:-0500
TZNAME:EST
DTSTART:20251102T060000
END:STANDARD
BEGIN:DAYLIGHT
TZOFFSETFROM:-0500
TZOFFSETTO:-0400
TZNAME:EDT
DTSTART:20260308T070000
END:DAYLIGHT
BEGIN:STANDARD
TZOFFSETFROM:-0400
TZOFFSETTO:-0500
TZNAME:EST
DTSTART:20261101T060000
END:STANDARD
BEGIN:DAYLIGHT
TZOFFSETFROM:-0500
TZOFFSETTO:-0400
TZNAME:EDT
DTSTART:20270314T070000
END:DAYLIGHT
BEGIN:STANDARD
TZOFFSETFROM:-0400
TZOFFSETTO:-0500
TZNAME:EST
DTSTART:20271107T060000
END:STANDARD
END:VTIMEZONE
BEGIN:VTIMEZONE
TZID:UTC
BEGIN:STANDARD
TZOFFSETFROM:+0000
TZOFFSETTO:+0000
TZNAME:UTC
DTSTART:20250101T000000
END:STANDARD
END:VTIMEZONE
BEGIN:VEVENT
DTSTART;TZID=America/New_York:20260419T170000
DTEND;TZID=America/New_York:20260419T180000
DTSTAMP:20260423T114023
CREATED:20260415T145959Z
LAST-MODIFIED:20260415T150001Z
UID:10002477-1776618000-1776621600@lwvspa.org
SUMMARY:Vigil for Immigrant Justice
DESCRIPTION:The Pinellas/Hillsborough Interfaith Coalition\, LWVSPA\, and our allies host a peaceful Freedom Vigil to stand in solidarity with immigrant families and demand an end to the detention and deportation of our nonviolent\, law-abiding immigrant community neighbors\, siblings\, and friends. These vigils shine a light on the erosion of due process and the rise of authoritarian overreach. We pray for family reunification and justice for all immigrants. Together\, we affirm that justice\, compassion\, and the rule of law must apply to everyone—regardless of immigration status. \n\n\n\nDetails: \n\n\n\nSundays 5-6 pm \n\n\n\nPinellas County Courthouse14250 49th Street N (corner of 144 Ave N & 49th St N)Clearwater\, FL 33762 \n\n\n\nRegister:https://flic.fyi/727vigil
URL:https://lwvspa.org/event/vigil-for-immigrant-justice-3/2026-04-19/
LOCATION:Pinellas County Courthouse\, 14450 49th Street N\, Clearwater\, Florida\, 33762\, United States
END:VEVENT
BEGIN:VEVENT
DTSTART;TZID=America/New_York:20260420T183000
DTEND;TZID=America/New_York:20260420T200000
DTSTAMP:20260423T114023
CREATED:20260121T165239Z
LAST-MODIFIED:20260121T165331Z
UID:10001898-1776709800-1776715200@lwvspa.org
SUMMARY:Board Meeting - CANCELED
DESCRIPTION:We will not be meeting on 4/20/26. Email office@lwvspa.org with any questions.
URL:https://lwvspa.org/event/board-meeting-5/
LOCATION:FL
END:VEVENT
BEGIN:VEVENT
DTSTART;TZID=America/New_York:20260421T110000
DTEND;TZID=America/New_York:20260421T120000
DTSTAMP:20260423T114023
CREATED:20251009T161432Z
LAST-MODIFIED:20251009T161451Z
UID:10002172-1776769200-1776772800@lwvspa.org
SUMMARY:Communications Committee Meeting
DESCRIPTION:The LWVSPA Communications Committee meets monthly via Zoom. Email office@lwvspa.org for the link if you’d like to get involved.
URL:https://lwvspa.org/event/communications-committee-meeting-2/2026-04-21/
LOCATION:FL
END:VEVENT
BEGIN:VEVENT
DTSTART;TZID=UTC:20260422T133000
DTEND;TZID=UTC:20260422T143000
DTSTAMP:20260423T114023
CREATED:20260120T193720Z
LAST-MODIFIED:20260120T193721Z
UID:10002283-1776864600-1776868200@lwvspa.org
SUMMARY:Committee on Membership
DESCRIPTION:Contact chair\, Amy Weintraub\, for more teleconference link or for more info.
URL:https://lwvspa.org/event/committee-on-membership-8/2026-04-22/
LOCATION:FL
END:VEVENT
END:VCALENDAR