BEGIN:VCALENDAR
VERSION:2.0
PRODID:-//LWVSPA - ECPv6.15.20//NONSGML v1.0//EN
CALSCALE:GREGORIAN
METHOD:PUBLISH
X-ORIGINAL-URL:https://lwvspa.org
X-WR-CALDESC:Events for LWVSPA
REFRESH-INTERVAL;VALUE=DURATION:PT1H
X-Robots-Tag:noindex
X-PUBLISHED-TTL:PT1H
BEGIN:VTIMEZONE
TZID:America/New_York
BEGIN:DAYLIGHT
TZOFFSETFROM:-0500
TZOFFSETTO:-0400
TZNAME:EDT
DTSTART:20250309T070000
END:DAYLIGHT
BEGIN:STANDARD
TZOFFSETFROM:-0400
TZOFFSETTO:-0500
TZNAME:EST
DTSTART:20251102T060000
END:STANDARD
BEGIN:DAYLIGHT
TZOFFSETFROM:-0500
TZOFFSETTO:-0400
TZNAME:EDT
DTSTART:20260308T070000
END:DAYLIGHT
BEGIN:STANDARD
TZOFFSETFROM:-0400
TZOFFSETTO:-0500
TZNAME:EST
DTSTART:20261101T060000
END:STANDARD
BEGIN:DAYLIGHT
TZOFFSETFROM:-0500
TZOFFSETTO:-0400
TZNAME:EDT
DTSTART:20270314T070000
END:DAYLIGHT
BEGIN:STANDARD
TZOFFSETFROM:-0400
TZOFFSETTO:-0500
TZNAME:EST
DTSTART:20271107T060000
END:STANDARD
END:VTIMEZONE
BEGIN:VTIMEZONE
TZID:UTC
BEGIN:STANDARD
TZOFFSETFROM:+0000
TZOFFSETTO:+0000
TZNAME:UTC
DTSTART:20250101T000000
END:STANDARD
END:VTIMEZONE
BEGIN:VEVENT
DTSTART;TZID=America/New_York:20260517T100000
DTEND;TZID=America/New_York:20260517T113000
DTSTAMP:20260423T131004
CREATED:20260127T155556Z
LAST-MODIFIED:20260415T153000Z
UID:10002356-1779012000-1779017400@lwvspa.org
SUMMARY:Parent Advocacy League May 2026
DESCRIPTION:The Parent Advocacy League (PAL) is a family-friendly space for parents and caregivers to connect\, learn\, and engage with the League of Women Voters of the St. Petersburg Area. \n\n\n\n📍Crisp Park Playground🕔 10:00 to 11:30 AMCome anytime! Short discussion with updates begins at 10:30 AM \n\n\n\n\n\n		RSVP Here!
URL:https://lwvspa.org/event/parent-advocacy-league-may-2026/
LOCATION:Crisp Park Playground\, Poplar St. NE. and 35th Ave. NE.\, St. Petersburg\, Florida\, 33711\, United States
ATTACH;FMTTYPE=image/png:https://lwvspa.org/wp-content/uploads/PAL-may-17.png
END:VEVENT
BEGIN:VEVENT
DTSTART;TZID=America/New_York:20260517T170000
DTEND;TZID=America/New_York:20260517T180000
DTSTAMP:20260423T131004
CREATED:20260415T145959Z
LAST-MODIFIED:20260415T150001Z
UID:10002481-1779037200-1779040800@lwvspa.org
SUMMARY:Vigil for Immigrant Justice
DESCRIPTION:The Pinellas/Hillsborough Interfaith Coalition\, LWVSPA\, and our allies host a peaceful Freedom Vigil to stand in solidarity with immigrant families and demand an end to the detention and deportation of our nonviolent\, law-abiding immigrant community neighbors\, siblings\, and friends. These vigils shine a light on the erosion of due process and the rise of authoritarian overreach. We pray for family reunification and justice for all immigrants. Together\, we affirm that justice\, compassion\, and the rule of law must apply to everyone—regardless of immigration status. \n\n\n\nDetails: \n\n\n\nSundays 5-6 pm \n\n\n\nPinellas County Courthouse14250 49th Street N (corner of 144 Ave N & 49th St N)Clearwater\, FL 33762 \n\n\n\nRegister:https://flic.fyi/727vigil
URL:https://lwvspa.org/event/vigil-for-immigrant-justice-3/2026-05-17/
LOCATION:Pinellas County Courthouse\, 14450 49th Street N\, Clearwater\, Florida\, 33762\, United States
END:VEVENT
BEGIN:VEVENT
DTSTART;TZID=America/New_York:20260518T183000
DTEND;TZID=America/New_York:20260518T200000
DTSTAMP:20260423T131004
CREATED:20250218T162007Z
LAST-MODIFIED:20250620T132519Z
UID:10001899-1779129000-1779134400@lwvspa.org
SUMMARY:Board Meeting
DESCRIPTION:If any LWVSPA member wishes to address the board\, they should email the president at president@lwvspa.org to get on the agenda and to receive meeting info (such as location or Zoom login).
URL:https://lwvspa.org/event/board-meeting-4/2026-05-18/
LOCATION:FL
END:VEVENT
BEGIN:VEVENT
DTSTART;TZID=America/New_York:20260519T110000
DTEND;TZID=America/New_York:20260519T120000
DTSTAMP:20260423T131004
CREATED:20251009T161432Z
LAST-MODIFIED:20251009T161451Z
UID:10002173-1779188400-1779192000@lwvspa.org
SUMMARY:Communications Committee Meeting
DESCRIPTION:The LWVSPA Communications Committee meets monthly via Zoom. Email office@lwvspa.org for the link if you’d like to get involved.
URL:https://lwvspa.org/event/communications-committee-meeting-2/2026-05-19/
LOCATION:FL
END:VEVENT
BEGIN:VEVENT
DTSTART;TZID=UTC:20260520T183000
DTEND;TZID=UTC:20260520T193000
DTSTAMP:20260423T131004
CREATED:20210304T081922Z
LAST-MODIFIED:20260225T153810Z
UID:10000893-1779301800-1779305400@lwvspa.org
SUMMARY:Voter Services Committee
DESCRIPTION:Join with the Voter Services Leadership Team to hear about our Voter Guide\, Candidate Forums\, Voter Registration\, & Election and Voter Protection.  \n\n\n\n\n\n		Join Via Zoom
URL:https://lwvspa.org/event/voter-services-committee/2026-05-20/
LOCATION:FL
END:VEVENT
END:VCALENDAR